BEGIN:VCALENDAR
VERSION:2.0
PRODID:-//Visit Ilfracombe - ECPv6.15.15//NONSGML v1.0//EN
CALSCALE:GREGORIAN
METHOD:PUBLISH
X-ORIGINAL-URL:https://www.visitilfracombe.co.uk
X-WR-CALDESC:Events for Visit Ilfracombe
REFRESH-INTERVAL;VALUE=DURATION:PT1H
X-Robots-Tag:noindex
X-PUBLISHED-TTL:PT1H
BEGIN:VTIMEZONE
TZID:Europe/London
BEGIN:DAYLIGHT
TZOFFSETFROM:+0000
TZOFFSETTO:+0100
TZNAME:BST
DTSTART:20240331T010000
END:DAYLIGHT
BEGIN:STANDARD
TZOFFSETFROM:+0100
TZOFFSETTO:+0000
TZNAME:GMT
DTSTART:20241027T010000
END:STANDARD
BEGIN:DAYLIGHT
TZOFFSETFROM:+0000
TZOFFSETTO:+0100
TZNAME:BST
DTSTART:20250330T010000
END:DAYLIGHT
BEGIN:STANDARD
TZOFFSETFROM:+0100
TZOFFSETTO:+0000
TZNAME:GMT
DTSTART:20251026T010000
END:STANDARD
BEGIN:DAYLIGHT
TZOFFSETFROM:+0000
TZOFFSETTO:+0100
TZNAME:BST
DTSTART:20260329T010000
END:DAYLIGHT
BEGIN:STANDARD
TZOFFSETFROM:+0100
TZOFFSETTO:+0000
TZNAME:GMT
DTSTART:20261025T010000
END:STANDARD
BEGIN:DAYLIGHT
TZOFFSETFROM:+0000
TZOFFSETTO:+0100
TZNAME:BST
DTSTART:20270328T010000
END:DAYLIGHT
BEGIN:STANDARD
TZOFFSETFROM:+0100
TZOFFSETTO:+0000
TZNAME:GMT
DTSTART:20271031T010000
END:STANDARD
END:VTIMEZONE
BEGIN:VEVENT
DTSTART;TZID=Europe/London:20260327T193000
DTEND;TZID=Europe/London:20260327T220000
DTSTAMP:20260421T101005
CREATED:20260128T091647Z
LAST-MODIFIED:20260128T091647Z
UID:10005867-1774639800-1774648800@www.visitilfracombe.co.uk
SUMMARY:The Habits
DESCRIPTION:
URL:https://www.visitilfracombe.co.uk/event/the-habits/2026-03-27/
LOCATION:The Space\, Wilder Road\, Ilfracombe\, EX34 9AW
CATEGORIES:Ilfracombe Events
ATTACH;FMTTYPE=image/jpeg:https://www.visitilfracombe.co.uk/wp-content/uploads/2026/01/The-Habits-22098-1769031783802-m.jpg
END:VEVENT
BEGIN:VEVENT
DTSTART;TZID=Europe/London:20260326T193000
DTEND;TZID=Europe/London:20260326T220000
DTSTAMP:20260421T101005
CREATED:20260128T091647Z
LAST-MODIFIED:20260128T091647Z
UID:10005866-1774553400-1774562400@www.visitilfracombe.co.uk
SUMMARY:The Habits
DESCRIPTION:
URL:https://www.visitilfracombe.co.uk/event/the-habits/2026-03-26/
LOCATION:The Space\, Wilder Road\, Ilfracombe\, EX34 9AW
CATEGORIES:Ilfracombe Events
ATTACH;FMTTYPE=image/jpeg:https://www.visitilfracombe.co.uk/wp-content/uploads/2026/01/The-Habits-22098-1769031783802-m.jpg
END:VEVENT
BEGIN:VEVENT
DTSTART;TZID=Europe/London:20260325T193000
DTEND;TZID=Europe/London:20260325T220000
DTSTAMP:20260421T101005
CREATED:20260128T091647Z
LAST-MODIFIED:20260128T091647Z
UID:10005865-1774467000-1774476000@www.visitilfracombe.co.uk
SUMMARY:The Habits
DESCRIPTION:
URL:https://www.visitilfracombe.co.uk/event/the-habits/2026-03-25/
LOCATION:The Space\, Wilder Road\, Ilfracombe\, EX34 9AW
CATEGORIES:Ilfracombe Events
ATTACH;FMTTYPE=image/jpeg:https://www.visitilfracombe.co.uk/wp-content/uploads/2026/01/The-Habits-22098-1769031783802-m.jpg
END:VEVENT
BEGIN:VEVENT
DTSTART;TZID=Europe/London:20260317T190000
DTEND;TZID=Europe/London:20260317T213000
DTSTAMP:20260421T101005
CREATED:20260223T134125Z
LAST-MODIFIED:20260223T134125Z
UID:10005981-1773774000-1773783000@www.visitilfracombe.co.uk
SUMMARY:FREE Musical Theatre Worshops
DESCRIPTION:Small Pond Productions is excited to announce a series of theatre workshops for ages 15+\, running throughout March at The Space\, Ilfracombe\, Led by Lee Baxendale. These workshops have been made possible by a Flourishing Culture grant from North Devon Council. \nThese workshops are designed to be fun\, inclusive\, and no-pressure\, giving participants the chance to explore musical theatre\, socialise\, and build confidence. Come along even if you only want to sing along! \nWe are especially keen to encourage under-represented groups (including men!) to get involved\, whether they have theatre experience or are completely new. \nEach week\, we’ll be singing\, acting\, and staging a song from a different hit musical\, giving participants the chance to develop performance skills in a supportive\, creative environment. \nSpaces are limited\, so we encourage participants to sign up early. \nYou can book directly here: https://www.ticketsource.com/the-space-ilfracombe/sp-sing-stage-workshop/e-vrmkrp \nThese workshops are a great opportunity for community members to: \n\n\nMake new friends and socialise \n\n\nDevelop confidence and performance skills \n\n\nEnjoy a creative\, supportive environment \n\n\nExperience the joy of musical theatre \n\n\nFor any questions\, contact us at smallpondinfo@gmail.com. \nThank you for helping us bring theatre to more people in Ilfracombe!
URL:https://www.visitilfracombe.co.uk/event/free-musical-theatre-worshops/2026-03-17/
LOCATION:The Space\, Wilder Road\, Ilfracombe\, EX34 9AW
CATEGORIES:Ilfracombe Events
ATTACH;FMTTYPE=image/jpeg:https://www.visitilfracombe.co.uk/wp-content/uploads/2026/02/sp-wshop.jpg
END:VEVENT
BEGIN:VEVENT
DTSTART;TZID=Europe/London:20260310T190000
DTEND;TZID=Europe/London:20260310T213000
DTSTAMP:20260421T101005
CREATED:20260223T134125Z
LAST-MODIFIED:20260223T134125Z
UID:10005980-1773169200-1773178200@www.visitilfracombe.co.uk
SUMMARY:FREE Musical Theatre Worshops
DESCRIPTION:Small Pond Productions is excited to announce a series of theatre workshops for ages 15+\, running throughout March at The Space\, Ilfracombe\, Led by Lee Baxendale. These workshops have been made possible by a Flourishing Culture grant from North Devon Council. \nThese workshops are designed to be fun\, inclusive\, and no-pressure\, giving participants the chance to explore musical theatre\, socialise\, and build confidence. Come along even if you only want to sing along! \nWe are especially keen to encourage under-represented groups (including men!) to get involved\, whether they have theatre experience or are completely new. \nEach week\, we’ll be singing\, acting\, and staging a song from a different hit musical\, giving participants the chance to develop performance skills in a supportive\, creative environment. \nSpaces are limited\, so we encourage participants to sign up early. \nYou can book directly here: https://www.ticketsource.com/the-space-ilfracombe/sp-sing-stage-workshop/e-vrmkrp \nThese workshops are a great opportunity for community members to: \n\n\nMake new friends and socialise \n\n\nDevelop confidence and performance skills \n\n\nEnjoy a creative\, supportive environment \n\n\nExperience the joy of musical theatre \n\n\nFor any questions\, contact us at smallpondinfo@gmail.com. \nThank you for helping us bring theatre to more people in Ilfracombe!
URL:https://www.visitilfracombe.co.uk/event/free-musical-theatre-worshops/2026-03-10/
LOCATION:The Space\, Wilder Road\, Ilfracombe\, EX34 9AW
CATEGORIES:Ilfracombe Events
ATTACH;FMTTYPE=image/jpeg:https://www.visitilfracombe.co.uk/wp-content/uploads/2026/02/sp-wshop.jpg
END:VEVENT
BEGIN:VEVENT
DTSTART;TZID=Europe/London:20260303T190000
DTEND;TZID=Europe/London:20260303T213000
DTSTAMP:20260421T101005
CREATED:20260223T134125Z
LAST-MODIFIED:20260223T134125Z
UID:10005979-1772564400-1772573400@www.visitilfracombe.co.uk
SUMMARY:FREE Musical Theatre Worshops
DESCRIPTION:Small Pond Productions is excited to announce a series of theatre workshops for ages 15+\, running throughout March at The Space\, Ilfracombe\, Led by Lee Baxendale. These workshops have been made possible by a Flourishing Culture grant from North Devon Council. \nThese workshops are designed to be fun\, inclusive\, and no-pressure\, giving participants the chance to explore musical theatre\, socialise\, and build confidence. Come along even if you only want to sing along! \nWe are especially keen to encourage under-represented groups (including men!) to get involved\, whether they have theatre experience or are completely new. \nEach week\, we’ll be singing\, acting\, and staging a song from a different hit musical\, giving participants the chance to develop performance skills in a supportive\, creative environment. \nSpaces are limited\, so we encourage participants to sign up early. \nYou can book directly here: https://www.ticketsource.com/the-space-ilfracombe/sp-sing-stage-workshop/e-vrmkrp \nThese workshops are a great opportunity for community members to: \n\n\nMake new friends and socialise \n\n\nDevelop confidence and performance skills \n\n\nEnjoy a creative\, supportive environment \n\n\nExperience the joy of musical theatre \n\n\nFor any questions\, contact us at smallpondinfo@gmail.com. \nThank you for helping us bring theatre to more people in Ilfracombe!
URL:https://www.visitilfracombe.co.uk/event/free-musical-theatre-worshops/2026-03-03/
LOCATION:The Space\, Wilder Road\, Ilfracombe\, EX34 9AW
CATEGORIES:Ilfracombe Events
ATTACH;FMTTYPE=image/jpeg:https://www.visitilfracombe.co.uk/wp-content/uploads/2026/02/sp-wshop.jpg
END:VEVENT
BEGIN:VEVENT
DTSTART;TZID=Europe/London:20250719T193000
DTEND;TZID=Europe/London:20250719T220000
DTSTAMP:20260421T101005
CREATED:20250617T091855Z
LAST-MODIFIED:20250716T084943Z
UID:10001683-1752953400-1752962400@www.visitilfracombe.co.uk
SUMMARY:Absent Friends
DESCRIPTION:Studio Theatre Ilfracombe presents Alan Ayckborn’s dark comedy – Absent Friends
URL:https://www.visitilfracombe.co.uk/event/absent-friends-2/2025-07-19/
LOCATION:The Space\, Wilder Road\, Ilfracombe\, EX34 9AW
CATEGORIES:Ilfracombe Events
ATTACH;FMTTYPE=image/jpeg:https://www.visitilfracombe.co.uk/wp-content/uploads/2025/06/Absent-Friends-1000038578.jpg
END:VEVENT
BEGIN:VEVENT
DTSTART;TZID=Europe/London:20250718T193000
DTEND;TZID=Europe/London:20250718T220000
DTSTAMP:20260421T101005
CREATED:20250617T091855Z
LAST-MODIFIED:20250716T084943Z
UID:10001682-1752867000-1752876000@www.visitilfracombe.co.uk
SUMMARY:Absent Friends
DESCRIPTION:Studio Theatre Ilfracombe presents Alan Ayckborn’s dark comedy – Absent Friends
URL:https://www.visitilfracombe.co.uk/event/absent-friends-2/2025-07-18/
LOCATION:The Space\, Wilder Road\, Ilfracombe\, EX34 9AW
CATEGORIES:Ilfracombe Events
ATTACH;FMTTYPE=image/jpeg:https://www.visitilfracombe.co.uk/wp-content/uploads/2025/06/Absent-Friends-1000038578.jpg
END:VEVENT
BEGIN:VEVENT
DTSTART;TZID=Europe/London:20250717T193000
DTEND;TZID=Europe/London:20250717T220000
DTSTAMP:20260421T101005
CREATED:20250617T091855Z
LAST-MODIFIED:20250716T084943Z
UID:10000209-1752780600-1752789600@www.visitilfracombe.co.uk
SUMMARY:Absent Friends
DESCRIPTION:Studio Theatre Ilfracombe presents Alan Ayckborn’s dark comedy – Absent Friends
URL:https://www.visitilfracombe.co.uk/event/absent-friends-2/2025-07-17/
LOCATION:The Space\, Wilder Road\, Ilfracombe\, EX34 9AW
CATEGORIES:Ilfracombe Events
ATTACH;FMTTYPE=image/jpeg:https://www.visitilfracombe.co.uk/wp-content/uploads/2025/06/Absent-Friends-1000038578.jpg
END:VEVENT
END:VCALENDAR