BEGIN:VCALENDAR
VERSION:2.0
PRODID:-//Visit Ilfracombe - ECPv6.15.15//NONSGML v1.0//EN
CALSCALE:GREGORIAN
METHOD:PUBLISH
X-WR-CALNAME:Visit Ilfracombe
X-ORIGINAL-URL:https://www.visitilfracombe.co.uk
X-WR-CALDESC:Events for Visit Ilfracombe
REFRESH-INTERVAL;VALUE=DURATION:PT1H
X-Robots-Tag:noindex
X-PUBLISHED-TTL:PT1H
BEGIN:VTIMEZONE
TZID:Europe/London
BEGIN:DAYLIGHT
TZOFFSETFROM:+0000
TZOFFSETTO:+0100
TZNAME:BST
DTSTART:20250330T010000
END:DAYLIGHT
BEGIN:STANDARD
TZOFFSETFROM:+0100
TZOFFSETTO:+0000
TZNAME:GMT
DTSTART:20251026T010000
END:STANDARD
BEGIN:DAYLIGHT
TZOFFSETFROM:+0000
TZOFFSETTO:+0100
TZNAME:BST
DTSTART:20260329T010000
END:DAYLIGHT
BEGIN:STANDARD
TZOFFSETFROM:+0100
TZOFFSETTO:+0000
TZNAME:GMT
DTSTART:20261025T010000
END:STANDARD
BEGIN:DAYLIGHT
TZOFFSETFROM:+0000
TZOFFSETTO:+0100
TZNAME:BST
DTSTART:20270328T010000
END:DAYLIGHT
BEGIN:STANDARD
TZOFFSETFROM:+0100
TZOFFSETTO:+0000
TZNAME:GMT
DTSTART:20271031T010000
END:STANDARD
END:VTIMEZONE
BEGIN:VEVENT
DTSTART;TZID=Europe/London:20260817T100000
DTEND;TZID=Europe/London:20260817T160000
DTSTAMP:20260422T001650
CREATED:20260211T095607Z
LAST-MODIFIED:20260211T100349Z
UID:10005926-1786960800-1786982400@www.visitilfracombe.co.uk
SUMMARY:Ilfracombe Monday Market
DESCRIPTION:Ilfracombe Market is a seasonal harbour-side market. Open every Monday from late May to the end of August (Weather permitting).\n\nBringing together local traders\, handmade crafts\, artisan products and family-friendly themed events.
URL:https://www.visitilfracombe.co.uk/event/ilfracombe-monday-market/2026-08-17/
LOCATION:Seafront\, Ilfracombe\, EX34 9AR
CATEGORIES:Ilfracombe Events
ATTACH;FMTTYPE=image/jpeg:https://www.visitilfracombe.co.uk/wp-content/uploads/2026/02/market-632334119_855880884104715_4983852053479446283_n.jpg
END:VEVENT
BEGIN:VEVENT
DTSTART;TZID=Europe/London:20260819T100000
DTEND;TZID=Europe/London:20260819T130000
DTSTAMP:20260422T001650
CREATED:20250624T125439Z
LAST-MODIFIED:20250717T144702Z
UID:10000840-1787133600-1787144400@www.visitilfracombe.co.uk
SUMMARY:Wellbeing Wednesday
DESCRIPTION:A weekly Wellbeing Group – based around the 5 steps to wellbeing: Connect\, Be active\, Give\, Learn and Take notice – weekly arts and crafts\, wellbeing walks and free drinks and a light lunch. A very friendly group open to all (designed for age 18+).
URL:https://www.visitilfracombe.co.uk/event/wellbeing-wednesday/2026-08-19/
LOCATION:The Lantern\, Lantern Youth & Community Centre\, High Street\, Ilfracombe\, EX34 9QB
CATEGORIES:Community Events
ATTACH;FMTTYPE=image/jpeg:https://www.visitilfracombe.co.uk/wp-content/uploads/2025/06/Wellbeing-Wednesday.jpg
END:VEVENT
BEGIN:VEVENT
DTSTART;TZID=Europe/London:20260822T120000
DTEND;TZID=Europe/London:20260822T170000
DTSTAMP:20260422T001650
CREATED:20260220T101125Z
LAST-MODIFIED:20260220T101125Z
UID:10005960-1787400000-1787418000@www.visitilfracombe.co.uk
SUMMARY:Ilfracombe Soap Box Derby
DESCRIPTION:The town’s Soapbox Derby organised by Ilfracombe round Table. \nBrave/foolhardy teams with fast and funny vehicles will tear down our track overlooking Ilfracombe Harbour. \nStart your engines! We’re gearing up for our Ilfracombe Soapbox Derby — and it’s going to be epic! Join us down Larkstone Lane\, Ilfracombe\, for a day packed with speed\, creativity\, and community fun.
URL:https://www.visitilfracombe.co.uk/event/ilfracombe-soap-box-derby/
LOCATION:Marine Drive\, Ilfracombe\, EX34 9FQ
CATEGORIES:Ilfracombe Events
ATTACH;FMTTYPE=image/jpeg:https://www.visitilfracombe.co.uk/wp-content/uploads/2026/02/Soap-Box-523814736_1188772209949176_4742698300228910922_n-727x1024-1.jpg
END:VEVENT
END:VCALENDAR