BEGIN:VCALENDAR
VERSION:2.0
PRODID:-//Visit Ilfracombe - ECPv6.15.15//NONSGML v1.0//EN
CALSCALE:GREGORIAN
METHOD:PUBLISH
X-ORIGINAL-URL:https://www.visitilfracombe.co.uk
X-WR-CALDESC:Events for Visit Ilfracombe
REFRESH-INTERVAL;VALUE=DURATION:PT1H
X-Robots-Tag:noindex
X-PUBLISHED-TTL:PT1H
BEGIN:VTIMEZONE
TZID:Europe/London
BEGIN:DAYLIGHT
TZOFFSETFROM:+0000
TZOFFSETTO:+0100
TZNAME:BST
DTSTART:20250330T010000
END:DAYLIGHT
BEGIN:STANDARD
TZOFFSETFROM:+0100
TZOFFSETTO:+0000
TZNAME:GMT
DTSTART:20251026T010000
END:STANDARD
BEGIN:DAYLIGHT
TZOFFSETFROM:+0000
TZOFFSETTO:+0100
TZNAME:BST
DTSTART:20260329T010000
END:DAYLIGHT
BEGIN:STANDARD
TZOFFSETFROM:+0100
TZOFFSETTO:+0000
TZNAME:GMT
DTSTART:20261025T010000
END:STANDARD
BEGIN:DAYLIGHT
TZOFFSETFROM:+0000
TZOFFSETTO:+0100
TZNAME:BST
DTSTART:20270328T010000
END:DAYLIGHT
BEGIN:STANDARD
TZOFFSETFROM:+0100
TZOFFSETTO:+0000
TZNAME:GMT
DTSTART:20271031T010000
END:STANDARD
END:VTIMEZONE
BEGIN:VEVENT
DTSTART;VALUE=DATE:20260220
DTEND;VALUE=DATE:20260228
DTSTAMP:20260421T135241
CREATED:20260219T100806Z
LAST-MODIFIED:20260219T100806Z
UID:10005956-1771560000-1772164799@www.visitilfracombe.co.uk
SUMMARY:Embassy Cinema
DESCRIPTION:Friday 20th February to Thursday 26th February 2026 \n Wuthering Heights 135mins \nFri Sat 14:35 16:30 19:30 Sun 14:35 16:30 19:30 \nMon 16:30 19:45 Tues Wed 16:30 19:30 \nThurs 14:00 19:30 \nCrime 101 140mins \nFri Sat 19:45  Sun 19:45  Mon Tues Wed 19:15 \nThurs 16:45 \n Send Help 113mins \nFri 17:00 \n H is for Hawk 115mins \nWed 17:20 \nHamnet 125mins \nTues 17:00 Thurs 13:45 \n Iron Lung 124mins \nSun 20:00 \n The Housemaid 130mins \nSat 16:50 \n Cold Storage 98mins \nFri Sat Tues Wed 20:00 Sun 17:00  Thurs 17:00 \nMon 17:25 \n Scream 7 113mins \nThurs 19:50 \nI Swear 120mins \nThurs 13:30 \n Marty Supreme 150mins \nMon 19:30 \nThe Tale Of Silyan 80mins \nSun 17:45 \n SpongeBob Movie: Search For SquarePants 90mins \nFri Sat Sun 12:20 \nGOAT 100mins \nFri Sat 11:30 14:00 17:35 Sun 11:30 14:00 \nMon Tues Wed 16:45  Thurs 16:20 \n Zootropolis 2 108mins \nFri Sat Sun 14:15 \n Day The Earth Blew Up: A Looney Tunes Movie 90mins \nSat 12:00 \n Stitch Head 90mins \nFri Sun 12:00 \n The Scarecrow’s Wedding & The Smeds And The Smoos Toddler Cinema 60mins \nSat 10:30 \n NT Live: The Audience 180mins \nThurs 19:00
URL:https://www.visitilfracombe.co.uk/event/embassy-cinema-18/
LOCATION:Embassy Cinema\, 134 High Street\, Ilfracombe\, EX34 9EZ
CATEGORIES:Ilfracombe Events
ATTACH;FMTTYPE=image/jpeg:https://www.visitilfracombe.co.uk/wp-content/uploads/2026/02/Embassy.jpg
END:VEVENT
BEGIN:VEVENT
DTSTART;VALUE=DATE:20260220
DTEND;VALUE=DATE:20260228
DTSTAMP:20260421T135241
CREATED:20260220T102715Z
LAST-MODIFIED:20260220T102715Z
UID:10005964-1771560000-1772164799@www.visitilfracombe.co.uk
SUMMARY:Weekly gig listing
DESCRIPTION:Here is this weekend’s round up of live music in our local venues. Lets get out there and swing our pants!! 😍🥁🎹🎸🤘🎙️ \nFriday 20 February\nNothing But Treble\, The Barn\, 6.00\nNorth Devon Gang Show\, Landmark\, 6.45 (Ticketed)\nOpen Mic\, Grampus (Lee)\, 8.00\nDr Goth (Vinyl DJ)\, Prince of Wales\, 8.30\nDJ Scotty + Sasha\, The Lamb 1893\, 8.30\nRick Tucker\, George & Dragon\, 9.00\nTwisted in a Layby/EXPX/MilkPale\, Snug & Hyde\, 9.00 \nSaturday 21 February\nNorth Devon Gang Show\, Landmark\, 6.00 (Ticketed)\nThe Atomic Black\, Ship & Pilot\, 9.00\nSam Dowden\, George & Dragon\, 9.00\nDave Rich\, Wellington Arms\, 9.30\nELECTRICK Nights\, Snug & Hyde\, 10-3 (House/Techno) \nSunday 22 February\nOpen Mic\, Sandpiper\, 3.00\nAll for Jolly\, Ship and Pilot\, 5.00 \nFull listing maintained on Facebook at Live Music in Ilfracombe (featured post)
URL:https://www.visitilfracombe.co.uk/event/weekly-gig-listing-34/
LOCATION:Ilfracombe\, Ilfracombe\, Devon\, United Kingdom
CATEGORIES:Ilfracombe Events
ATTACH;FMTTYPE=image/jpeg:https://www.visitilfracombe.co.uk/wp-content/uploads/2025/08/Music.jpg
END:VEVENT
BEGIN:VEVENT
DTSTART;TZID=Europe/London:20260225T100000
DTEND;TZID=Europe/London:20260225T130000
DTSTAMP:20260421T135241
CREATED:20250624T125439Z
LAST-MODIFIED:20250717T144702Z
UID:10000815-1772013600-1772024400@www.visitilfracombe.co.uk
SUMMARY:Wellbeing Wednesday
DESCRIPTION:A weekly Wellbeing Group – based around the 5 steps to wellbeing: Connect\, Be active\, Give\, Learn and Take notice – weekly arts and crafts\, wellbeing walks and free drinks and a light lunch. A very friendly group open to all (designed for age 18+).
URL:https://www.visitilfracombe.co.uk/event/wellbeing-wednesday/2026-02-25/
LOCATION:The Lantern\, Lantern Youth & Community Centre\, High Street\, Ilfracombe\, EX34 9QB
CATEGORIES:Community Events
ATTACH;FMTTYPE=image/jpeg:https://www.visitilfracombe.co.uk/wp-content/uploads/2025/06/Wellbeing-Wednesday.jpg
END:VEVENT
BEGIN:VEVENT
DTSTART;VALUE=DATE:20260227
DTEND;VALUE=DATE:20260307
DTSTAMP:20260421T135241
CREATED:20260226T092306Z
LAST-MODIFIED:20260226T092306Z
UID:10005986-1772164800-1772769599@www.visitilfracombe.co.uk
SUMMARY:Embassy Cinema
DESCRIPTION:Friday 27th February to Thursday 5th March 2026 \n Wuthering Heights 135mins \nFri Mon 16:30 19:30 Sat 13:40  19:45 \nSun 13:40  19:45   Tues Wed 19:30 \nThurs 14:00 16:30 19:30 \n Scream 7 113mins \nFri Sat Mon 17:00  20:00 Sun 17:00  20:00 \nTues 17:00  20:00  Wed 16:45 20:00 \nThurs 17:00 20:00 \nHamnet 125mins \nFri Mon 17:15 Wed 17:15  Thurs 13:30 \nI Swear 120mins \nTues 16:45 Thurs 16:15 \n One Battle After Another 162mins \nSat 19:00 Sun 19:00 Thurs 19:00 \nEPiC: Elvis Presley In Concert 90mins \nFri Mon 19:45  Sat Sun 17:45 Tues 16:30 \nWed 17:00 Thurs 14:15 \nGOAT 100mins \nSat 11:15  15:15 Sun 10:30 12:40 15:15 \n The SpongeBob Movie: Search For SquarePants 90mins \nSun 11:15 \n Zootropolis 2 108mins \nSat 12:30 \n Hoppers 105mins \nSat Sun 11:30 14:00 16:30 \n The Scarecrow’s Wedding & The Smeds And The Smoos Toddler Cinema 60mins \nSat 10:30 \nRBO 2025-26 The Royal Ballet: Giselle 210mins \nTues 19:15 \n Shakespeare’s Othello 164mins \nWed 19:15 \n 
URL:https://www.visitilfracombe.co.uk/event/embassy-cinema-19/
LOCATION:Embassy Cinema\, 134 High Street\, Ilfracombe\, EX34 9EZ
CATEGORIES:Ilfracombe Events
ATTACH;FMTTYPE=image/jpeg:https://www.visitilfracombe.co.uk/wp-content/uploads/2026/02/Embassy.jpg
END:VEVENT
BEGIN:VEVENT
DTSTART;VALUE=DATE:20260227
DTEND;VALUE=DATE:20260307
DTSTAMP:20260421T135241
CREATED:20260227T124937Z
LAST-MODIFIED:20260227T124937Z
UID:10005987-1772164800-1772769599@www.visitilfracombe.co.uk
SUMMARY:Weekly gig listing
DESCRIPTION:Plenty going on in our live music venues this weekend 🤘🎸🎶🎙️🎹😍🥁 \nFriday 27 February\nNothing But Treble\, The Barn (Woolacombe)\,\nOpen Mic\, Grampus (Lee)\, 8.00\nThe Greater Good Band\, The Lamb 1893\, 9.00\nFull Circle\, George & Dragon\, 9.00\nDr Goth Vinyl DJ\, Prince of Wales \nSaturday 28 February\nJoey Taylor\, The Lamb 1893\, 8.30\nKnow Your Enemy\, Sandpiper\, 9.00 (RATM tribute)\nBasil’s Balls Up Band\, George & Dragon\, 9.00\nFalling Apart\, Wellington Arms\, 9.30 \nSunday 1 March\nOpen Mic\, Sandpiper\, 3.00\nOpen Mic\, George & Dragon\, 8.00 \nFull listing maintained on Facebook at Live Music in Ilfracombe (featured post)
URL:https://www.visitilfracombe.co.uk/event/weekly-gig-listing-35/
LOCATION:Ilfracombe\, Ilfracombe\, Devon\, United Kingdom
CATEGORIES:Ilfracombe Events
ATTACH;FMTTYPE=image/jpeg:https://www.visitilfracombe.co.uk/wp-content/uploads/2025/08/Music.jpg
END:VEVENT
BEGIN:VEVENT
DTSTART;VALUE=DATE:20260228
DTEND;VALUE=DATE:20260308
DTSTAMP:20260421T135241
CREATED:20260218T161910Z
LAST-MODIFIED:20260218T162104Z
UID:10005955-1772251200-1772855999@www.visitilfracombe.co.uk
SUMMARY:Locals Free Entry at Arlington Court (EX postcodes)
DESCRIPTION:From 28 February to 6 March\, enjoy a week of free fun at Arlington Court and the National Trust Carriage Museum. Explore the impressive Regency house and collections\, along with the gardens and pleasure grounds. Take part in our signs of spring spotter trail and pop into the café for a yummy treat.\n\nTo gain free entry\, simply bring along your driving license or bill to prove you live in an EX postcode area. TA22\, TA24 postcodes also welcome.\n\nPlease note\, parking charges still apply.\n\nYou can also meet local artists at work in the activity room throughout the week:\n– Rosie (printmaker and painter) and Red (leather worker) – Saturday 28 February & Sunday 1 March– Emma Turner (linocut printmaker) – demonstration and drop-in session on Tuesday 3 & Wednesday 4 March\n\nPlan your visit here: https://bit.ly/Arlington-Court
URL:https://www.visitilfracombe.co.uk/event/locals-free-entry-at-arlington-court-ex-postcodes/
LOCATION:Arlington Court\, Arlington Court National Trust\, Barnstaple\, EX31 4LP
CATEGORIES:North Devon Events
ATTACH;FMTTYPE=image/jpeg:https://www.visitilfracombe.co.uk/wp-content/uploads/2026/02/615768392_903401192048654_7825370398788546312_n.jpg
ORGANIZER;CN="North Devon National Trust":MAILTO:northdevon@nationaltrust.org.uk
END:VEVENT
BEGIN:VEVENT
DTSTART;TZID=Europe/London:20260228T170000
DTEND;TZID=Europe/London:20260228T190000
DTSTAMP:20260421T135241
CREATED:20260212T093938Z
LAST-MODIFIED:20260212T093938Z
UID:10005943-1772298000-1772305200@www.visitilfracombe.co.uk
SUMMARY:Alice in Wonderland
DESCRIPTION:Guided by the Red and White Queens of the Looking Glass\, Alice navigates a surreal world populated by peculiar characters with whimsical manners and puzzling dialogues. in hope of becoming Queen herself. \n 
URL:https://www.visitilfracombe.co.uk/event/alice-in-wonderland/
LOCATION:The Landmark Theatre\, The Landmark Theatre\, Promenade\, Ilfracombe\, Devon\, EX34 9BZ\, United Kingdom
CATEGORIES:Ilfracombe Events
ATTACH;FMTTYPE=image/jpeg:https://www.visitilfracombe.co.uk/wp-content/uploads/2026/02/Alice-in-Wonderland-ALICE-WEB-IMAGE.jpg
END:VEVENT
BEGIN:VEVENT
DTSTART;TZID=Europe/London:20260301T100000
DTEND;TZID=Europe/London:20260301T150000
DTSTAMP:20260421T135241
CREATED:20260208T111435Z
LAST-MODIFIED:20260208T111732Z
UID:10005881-1772359200-1772377200@www.visitilfracombe.co.uk
SUMMARY:Ilfracombe Swimarathon
DESCRIPTION:Ilfracombe Lions Club run the Swimarathon at the Ilfracombe Pool & Fitness Centre each year. The Swimarathon is open to all ages and all abilities and it’s a really fun way to raise money for your chosen charity or organisation. Teams of no more than six swim in lane for about 55 minutes. \nThe teams collect their sponsorship money. The money is split 50/50 with the Lions who have been raising money for local good causes and people in need for over 40 years. \nIf you’d like to enter a team or know more please contact ilfracombeanddistrictlionsclub@gmail.com
URL:https://www.visitilfracombe.co.uk/event/ilfracombe-swimarathon/
LOCATION:Ilfracombe Swimming Pool\, Hillsborough Road\, Ilfracombe\, Devon\, EX34 9QG\, United Kingdom
CATEGORIES:Community Events,Ilfracombe Events
ATTACH;FMTTYPE=image/jpeg:https://www.visitilfracombe.co.uk/wp-content/uploads/2026/02/Swimarathon-486556934_1088406763321230_8778954689510179943_n-1.jpg
END:VEVENT
END:VCALENDAR