BEGIN:VCALENDAR
VERSION:2.0
PRODID:-//Visit Ilfracombe - ECPv6.15.15//NONSGML v1.0//EN
CALSCALE:GREGORIAN
METHOD:PUBLISH
X-ORIGINAL-URL:https://www.visitilfracombe.co.uk
X-WR-CALDESC:Events for Visit Ilfracombe
REFRESH-INTERVAL;VALUE=DURATION:PT1H
X-Robots-Tag:noindex
X-PUBLISHED-TTL:PT1H
BEGIN:VTIMEZONE
TZID:Europe/London
BEGIN:DAYLIGHT
TZOFFSETFROM:+0000
TZOFFSETTO:+0100
TZNAME:BST
DTSTART:20250330T010000
END:DAYLIGHT
BEGIN:STANDARD
TZOFFSETFROM:+0100
TZOFFSETTO:+0000
TZNAME:GMT
DTSTART:20251026T010000
END:STANDARD
BEGIN:DAYLIGHT
TZOFFSETFROM:+0000
TZOFFSETTO:+0100
TZNAME:BST
DTSTART:20260329T010000
END:DAYLIGHT
BEGIN:STANDARD
TZOFFSETFROM:+0100
TZOFFSETTO:+0000
TZNAME:GMT
DTSTART:20261025T010000
END:STANDARD
BEGIN:DAYLIGHT
TZOFFSETFROM:+0000
TZOFFSETTO:+0100
TZNAME:BST
DTSTART:20270328T010000
END:DAYLIGHT
BEGIN:STANDARD
TZOFFSETFROM:+0100
TZOFFSETTO:+0000
TZNAME:GMT
DTSTART:20271031T010000
END:STANDARD
END:VTIMEZONE
BEGIN:VEVENT
DTSTART;VALUE=DATE:20260116
DTEND;VALUE=DATE:20260124
DTSTAMP:20260421T222453
CREATED:20260114T111325Z
LAST-MODIFIED:20260114T111325Z
UID:10005219-1768536000-1769140799@www.visitilfracombe.co.uk
SUMMARY:Embassy Cinema
DESCRIPTION:Friday 16th January to Thursday 22nd January 2026 \nHamnet 125mins \nFri Tue 16:30 19:40 Sat Thu 13:40 16:30 19:20               Sun 13:40 16:30 19:20 Mon Wed 16:30 19:20 \nSong Sung Blue 130mins \nThu 13:15 16:00 \n Avatar: Fire And Ash 195mins \nFri Tue 19:20 Sat 13:00 Sun 13:00 \nThe SpongeBob Movie:Search for SquarePants95mins \nSat Sun 11:15 \nZootropolis 2 108mins \nSat 11:30 14:10 Sun 11:30 14:10 \n Pets on a Train 85mins \nSat 11:00 Sun 11:00 \n 28 Years Later: The Bone Temple 109mins \nFri Mon 17:00 20:00 Wed 17:00 20:00 Thu 17:00  \n20:00 Sat 17:15 20:00 Sun 17:00 20:00    \nMarty Supreme 150mins \nFri Sun Tue Wed 16:45 Sat Mon 19:40 Thu 14:00 \n The Housemaid 130mins \nSat Mon 16:45 Sun 19:40  Wed 19:40 \nNTLive: Hamlet 178mins \nThu 19:00 \n  \n  \n  \n  \n  \n  \n 
URL:https://www.visitilfracombe.co.uk/event/embassy-cinema-13/
LOCATION:Embassy Cinema\, 134 High Street\, Ilfracombe\, EX34 9EZ
CATEGORIES:Ilfracombe Events
ATTACH;FMTTYPE=image/jpeg:https://www.visitilfracombe.co.uk/wp-content/uploads/2025/10/Embassy.jpg
END:VEVENT
BEGIN:VEVENT
DTSTART;VALUE=DATE:20260116
DTEND;VALUE=DATE:20260124
DTSTAMP:20260421T222453
CREATED:20260116T103759Z
LAST-MODIFIED:20260116T163616Z
UID:10005224-1768536000-1769140799@www.visitilfracombe.co.uk
SUMMARY:Weekly gig listing
DESCRIPTION:Here is what is in store for us this week 🥁🎶🎙️🎹🎸🤘 \nFriday 16 January\nWallace\, Monkey Puzzle\, 6.30\nOpen Mic\, Grampus (Lee)\, 8.00\nJukebox Karaoke with DJ Ronnie\, 1893\, 8.00\nDrew Neirin & Marie Louise\, George & Dragon\, 9.00 \nSaturday 17 January\nDean Murphy and MiLkpale\, Prince of Wales\, 8.30\nSt Fian\, George & Dragon\, 9.00\nAdam Cumber\, Wellington Arms\, 9.30 \nSunday 18 January\nOpen Mic\, Sandpiper\, 3.00 \nWednesday 21 January\nWednesdays Children Open Mic\, Royal Britannia\, 7.00\nOpen mic\, George & Dragon\, 8.00 \nWeekly events\nFridays – Open Mic\, Grampus (Lee)\, 8.00\nSundays – Open Mic\, Sandpiper\, 3.00\nWednesdays (alternate)\, Wednesdays Children Open Mic\, Royal Britannia\, 7.00\nThursdays – Karaoke with Danny\, Snug & Hyde\, 8.00 \nFull listing maintained on Facebook at Live Music in Ilfracombe (featured post)
URL:https://www.visitilfracombe.co.uk/event/weekly-gig-listing-30/
LOCATION:Ilfracombe\, Ilfracombe\, Devon\, United Kingdom
CATEGORIES:Ilfracombe Events
ATTACH;FMTTYPE=image/jpeg:https://www.visitilfracombe.co.uk/wp-content/uploads/2025/08/Music.jpg
END:VEVENT
BEGIN:VEVENT
DTSTART;TZID=Europe/London:20260121T100000
DTEND;TZID=Europe/London:20260121T130000
DTSTAMP:20260421T222453
CREATED:20250624T125439Z
LAST-MODIFIED:20250717T144702Z
UID:10000810-1768989600-1769000400@www.visitilfracombe.co.uk
SUMMARY:Wellbeing Wednesday
DESCRIPTION:A weekly Wellbeing Group – based around the 5 steps to wellbeing: Connect\, Be active\, Give\, Learn and Take notice – weekly arts and crafts\, wellbeing walks and free drinks and a light lunch. A very friendly group open to all (designed for age 18+).
URL:https://www.visitilfracombe.co.uk/event/wellbeing-wednesday/2026-01-21/
LOCATION:The Lantern\, Lantern Youth & Community Centre\, High Street\, Ilfracombe\, EX34 9QB
CATEGORIES:Community Events
ATTACH;FMTTYPE=image/jpeg:https://www.visitilfracombe.co.uk/wp-content/uploads/2025/06/Wellbeing-Wednesday.jpg
END:VEVENT
BEGIN:VEVENT
DTSTART;TZID=Europe/London:20260122T190000
DTEND;TZID=Europe/London:20260122T210000
DTSTAMP:20260421T222453
CREATED:20251230T114322Z
LAST-MODIFIED:20251230T114322Z
UID:10005171-1769108400-1769115600@www.visitilfracombe.co.uk
SUMMARY:NT Live: Hamlet
DESCRIPTION:Olivier Award-winner Hiran Abeysekera (Life of Pi) is Hamlet in this fearless\, contemporary take on Shakespeare’s famous tragedy. \nTrapped between duty and doubt\, surrounded by power and privilege\, young Prince Hamlet dares to ask the ultimate question – you know the one.
URL:https://www.visitilfracombe.co.uk/event/nt-live-hamlet/
LOCATION:The Landmark Theatre\, The Landmark Theatre\, Promenade\, Ilfracombe\, Devon\, EX34 9BZ\, United Kingdom
CATEGORIES:Ilfracombe Events
ATTACH;FMTTYPE=image/jpeg:https://www.visitilfracombe.co.uk/wp-content/uploads/2025/12/Hamlet-jhb-1-1440x810-1.jpg
END:VEVENT
BEGIN:VEVENT
DTSTART;VALUE=DATE:20260123
DTEND;VALUE=DATE:20260131
DTSTAMP:20260421T222453
CREATED:20260121T135749Z
LAST-MODIFIED:20260121T135749Z
UID:10005591-1769140800-1769745599@www.visitilfracombe.co.uk
SUMMARY:Embassy Cinema
DESCRIPTION:Friday 23rd January to Thursday 30th January 2026  \n 28 Years Later: The Bone Temple 109mins \nFri Sat Mon Tue Wed Thu 17:15  20:00                      Sun 17:15  20:15  \nHamnet 125mins \nFri Sat Mon Tue Wed 16:30 19:20 Sun 16:30 19:20     \nThu 13:30 16:20 \n The Housemaid 130mins \nFri Thu 17:00 19:45  Sat Mon Wed 17:00                  Sun 19:45    Tue 19:45 \nMarty Supreme 150mins \nSat Mon Wed 19:45  Sun 17:00 Thu 13:45 \n Stitch Head 90mins \nSat Sun 12:00 14:15 \n Avatar: Fire And Ash 195mins \nSat Sun 13:00 Thu 19:00 \nSong Sung Blue 130mins \nTue 17:00 Thu 14:15 \nThe SpongeBob Movie:Search for SquarePants90mins \nSat Sun 12:20 \nZootropolis 2 108mins \nSat Sun 14:40  \n  \n  \n  \n  \n  \n 
URL:https://www.visitilfracombe.co.uk/event/embassy-cinema-14/
LOCATION:Embassy Cinema\, 134 High Street\, Ilfracombe\, EX34 9EZ
CATEGORIES:Ilfracombe Events
ATTACH;FMTTYPE=image/jpeg:https://www.visitilfracombe.co.uk/wp-content/uploads/2025/10/Embassy.jpg
END:VEVENT
BEGIN:VEVENT
DTSTART;VALUE=DATE:20260123
DTEND;VALUE=DATE:20260131
DTSTAMP:20260421T222453
CREATED:20260123T102239Z
LAST-MODIFIED:20260123T102239Z
UID:10005595-1769140800-1769745599@www.visitilfracombe.co.uk
SUMMARY:Weekly gig listing
DESCRIPTION:Here is your weekly digest of live music in our local venues. Let’s get out there and swing our pants! 😍🤘🥁🎶🎙️🎹🎸 \nFriday 23 January\nCal White\, Monkey Puzzle\, 6.30\nOpen Mic\, Grampus (Lee)\, 8.00\nBicycle Repair Man\, 1893\, 8.30\nHenry Wallace\, George & Dragon\, 9.00 \nSaturday 24 January\nPeter Bruntnell\, George & Dragon\, 9.00\nBad Trafic\, 1893\, 9.30 \nSunday 25 January\nOpen Mic\, Sandpiper\, 3.00\nDan Sheehan\, Ship and Pilot\, 5.00\nThursday 29 January\nKaraoke with Danny\, Snug & Hyde\, 8.00 \nFull listing maintained on Facebook at Live Music in Ilfracombe (featured post)
URL:https://www.visitilfracombe.co.uk/event/weekly-gig-listing-31/
LOCATION:Ilfracombe\, Ilfracombe\, Devon\, United Kingdom
CATEGORIES:Ilfracombe Events
ATTACH;FMTTYPE=image/jpeg:https://www.visitilfracombe.co.uk/wp-content/uploads/2025/08/Music.jpg
END:VEVENT
BEGIN:VEVENT
DTSTART;TZID=Europe/London:20260123T190000
DTEND;TZID=Europe/London:20260123T220000
DTSTAMP:20260421T222453
CREATED:20260116T103556Z
LAST-MODIFIED:20260116T103556Z
UID:10005223-1769194800-1769205600@www.visitilfracombe.co.uk
SUMMARY:Burns Supper
DESCRIPTION:
URL:https://www.visitilfracombe.co.uk/event/burns-supper/
LOCATION:St Peters Church\, Highfield Road\, Ilfracombe\, EX34 9LH
CATEGORIES:Ilfracombe Events
ATTACH;FMTTYPE=image/jpeg:https://www.visitilfracombe.co.uk/wp-content/uploads/2026/01/615820196_4532304327002598_1473112297721053828_n.jpg
END:VEVENT
END:VCALENDAR