BEGIN:VCALENDAR
VERSION:2.0
PRODID:-//Visit Ilfracombe - ECPv6.15.15//NONSGML v1.0//EN
CALSCALE:GREGORIAN
METHOD:PUBLISH
X-ORIGINAL-URL:https://www.visitilfracombe.co.uk
X-WR-CALDESC:Events for Visit Ilfracombe
REFRESH-INTERVAL;VALUE=DURATION:PT1H
X-Robots-Tag:noindex
X-PUBLISHED-TTL:PT1H
BEGIN:VTIMEZONE
TZID:Europe/London
BEGIN:DAYLIGHT
TZOFFSETFROM:+0000
TZOFFSETTO:+0100
TZNAME:BST
DTSTART:20240331T010000
END:DAYLIGHT
BEGIN:STANDARD
TZOFFSETFROM:+0100
TZOFFSETTO:+0000
TZNAME:GMT
DTSTART:20241027T010000
END:STANDARD
BEGIN:DAYLIGHT
TZOFFSETFROM:+0000
TZOFFSETTO:+0100
TZNAME:BST
DTSTART:20250330T010000
END:DAYLIGHT
BEGIN:STANDARD
TZOFFSETFROM:+0100
TZOFFSETTO:+0000
TZNAME:GMT
DTSTART:20251026T010000
END:STANDARD
BEGIN:DAYLIGHT
TZOFFSETFROM:+0000
TZOFFSETTO:+0100
TZNAME:BST
DTSTART:20260329T010000
END:DAYLIGHT
BEGIN:STANDARD
TZOFFSETFROM:+0100
TZOFFSETTO:+0000
TZNAME:GMT
DTSTART:20261025T010000
END:STANDARD
BEGIN:DAYLIGHT
TZOFFSETFROM:+0000
TZOFFSETTO:+0100
TZNAME:BST
DTSTART:20270328T010000
END:DAYLIGHT
BEGIN:STANDARD
TZOFFSETFROM:+0100
TZOFFSETTO:+0000
TZNAME:GMT
DTSTART:20271031T010000
END:STANDARD
END:VTIMEZONE
BEGIN:VEVENT
DTSTART;VALUE=DATE:20251121
DTEND;VALUE=DATE:20251129
DTSTAMP:20260422T054323
CREATED:20251121T101530Z
LAST-MODIFIED:20251121T101530Z
UID:10005137-1763697600-1764302399@www.visitilfracombe.co.uk
SUMMARY:Weekly gig listing
DESCRIPTION:Plenty going on in our local music venues this weekend. Lets get out there and swing our pants. 🎵🎙️🤘🎸🎹🥁😍 \nFriday 21 November\nSasha Brennand\, Monkey Puzzle\, 6.30\nOpen Mic\, Grampus (Lee)\, 8.00\nHatchet Jack\, Prince of Wales\, 8.30\nDan Sheehan\, George & Dragon\, 9.00\nBad Trafic\, 1893\, 9.30 \nSaturday 22 November\nScuttlebutt Shanty Singers\, Lifeboat Station\, 3.00\nCoral Ann\, Prince of Wales\, 8.00\nGreater Good Band\, Ship and Pilot\, 9.00\nBeckon The Wyrd\, Sandpiper\, 9.00\nJacob Terry\, George & Dragon\, 9.00\nHarry Wallace\, Wellington Arms\, 9.30 \nSunday 23 November\nOpen Mic\, Sandpiper\, 3.00 \nWeekly events\nFridays – Open Mic\, Grampus (Lee)\, 8.00\nSundays – Open Mic\, Sandpiper\, 3.00\nTuesdays – Open Mic\, Snug & Hyde\, 9.00\nThursdays – Open Mic\, Prince of Wales\, 8.00\nThursdays – Karaoke with Danny\, Snug & Hyde\, 8.00 \nFull listing maintained on Facebook at Live Music in Ilfracombe (featured post)
URL:https://www.visitilfracombe.co.uk/event/weekly-gig-listing-23/
LOCATION:Ilfracombe\, Ilfracombe\, Devon\, United Kingdom
CATEGORIES:Ilfracombe Events
ATTACH;FMTTYPE=image/jpeg:https://www.visitilfracombe.co.uk/wp-content/uploads/2025/08/Music.jpg
END:VEVENT
BEGIN:VEVENT
DTSTART;TZID=Europe/London:20251122T100000
DTEND;TZID=Europe/London:20260104T160000
DTSTAMP:20260422T054323
CREATED:20251101T172111Z
LAST-MODIFIED:20251101T172111Z
UID:10005121-1763805600-1767542400@www.visitilfracombe.co.uk
SUMMARY:A Nutcracker Christmas at Arlington Court
DESCRIPTION:This Christmas\, experience the magic of The Nutcracker at Arlington Court as the house transforms into the enchanting lands of the classic story. Wander through rooms of shimmering snow\, blooming flowers\, twinkling lights and sweet delights. \nIn the grounds\, the festive fun continues with a mince pie mystery trail around the Old Lake walk\, the playful Twelve Days of Christmas critters in the garden\, and a charming gourd nativity. \nWith evening openings\, festive treats in the tea-room\, Christmas shopping\, and the chance to bring a friend for free\, there’s something for every member of the family to enjoy. \nChristmas opening times\n22 November – 18 December\nSat – Tuesday\, 10am – 4pm (last entry to the house 3pm)\n19 Dec – 4 Jan*\nOpen daily\, 10am – 3pm (last entry to the house 1:30pm)\n*Excluding 24 – 26 Dec \nTo see full events and opening times at Arlington Court this Christmas\, please visit: https://bit.ly/ChristmasAtArlington2025
URL:https://www.visitilfracombe.co.uk/event/a-nutcracker-christmas-at-arlington-court/
LOCATION:Arlington Court\, Arlington Court National Trust\, Barnstaple\, EX31 4LP
CATEGORIES:North Devon Events
ATTACH;FMTTYPE=image/jpeg:https://www.visitilfracombe.co.uk/wp-content/uploads/2025/10/Visit-devon-Christmas.jpg
ORGANIZER;CN="North Devon National Trust":MAILTO:northdevon@nationaltrust.org.uk
END:VEVENT
BEGIN:VEVENT
DTSTART;TZID=Europe/London:20251125T183000
DTEND;TZID=Europe/London:20251125T203000
DTSTAMP:20260422T054323
CREATED:20251005T131838Z
LAST-MODIFIED:20251005T131838Z
UID:10004989-1764095400-1764102600@www.visitilfracombe.co.uk
SUMMARY:Christmas Wreath Workshop
DESCRIPTION:
URL:https://www.visitilfracombe.co.uk/event/christmas-wreath-workshop-2/
LOCATION:Santiago’s\, St James Place\, Ilfracombe\, EX34 9BH
CATEGORIES:Ilfracombe Events
ATTACH;FMTTYPE=image/jpeg:https://www.visitilfracombe.co.uk/wp-content/uploads/2025/10/Santiago-Red-Green-and-White-Hand-Drawn-Christmas-Wreath-Instagram-Post-A4.jpg
END:VEVENT
BEGIN:VEVENT
DTSTART;TZID=Europe/London:20251126T100000
DTEND;TZID=Europe/London:20251126T130000
DTSTAMP:20260422T054323
CREATED:20250624T125439Z
LAST-MODIFIED:20250717T144702Z
UID:10000802-1764151200-1764162000@www.visitilfracombe.co.uk
SUMMARY:Wellbeing Wednesday
DESCRIPTION:A weekly Wellbeing Group – based around the 5 steps to wellbeing: Connect\, Be active\, Give\, Learn and Take notice – weekly arts and crafts\, wellbeing walks and free drinks and a light lunch. A very friendly group open to all (designed for age 18+).
URL:https://www.visitilfracombe.co.uk/event/wellbeing-wednesday/2025-11-26/
LOCATION:The Lantern\, Lantern Youth & Community Centre\, High Street\, Ilfracombe\, EX34 9QB
CATEGORIES:Community Events
ATTACH;FMTTYPE=image/jpeg:https://www.visitilfracombe.co.uk/wp-content/uploads/2025/06/Wellbeing-Wednesday.jpg
END:VEVENT
BEGIN:VEVENT
DTSTART;TZID=Europe/London:20251127T190000
DTEND;TZID=Europe/London:20251127T210000
DTSTAMP:20260422T054323
CREATED:20251106T101844Z
LAST-MODIFIED:20251106T101844Z
UID:10005125-1764270000-1764277200@www.visitilfracombe.co.uk
SUMMARY:Hele Mill - Its Place In The History And Landscape Of North Devon
DESCRIPTION:A talk by current owner David Jones exploring the vast history of this fascinating local building. \nRefreshments included. \nTickets available form the museum\, £5 or £4 for supporters\, the museum is currently open Tues – Fri 10am-4pm. \ninfo.ilfracombemuseum@gmail.com
URL:https://www.visitilfracombe.co.uk/event/hele-mill-its-place-in-the-history-and-landscape-of-north-devon/
LOCATION:Ilfracombe Museum\, Ilfracombe Museum\, Wilder Road\, Ilfracombe\, EX34 8AF\, United Kingdom
CATEGORIES:Ilfracombe Events
ATTACH;FMTTYPE=image/jpeg:https://www.visitilfracombe.co.uk/wp-content/uploads/2025/11/hele-mill-talk-2.jpg
ORGANIZER;CN="Ilfracombe Museum":MAILTO:info.ilfracombemuseum@gmail.com
END:VEVENT
BEGIN:VEVENT
DTSTART;VALUE=DATE:20251128
DTEND;VALUE=DATE:20251206
DTSTAMP:20260422T054323
CREATED:20251128T090805Z
LAST-MODIFIED:20251128T090805Z
UID:10005140-1764302400-1764907199@www.visitilfracombe.co.uk
SUMMARY:Weekly gig listing
DESCRIPTION:Lots going on in our local music venues this weekend! Plus it’s the Christmas Lights switch-on with music and entertainment on the High St between 6pm and 8pm Friday evening\, and there will be carols at Pip & Jim’s garden on Monday at 6pm as part of the harbour shopping event. \nFriday 28 November\nAmber Louise\, Monkey Puzzle\, 6.30\nPrince of Wales\, 8.00\nCoral Anne\, Liberal Club\, 8.00\nThe Kahunas\, Wellington Arms\, 9.30\nHarry Wallace\, George & Dragon\, 9.30 \nSaturday 29 November\nSasha Brennand (Christmas Songs)\, Aarons Charity Christmas Light Switch On\, 4.30 (16\, Furze Hill Road)\nPrince of Wales\, 8.00\nNeon Knights (the music of Black Sabbath)\, Sandpiper\, 9.00\nBasil’s Balls Up Band\, George & Dragon\, 9.00\nOllie Armitage\, Wellington Arms\, 9.30 \nWeekly events\nFridays – Open Mic\, Grampus (Lee)\, 8.00\nSundays – Open Mic\, Sandpiper\, 3.00\nTuesdays – Open Mic\, Snug & Hyde\, 9.00\nThursdays – Open Mic\, Prince of Wales\, 8.00\nThursdays – Karaoke with Danny\, Snug & Hyde\, 8.00 \nFull listing maintained on Facebook at Live Music in Ilfracombe (featured post)
URL:https://www.visitilfracombe.co.uk/event/weekly-gig-listing-24/
LOCATION:Ilfracombe\, Ilfracombe\, Devon\, United Kingdom
CATEGORIES:Ilfracombe Events
ATTACH;FMTTYPE=image/jpeg:https://www.visitilfracombe.co.uk/wp-content/uploads/2025/08/Music.jpg
END:VEVENT
BEGIN:VEVENT
DTSTART;VALUE=DATE:20251128
DTEND;VALUE=DATE:20251206
DTSTAMP:20260422T054323
CREATED:20251128T093802Z
LAST-MODIFIED:20251128T093802Z
UID:10005141-1764302400-1764907199@www.visitilfracombe.co.uk
SUMMARY:Embassy Cinema
DESCRIPTION:  \nFriday 28th November to Thursday 4th December 2025  \nZootropolis 108mins \nFri Mon Tue Wed 16:15 19:00 Sat 11:15 11:40 13:50 17:20 19:20  Sun 11:15 11:40 13:50 17:20 \n19:00  Thu 13:50 16:15 19:00 \nWicked For Good 138mins \nFri Mon Wed 16:30 19:40 Sat 12:50  14:15 16:30 19:40 Sun 12:50  14:15 16:30 19:40 \nThu 13:30  16:30 19:40 \n Nuremberg 148mins \nFri Mon Wed 19:20  Sat 16:00  Tue 16:45    \nThu 13:00 \nThe Choral 110mins \nMon Wed Thu 16:45   \n The Running Man 133mins \nSat 20:00 \nChristmas Karma 114mins \nFri 16:45  Sun 16:00  Thu 19:20 \n A PAW Patrol Christmas 65mins \nSat Sun 11:00 \n BFI Escapes: Eternity 114mins \nTue 20:00 \nWestlife-Royal Albert Hall 114mins \nSun 20:00
URL:https://www.visitilfracombe.co.uk/event/embassy-cinema-6/
LOCATION:Embassy Cinema\, 134 High Street\, Ilfracombe\, EX34 9EZ
CATEGORIES:Ilfracombe Events
ATTACH;FMTTYPE=image/jpeg:https://www.visitilfracombe.co.uk/wp-content/uploads/2025/10/Embassy.jpg
END:VEVENT
BEGIN:VEVENT
DTSTART;TZID=Europe/London:20251128T180000
DTEND;TZID=Europe/London:20251128T210000
DTSTAMP:20260422T054323
CREATED:20250307T124233Z
LAST-MODIFIED:20251128T102116Z
UID:10000015-1764352800-1764363600@www.visitilfracombe.co.uk
SUMMARY:Lighting of the Lights
DESCRIPTION:Ilfracombe\, get ready – here’s everything you need to know:\n\n🕕 Event Time: 6pm–9pm\n🚧 Road Closures: 5pm–9:30pm (see images for more info). Please also make sure your cars are removed from these areas.🚗🚫\n\n🏠The Lantern – HQ for lost children.\n\n🕯️ Lantern Parade:\n• Leaves The Candar at 6pm\n\n🎶 War Memorial Performances:\n• Chloe Aston\n• Holy Trinity Church Choir\n• Plus appearances from the Mayor\, Vicar\, and Town Crier. We also announce the winner of the William Pearce and Son Christmas Window Competition.🏆\n\n🎤 High Street Highlights:\n• Live performances\n• Stalls offering food\, drink\, crafts & charity goodies\n• Shops open late for festive browsing\n\nCome along\, join the glow\, and help us kick off Christmas in Combe in style! 🌟\n\n\n\n\n\n\n\n\nIf you are interested in having a stall for the evening\, please email events4ilfracombe@gmail.com with all your details
URL:https://www.visitilfracombe.co.uk/event/combe-christmas/
LOCATION:Ilfracombe\, Ilfracombe\, Devon\, United Kingdom
CATEGORIES:Ilfracombe Events
ATTACH;FMTTYPE=image/jpeg:https://www.visitilfracombe.co.uk/wp-content/uploads/2025/03/Combe_Christmas_2025_Original.jpg
END:VEVENT
BEGIN:VEVENT
DTSTART;TZID=Europe/London:20251128T183000
DTEND;TZID=Europe/London:20251128T203000
DTSTAMP:20260422T054323
CREATED:20251005T130059Z
LAST-MODIFIED:20251005T130243Z
UID:10004986-1764354600-1764361800@www.visitilfracombe.co.uk
SUMMARY:Christmas Wreath Workshop
DESCRIPTION:
URL:https://www.visitilfracombe.co.uk/event/christmas-wreath-workshop/
LOCATION:11 The Quay\, The Quay\, Ilfracombe\, EX34 9EQ
CATEGORIES:Ilfracombe Events
ATTACH;FMTTYPE=image/jpeg:https://www.visitilfracombe.co.uk/wp-content/uploads/2025/10/558687101_122205626096267762_4385291176857749585_n.jpg
END:VEVENT
BEGIN:VEVENT
DTSTART;TZID=Europe/London:20251129T100000
DTEND;TZID=Europe/London:20251129T160000
DTSTAMP:20260422T054323
CREATED:20251111T165044Z
LAST-MODIFIED:20251111T165219Z
UID:10005130-1764410400-1764432000@www.visitilfracombe.co.uk
SUMMARY:Landmark Theatre Christmas Market
DESCRIPTION:Join us for the Landmark Theatre’s Christmas Market! \n\n\n\n Saturday 29th & Sunday 30th November\n 10AM – 4PM\n\n\n\nGet into the festive spirit and explore a wonderful selection of local stalls\, perfect for Christmas shopping and seasonal treats!\n\n\n\nInterested in booking a stall?\nContact Caz Turner at  caz.turner@landmarktheatres.co.uk\n\n\n\n We can’t wait to celebrate the season with you!
URL:https://www.visitilfracombe.co.uk/event/landmark-theatre-christmas-market/2025-11-29/
LOCATION:The Landmark Theatre\, The Landmark Theatre\, Promenade\, Ilfracombe\, Devon\, EX34 9BZ\, United Kingdom
CATEGORIES:Ilfracombe Events
ATTACH;FMTTYPE=image/jpeg:https://www.visitilfracombe.co.uk/wp-content/uploads/2025/11/578794940_1515099523439180_7569084808178098386_n.jpg
ORGANIZER;CN="The Landmark Theatre":MAILTO:northdevon.tickets@landmarktheatres.co.uk
END:VEVENT
BEGIN:VEVENT
DTSTART;TZID=Europe/London:20251129T170000
DTEND;TZID=Europe/London:20251129T200000
DTSTAMP:20260422T054323
CREATED:20250908T104544Z
LAST-MODIFIED:20250919T104323Z
UID:10004499-1764435600-1764446400@www.visitilfracombe.co.uk
SUMMARY:Aaron's Charity Light Switch On
DESCRIPTION:
URL:https://www.visitilfracombe.co.uk/event/aarons-charity-light-switch-on/
LOCATION:16 Furze Hill Road\, Ilfracombe EX34 8HN
CATEGORIES:Ilfracombe Events
ATTACH;FMTTYPE=image/jpeg:https://www.visitilfracombe.co.uk/wp-content/uploads/2025/09/Aaron-updated-5c17b26f-3abd-45b2-8845-7e5c5c9234ff.jpg
END:VEVENT
BEGIN:VEVENT
DTSTART;TZID=Europe/London:20251129T180000
DTEND;TZID=Europe/London:20251129T200000
DTSTAMP:20260422T054323
CREATED:20250924T083148Z
LAST-MODIFIED:20251103T082710Z
UID:10004938-1764439200-1764446400@www.visitilfracombe.co.uk
SUMMARY:The Royal Ballet: Cinderella   
DESCRIPTION: Stuck at home and put to work by her spoiled Step-Sisters\, Cinderella’s life is dreary and dull. Everything changes when she helps a mysterious woman out…With a little bit of magic\, she is transported into an ethereal new world – one where fairies bring the gifts of the seasons\, where pumpkins turn into carriages\, and where true love awaits. \n 
URL:https://www.visitilfracombe.co.uk/event/the-royal-ballet-cinderella/
LOCATION:The Landmark Theatre\, The Landmark Theatre\, Promenade\, Ilfracombe\, Devon\, EX34 9BZ\, United Kingdom
CATEGORIES:Ilfracombe Events
ATTACH;FMTTYPE=image/jpeg:https://www.visitilfracombe.co.uk/wp-content/uploads/2025/09/Cinderell-Poster-Landscape.jpg
END:VEVENT
BEGIN:VEVENT
DTSTART;TZID=Europe/London:20251130T100000
DTEND;TZID=Europe/London:20251130T160000
DTSTAMP:20260422T054323
CREATED:20251111T165044Z
LAST-MODIFIED:20251111T165219Z
UID:10005131-1764496800-1764518400@www.visitilfracombe.co.uk
SUMMARY:Landmark Theatre Christmas Market
DESCRIPTION:Join us for the Landmark Theatre’s Christmas Market! \n\n\n\n Saturday 29th & Sunday 30th November\n 10AM – 4PM\n\n\n\nGet into the festive spirit and explore a wonderful selection of local stalls\, perfect for Christmas shopping and seasonal treats!\n\n\n\nInterested in booking a stall?\nContact Caz Turner at  caz.turner@landmarktheatres.co.uk\n\n\n\n We can’t wait to celebrate the season with you!
URL:https://www.visitilfracombe.co.uk/event/landmark-theatre-christmas-market/2025-11-30/
LOCATION:The Landmark Theatre\, The Landmark Theatre\, Promenade\, Ilfracombe\, Devon\, EX34 9BZ\, United Kingdom
CATEGORIES:Ilfracombe Events
ATTACH;FMTTYPE=image/jpeg:https://www.visitilfracombe.co.uk/wp-content/uploads/2025/11/578794940_1515099523439180_7569084808178098386_n.jpg
ORGANIZER;CN="The Landmark Theatre":MAILTO:northdevon.tickets@landmarktheatres.co.uk
END:VEVENT
BEGIN:VEVENT
DTSTART;TZID=Europe/London:20251130T110000
DTEND;TZID=Europe/London:20251130T160000
DTSTAMP:20260422T054323
CREATED:20250919T102752Z
LAST-MODIFIED:20250919T102752Z
UID:10004918-1764500400-1764518400@www.visitilfracombe.co.uk
SUMMARY:Mullacott Christmas Market
DESCRIPTION:
URL:https://www.visitilfracombe.co.uk/event/mullacott-christmas-market/
LOCATION:Mullacott Cross EX34 8PL\, Mullacott Cross\, Ilfracombe\, EX34 8PL
CATEGORIES:Community Events,Ilfracombe Events
ATTACH;FMTTYPE=image/jpeg:https://www.visitilfracombe.co.uk/wp-content/uploads/2025/09/Mullacott-Market-515022289_10163263035953700_486063275413540936_n.jpg
END:VEVENT
BEGIN:VEVENT
DTSTART;TZID=Europe/London:20251130T160000
DTEND;TZID=Europe/London:20251130T220000
DTSTAMP:20260422T054323
CREATED:20250908T103245Z
LAST-MODIFIED:20250912T074529Z
UID:10004497-1764518400-1764540000@www.visitilfracombe.co.uk
SUMMARY:Clovelly RNLI Christmas Lights
DESCRIPTION:Celebrate the festive season with the enchanting tradition of our RNLI’s Christmas Lights switch on. The village comes alive with holiday spirit as a local brass band leads a joyful procession down to the harbour\, accompanied by the singing of festive carols. At the harbour and Lifeboat Station\, you’ll find delicious treats\, and Christmas grog.
URL:https://www.visitilfracombe.co.uk/event/rnli-christmas-lights/
LOCATION:Clovelly\, Clovelly\, Devon
CATEGORIES:North Devon Events
ATTACH;FMTTYPE=image/jpeg:https://www.visitilfracombe.co.uk/wp-content/uploads/2025/09/Please-use-this-for-Christmas-Lights.jpeg
END:VEVENT
BEGIN:VEVENT
DTSTART;TZID=Europe/London:20251130T190000
DTEND;TZID=Europe/London:20251130T210000
DTSTAMP:20260422T054323
CREATED:20250924T083403Z
LAST-MODIFIED:20250924T083426Z
UID:10004939-1764529200-1764536400@www.visitilfracombe.co.uk
SUMMARY:NT Live: The Fifth Step
DESCRIPTION:The Fifth Step by David Ireland directed by Finn den Hertog \nAfter years in the 12-step programme of Alcoholics Anonymous\, James becomes a sponsor to newcomer Luka. The pair bond over black coffee\, trade stories and build a fragile friendship out of their shared experiences. But as Luka approaches step five – the moment of confession – dangerous truths emerge\, threatening the trust on which both of their recoveries depend.
URL:https://www.visitilfracombe.co.uk/event/nt-live-the-fifth-step/
LOCATION:The Landmark Theatre\, The Landmark Theatre\, Promenade\, Ilfracombe\, Devon\, EX34 9BZ\, United Kingdom
CATEGORIES:Ilfracombe Events
ATTACH;FMTTYPE=image/jpeg:https://www.visitilfracombe.co.uk/wp-content/uploads/2025/09/5th-Step.jpg
END:VEVENT
END:VCALENDAR