BEGIN:VCALENDAR
VERSION:2.0
PRODID:-//Visit Ilfracombe - ECPv6.15.15//NONSGML v1.0//EN
CALSCALE:GREGORIAN
METHOD:PUBLISH
X-WR-CALNAME:Visit Ilfracombe
X-ORIGINAL-URL:https://www.visitilfracombe.co.uk
X-WR-CALDESC:Events for Visit Ilfracombe
REFRESH-INTERVAL;VALUE=DURATION:PT1H
X-Robots-Tag:noindex
X-PUBLISHED-TTL:PT1H
BEGIN:VTIMEZONE
TZID:Europe/London
BEGIN:DAYLIGHT
TZOFFSETFROM:+0000
TZOFFSETTO:+0100
TZNAME:BST
DTSTART:20240331T010000
END:DAYLIGHT
BEGIN:STANDARD
TZOFFSETFROM:+0100
TZOFFSETTO:+0000
TZNAME:GMT
DTSTART:20241027T010000
END:STANDARD
BEGIN:DAYLIGHT
TZOFFSETFROM:+0000
TZOFFSETTO:+0100
TZNAME:BST
DTSTART:20250330T010000
END:DAYLIGHT
BEGIN:STANDARD
TZOFFSETFROM:+0100
TZOFFSETTO:+0000
TZNAME:GMT
DTSTART:20251026T010000
END:STANDARD
BEGIN:DAYLIGHT
TZOFFSETFROM:+0000
TZOFFSETTO:+0100
TZNAME:BST
DTSTART:20260329T010000
END:DAYLIGHT
BEGIN:STANDARD
TZOFFSETFROM:+0100
TZOFFSETTO:+0000
TZNAME:GMT
DTSTART:20261025T010000
END:STANDARD
END:VTIMEZONE
BEGIN:VEVENT
DTSTART;VALUE=DATE:20251107
DTEND;VALUE=DATE:20251115
DTSTAMP:20260422T143846
CREATED:20251107T092502Z
LAST-MODIFIED:20251107T092502Z
UID:10005126-1762488000-1763092799@www.visitilfracombe.co.uk
SUMMARY:Embassy Cinema
DESCRIPTION:Information Correct at time of going to press.  \nDetails or showtimes may be subject to change. \nFriday 7th November to Thursday 13th November 2025 \nPredator: Badlands 105mins \nFri Mon 17:30 20:00 Tue 17:30  20:00  Sat 15:00 17:30 20:00 Sun 15:00 17:30 20:00 Wed 17:15  20:00 Thu 14:15  17:30 \nThe Choral 110mins \nFri Mon Tue 16:45 19:20 Wed 16:45 19:20  Sat 14:20 16:45  19:20 \nSun 14:20  16:40  19:20 Thu 14:00 17:00 \n The Running Man 133mins \nTue 19:45 Wed 17:00 19:45 Thu 14:30 16:45 20:00 \nSpringsteen: Deliver Me From Nowhere 119mins \nFri 19:45  Sun 17:00  Tue 17:00 \nDownton Abbey: The Grand Finale 122mins \nMon 17:00 \n I Swear 120mins \nFri 17:00  Mon 19:45 \nRegretting You 115mins \nSat 17:00 Sun 19:45 \n A PAW Patrol Christmas 65mins \nSat Sun 13:15 \n Mystery Screening 140mins \nSat 19:45 \nUK Surf Cinema Tour 120mins \nThu 19:45 \nThe Bad Guys 103mins \nSat 14:00  Sun 14:00 \nJohn Cleese Packs It In 81mins \nThu 19:30
URL:https://www.visitilfracombe.co.uk/event/embassy-cinema-4/
LOCATION:Embassy Cinema\, 134 High Street\, Ilfracombe\, EX34 9EZ
CATEGORIES:Ilfracombe Events
ATTACH;FMTTYPE=image/jpeg:https://www.visitilfracombe.co.uk/wp-content/uploads/2025/10/Embassy.jpg
END:VEVENT
BEGIN:VEVENT
DTSTART;VALUE=DATE:20251107
DTEND;VALUE=DATE:20251115
DTSTAMP:20260422T143846
CREATED:20251107T131954Z
LAST-MODIFIED:20251107T155752Z
UID:10005127-1762488000-1763092799@www.visitilfracombe.co.uk
SUMMARY:Weekly gig listing
DESCRIPTION:Plenty going on in our live venues this weekend\, let’s get out there and swing our pants! 🎶🎙️🎸🎹🤘😍 \nFriday 7 November\nSasha Brennand\, Monkey Puzzle\, 6.30\nOpen Mic\, Grampus (Lee)\, 8.00\nLuke Glover\, Prince of Wales\, 8.00\nBodstone Boys\, George & Dragon\, 8.00\nGreater Good Duo\, 1893\, 8.30 \nSaturday 8 November\nThe Neil Maya Quartet with Christopher Hill\, Lee Memorial Hall\, 7.30 (Jazz – ticketed))\nJason Howard\, Prince of Wales\, 8.00\nSam Evans Band\, Crown (West Down)\, 8.30\nTake The Tacos and Run\, George & Dragon\, 9.00\nKnow Your Enemy\, Sandpiper\, 9.00 (Rage Against The Machine tribute)\nAsya K. Aydin\, Wellington Arms\, 9.30 \nSunday 9 November\nOpen Mic\, Sandpiper\, 3.00 \nWeekly events\nFridays – Open Mic\, Grampus (Lee)\, 8.00\nSundays – Open Mic\, Sandpiper\, 3.00\nTuesdays – Open Mic\, Snug & Hyde\, 9.00\nThursdays – Open Mic\, Prince of Wales\, 8.00\nThursdays – Karaoke\, Snug & Hyde\, 8.00 \nFull listing maintained on Facebook at Live Music in Ilfracombe (featured post)
URL:https://www.visitilfracombe.co.uk/event/weekly-gig-listing-21/
LOCATION:Ilfracombe\, Ilfracombe\, Devon\, United Kingdom
CATEGORIES:Ilfracombe Events
ATTACH;FMTTYPE=image/jpeg:https://www.visitilfracombe.co.uk/wp-content/uploads/2025/08/Music.jpg
END:VEVENT
BEGIN:VEVENT
DTSTART;TZID=Europe/London:20251112T100000
DTEND;TZID=Europe/London:20251112T130000
DTSTAMP:20260422T143846
CREATED:20250624T125439Z
LAST-MODIFIED:20250717T144702Z
UID:10000800-1762941600-1762952400@www.visitilfracombe.co.uk
SUMMARY:Wellbeing Wednesday
DESCRIPTION:A weekly Wellbeing Group – based around the 5 steps to wellbeing: Connect\, Be active\, Give\, Learn and Take notice – weekly arts and crafts\, wellbeing walks and free drinks and a light lunch. A very friendly group open to all (designed for age 18+).
URL:https://www.visitilfracombe.co.uk/event/wellbeing-wednesday/2025-11-12/
LOCATION:The Lantern\, Lantern Youth & Community Centre\, High Street\, Ilfracombe\, EX34 9QB
CATEGORIES:Community Events
ATTACH;FMTTYPE=image/jpeg:https://www.visitilfracombe.co.uk/wp-content/uploads/2025/06/Wellbeing-Wednesday.jpg
END:VEVENT
BEGIN:VEVENT
DTSTART;TZID=Europe/London:20251112T133000
DTEND;TZID=Europe/London:20251112T150000
DTSTAMP:20260422T143846
CREATED:20250624T125350Z
LAST-MODIFIED:20250717T082355Z
UID:10001045-1762954200-1762959600@www.visitilfracombe.co.uk
SUMMARY:Memory Cafe
DESCRIPTION:A friendly cafe for people with memory problems and their family/friends. \nFree tea\, coffee and cake with optional activities.
URL:https://www.visitilfracombe.co.uk/event/memory-cafe/2025-11-12/
LOCATION:Ilfracombe Museum\, Ilfracombe Museum\, Wilder Road\, Ilfracombe\, EX34 8AF\, United Kingdom
CATEGORIES:Community Events
ATTACH;FMTTYPE=image/jpeg:https://www.visitilfracombe.co.uk/wp-content/uploads/2025/06/The-2nd-Wednesday-of-every-month.jpg
END:VEVENT
BEGIN:VEVENT
DTSTART;TZID=Europe/London:20251113T190000
DTEND;TZID=Europe/London:20251113T210000
DTSTAMP:20260422T143846
CREATED:20251017T082118Z
LAST-MODIFIED:20251017T102325Z
UID:10005049-1763060400-1763067600@www.visitilfracombe.co.uk
SUMMARY:Talk - Discover Hidden Devon with Kelvin Farndell
DESCRIPTION:Join us for a talk from local historian and museum trustee Kelvin Farndell as he uncovers hidden Devon. \nTickets are £5 each or £4 for museum supporters.refreshments included. \nTickets available from the front desk Tues – Friday 10am-4:30pm.For further information contact us at: info.ilfracombemuseum@gmail.com \n 
URL:https://www.visitilfracombe.co.uk/event/talk-discover-hidden-devon-with-kelvin-farndell/
LOCATION:Ilfracombe Museum\, Ilfracombe Museum\, Wilder Road\, Ilfracombe\, EX34 8AF\, United Kingdom
CATEGORIES:Ilfracombe Events
ATTACH;FMTTYPE=image/jpeg:https://www.visitilfracombe.co.uk/wp-content/uploads/2025/10/Discover-Hidden-Devon-with-local-historian-Kelvin-Farndell-1.jpg
ORGANIZER;CN="Ilfracombe Museum":MAILTO:info.ilfracombemuseum@gmail.com
END:VEVENT
BEGIN:VEVENT
DTSTART;VALUE=DATE:20251114
DTEND;VALUE=DATE:20251122
DTSTAMP:20260422T143846
CREATED:20251114T085423Z
LAST-MODIFIED:20251114T174431Z
UID:10005132-1763092800-1763697599@www.visitilfracombe.co.uk
SUMMARY:Weekly gig listing
DESCRIPTION:Plenty of live music going on this weekend. Lets get out there and support our local artist and venues. 🤘🎹🎸🎙️🎶😍 \nWeekly events\nFridays – Open Mic\, Grampus (Lee)\, 8.00\nSundays – Open Mic\, Sandpiper\, 3.00\nTuesdays – Open Mic\, Snug & Hyde\, 9.00\nThursdays – Open Mic\, Prince of Wales\, 8.00\nThursdays – Karaoke with Danny\, Snug & Hyde\, 8.00 \nFriday 14 November\nCal White\, Monkey Puzzle\, 6.30\nSasha Brennand\, Prince of Wales\, 8.00\nSophie Smiles\, George & Dragon\, 9.00\nPete Bradshaw – Saxophone\, 1893\, 9.00 \nSaturday 15 November\nFalling Apart + The Black Sands\, Pier\, 7.30 (Simon Randall Celebration Gig)\nTrafic MC\, Snug & Hyde\, 8.00 (ticketed)\nSmart and Dangerous\, Prince of Wales\, 8.00\nBicycle Repair Man\, 1893\, 8.30\nPeter Bruntnell\, George & Dragon\, 9.00\nJack The Lads\, Sandpiper\, 9.00\nPinstripe (pop punk & emo covers)\, Ship & Pilot\, 9.00\nBlue Shed Band\, Wellington Arms\, 9.30 \nSunday 16 November\nCal White\, The Castle Inn (Combe Martin)\, 4.00\nTaylor Latham\, Ship and Pilot\, 5.00 \nFull listing maintained on Facebook at Live Music in Ilfracombe (featured post)
URL:https://www.visitilfracombe.co.uk/event/weekly-gig-listing-22/
LOCATION:Ilfracombe\, Ilfracombe\, Devon\, United Kingdom
CATEGORIES:Ilfracombe Events
ATTACH;FMTTYPE=image/jpeg:https://www.visitilfracombe.co.uk/wp-content/uploads/2025/08/Music.jpg
END:VEVENT
BEGIN:VEVENT
DTSTART;VALUE=DATE:20251114
DTEND;VALUE=DATE:20251122
DTSTAMP:20260422T143846
CREATED:20251114T094002Z
LAST-MODIFIED:20251114T094002Z
UID:10005133-1763092800-1763697599@www.visitilfracombe.co.uk
SUMMARY:Embassy Cinema
DESCRIPTION:The Running Man 133mins \nFri Mon Tue Wed 17:00 19:45 Sat 13:45  17:00 19:45 Sun 17:00 19:45 Thu 14:00  17:00  19:45  \nNow You See Me\, Now You Don’t 110mins \nFri Sat Tue 16:45  19:20  Sun 16:35  19:20   Mon 17:15 \nWed 16:45  Thu 14:30 20:00 \nPredator: Badlands 105mins \nFri Mon Tue Wed 20:00 Sat 14:50 20:00 Sun 14:50 20:00 \nThu 17:15 \nThe Choral 110mins \nFri Sat Tue Wed 17:15 Sun 13:45  17:15 Mon 16:45  19:20  Thu 14:45 \nChristmas Karma 114mins \nSat Sun 14:15 Wed 19:20 \nWicked & Wicked For Good: Double Bill 318mins \nThu 17:30 \n A PAW Patrol Christmas 65mins \nSat Sun 12:30 \nThe Bad Guys 103mins \nSat Sun 12:45
URL:https://www.visitilfracombe.co.uk/event/embassy-cinema-5/
LOCATION:Embassy Cinema\, 134 High Street\, Ilfracombe\, EX34 9EZ
CATEGORIES:Ilfracombe Events
ATTACH;FMTTYPE=image/jpeg:https://www.visitilfracombe.co.uk/wp-content/uploads/2025/10/Embassy.jpg
END:VEVENT
BEGIN:VEVENT
DTSTART;TZID=Europe/London:20251114T193000
DTEND;TZID=Europe/London:20251114T223000
DTSTAMP:20260422T143847
CREATED:20250519T131901Z
LAST-MODIFIED:20250519T131901Z
UID:10000094-1763148600-1763159400@www.visitilfracombe.co.uk
SUMMARY:The Jersey Beats – Oh What a Nite!
DESCRIPTION:It’s the show night out not to be missed – wowing crowds in Blackpool since 2014\, and now touring the country – Oh What A Nite! is a different style of tribute show to any other that you will have seen or heard of before.\n  \nMatt Andrew leads our vocal quartet as our tribute to Frankie Valli – telling the story of the band and how they formed the group which took them to the dizzy heights of television appearances\, fame and fortune… all performed alongside an amazing trio of vocal talent – Johnny\, Michael and Toby\, who take on the roles of Nick Massey\, Bob Guadio and Tommy Devito. \nComedy host Leye D Johns can’t be kept away from the stage for too long either\, bringing a light-hearted flavour to proceedings and ensuring the crowd leave with a big smile on their faces. \nThe show also has a way of bringing current hits to life too\, with that same Doo Wop style – again making Oh What A Nite! different to any tribute show you’ll ever see! \nLet the boys take you back to the era when hit song after hit song had The Four Seasons famous around the world! \nTrailer:
URL:https://www.visitilfracombe.co.uk/event/the-jersey-beats-oh-what-a-nite/
LOCATION:The Landmark Theatre\, The Landmark Theatre\, Promenade\, Ilfracombe\, Devon\, EX34 9BZ\, United Kingdom
CATEGORIES:Ilfracombe Events
ATTACH;FMTTYPE=image/jpeg:https://www.visitilfracombe.co.uk/wp-content/uploads/2025/05/the-jersey-beats-850x478-1.jpg
ORGANIZER;CN="The Landmark Theatre":MAILTO:northdevon.tickets@landmarktheatres.co.uk
END:VEVENT
BEGIN:VEVENT
DTSTART;TZID=Europe/London:20251115T100000
DTEND;TZID=Europe/London:20251115T163000
DTSTAMP:20260422T143847
CREATED:20251020T110314Z
LAST-MODIFIED:20251020T110314Z
UID:10005038-1763200800-1763224200@www.visitilfracombe.co.uk
SUMMARY:Feathers and Form - A drawing masterclass with Jim Starr
DESCRIPTION:A Fresh Take on Drawing Birds \nJoin artist Jim Starr for a unique drawing workshop. \nExplore the art of drawing birds using taxidermy birds as models. \nYou’ll study form\, texture\, and character\, developing your skills with expert guidance in a creative and supportive setting.
URL:https://www.visitilfracombe.co.uk/event/feathers-and-form-a-drawing-masterclass-with-jim-starr/
LOCATION:BANK – a creative space\, 151 High Street\, Ilfracombe\, EX34 9EZ
CATEGORIES:Ilfracombe Events
ATTACH;FMTTYPE=image/jpeg:https://www.visitilfracombe.co.uk/wp-content/uploads/2025/10/WILD-ART-JOURNALING-4.jpeg
ORGANIZER;CN="BANK":MAILTO:misspritch@hotmail.com
END:VEVENT
BEGIN:VEVENT
DTSTART;TZID=Europe/London:20251115T103000
DTEND;TZID=Europe/London:20251115T140000
DTSTAMP:20260422T143847
CREATED:20250908T104937Z
LAST-MODIFIED:20250912T074712Z
UID:10004500-1763202600-1763215200@www.visitilfracombe.co.uk
SUMMARY:Christmas Fair
DESCRIPTION:
URL:https://www.visitilfracombe.co.uk/event/christmas-fair/
LOCATION:The Lantern\, Lantern Youth & Community Centre\, High Street\, Ilfracombe\, EX34 9QB
CATEGORIES:Ilfracombe Events
ATTACH;FMTTYPE=image/jpeg:https://www.visitilfracombe.co.uk/wp-content/uploads/2025/09/541689015_2846502312211864_443947546238248244_n.jpg
END:VEVENT
BEGIN:VEVENT
DTSTART;VALUE=DATE:20251116
DTEND;VALUE=DATE:20251118
DTSTAMP:20260422T143847
CREATED:20250908T102228Z
LAST-MODIFIED:20251023T104054Z
UID:10004496-1763265600-1763351999@www.visitilfracombe.co.uk
SUMMARY:Clovelly Herring Festival
DESCRIPTION:November is the time of year when our historic village celebrates the coming of the great “Silver Darlings”\, better known as Herring. We celebrate and promote this tasty\, nutritious fish whilst supporting sustainable fishing. Flaxland will provide their exhibitions and demonstrations.
URL:https://www.visitilfracombe.co.uk/event/clovelly-herring-festival/
LOCATION:Clovelly\, Clovelly\, Devon
CATEGORIES:North Devon Events
ATTACH;FMTTYPE=image/jpeg:https://www.visitilfracombe.co.uk/wp-content/uploads/2025/09/Clovelly-f9163977-dcbe-e41e-8e9c-85b966ac46b9.jpg
END:VEVENT
BEGIN:VEVENT
DTSTART;TZID=Europe/London:20251116T100000
DTEND;TZID=Europe/London:20251116T160000
DTSTAMP:20260422T143847
CREATED:20251026T130259Z
LAST-MODIFIED:20251026T130446Z
UID:10005115-1763287200-1763308800@www.visitilfracombe.co.uk
SUMMARY:Lantern Workshop
DESCRIPTION:Join the festive fun on Thursday 28th November 2025 as Ilfracombe lights up for Christmas! The Lantern Parade begins at 6pm from the Candar\, winding its way to the War Memorial. Everyone is welcome – you can either bring your own lantern or join a free family-friendly workshop to make one at The Landmark Theatre on Sundays 16th & 23rd November (10am–4pm). Materials are provided. \nFor more info or to book a workshop\, contact:\n📧 Caz Turner or Mel Turnbull \nChildren must be accompanied by an adult. Workshops and large lanterns supported by public funding. \nPlease get in touch if you’d like to book in to these FREE workshops… Or if you’d like to take part as a group (Brownies\, Home-ed etc) and build lanterns to bring.
URL:https://www.visitilfracombe.co.uk/event/lantern-workshop/2025-11-16/
LOCATION:The Landmark Theatre\, The Landmark Theatre\, Promenade\, Ilfracombe\, Devon\, EX34 9BZ\, United Kingdom
CATEGORIES:Ilfracombe Events
ATTACH;FMTTYPE=image/jpeg:https://www.visitilfracombe.co.uk/wp-content/uploads/2025/03/Lantern-parade.jpg
END:VEVENT
END:VCALENDAR