BEGIN:VCALENDAR
VERSION:2.0
PRODID:-//Visit Ilfracombe - ECPv6.15.15//NONSGML v1.0//EN
CALSCALE:GREGORIAN
METHOD:PUBLISH
X-ORIGINAL-URL:https://www.visitilfracombe.co.uk
X-WR-CALDESC:Events for Visit Ilfracombe
REFRESH-INTERVAL;VALUE=DURATION:PT1H
X-Robots-Tag:noindex
X-PUBLISHED-TTL:PT1H
BEGIN:VTIMEZONE
TZID:Europe/London
BEGIN:DAYLIGHT
TZOFFSETFROM:+0000
TZOFFSETTO:+0100
TZNAME:BST
DTSTART:20240331T010000
END:DAYLIGHT
BEGIN:STANDARD
TZOFFSETFROM:+0100
TZOFFSETTO:+0000
TZNAME:GMT
DTSTART:20241027T010000
END:STANDARD
BEGIN:DAYLIGHT
TZOFFSETFROM:+0000
TZOFFSETTO:+0100
TZNAME:BST
DTSTART:20250330T010000
END:DAYLIGHT
BEGIN:STANDARD
TZOFFSETFROM:+0100
TZOFFSETTO:+0000
TZNAME:GMT
DTSTART:20251026T010000
END:STANDARD
BEGIN:DAYLIGHT
TZOFFSETFROM:+0000
TZOFFSETTO:+0100
TZNAME:BST
DTSTART:20260329T010000
END:DAYLIGHT
BEGIN:STANDARD
TZOFFSETFROM:+0100
TZOFFSETTO:+0000
TZNAME:GMT
DTSTART:20261025T010000
END:STANDARD
END:VTIMEZONE
BEGIN:VEVENT
DTSTART;VALUE=DATE:20251031
DTEND;VALUE=DATE:20251108
DTSTAMP:20260422T161933
CREATED:20251031T100147Z
LAST-MODIFIED:20251031T100147Z
UID:10005120-1761883200-1762487999@www.visitilfracombe.co.uk
SUMMARY:Embassy Cinema
DESCRIPTION:Friday 31st October to Thursday 06th November 2025 \nSpringsteen: Deliver Me From Nowhere 119mins \nFri Sat Mon Tues Wed 17:00 19:45 \nSun 17:00 19:45 Thurs 13:45 16:45  19:45 \nRegretting You 115mins \nFri 16:40  19:20  Sat 19:20  Sun 19:20   \nMon Tues Wed 17:20  20:00 \nThu 17:00 \n I Swear 120mins \nFri 17:15 Sat Sun 16:30  Mon 19:20 Tue 16:30 19:20 Wed 16:15 Thu 14:15  16:15 \n KPop Demon Hunters (A Sing-Along Event) 100mins \nFri Sat Sun 12:00 14:50 \n Gabby’s Dollhouse: The Movie 99mins \nFri Sat 14:00  Sun 11:45  14:00 \nDownton Abbey: The Grand Finale 122mins \nMon 16:30 Thu 13:30 \n Pets On a Train 85mins \nFri Sat 12:40 \nHocus Pocus 95mins \nFri Sat Sun 14:30 \nDisney Junior Cinema Club 2025 60mins \nFri Sat 11:00 \nHotel Transylvania 90mins \nFri 11:30  Sun 12:30 \n Coco 105mins \nSat 11:30 \n Back to the Future (40th Anniversary) 124mins \nSat Sun 17:15 Thu 19:30 \n Halloween (1978) 91mins \nFri 20:00 \n Shaun of the Dead 99mins \nSat 20:00 \n The Lost Boys 95mins \nSun 20:00 \n NT Live: Inter Alia 120mins \nThu 19:15 \nThe Royal Ballet: La Fille Mal Gardee 210mins \nWed 19:15
URL:https://www.visitilfracombe.co.uk/event/embassy-cinema-3/
LOCATION:Embassy Cinema\, 134 High Street\, Ilfracombe\, EX34 9EZ
CATEGORIES:Ilfracombe Events
ATTACH;FMTTYPE=image/jpeg:https://www.visitilfracombe.co.uk/wp-content/uploads/2025/10/Embassy.jpg
END:VEVENT
BEGIN:VEVENT
DTSTART;VALUE=DATE:20251031
DTEND;VALUE=DATE:20251108
DTSTAMP:20260422T161933
CREATED:20251031T120229Z
LAST-MODIFIED:20251031T120229Z
UID:10005122-1761883200-1762487999@www.visitilfracombe.co.uk
SUMMARY:Weekly gig listing
DESCRIPTION:Spooky times in Ilfracombe this weekend. Fancy some live music – here is what is going on….. \nLets get out there and swing our Halloween pants! 🧛👻👹🤘🎹🎸🎙️🎶 \nFriday 31 October\nBicycle Repair Man + Ilfracombe Ukulele Pluckers\, 1893\, 7.00\n5 Man Down\, Larkstone Café Bar\, 7.30\nAlan Phillips + The T4 Two\, Pier\, 8.00\nJason Howard\, Prince of Wales\, 8.00\nHalloween Rave\, Snug & Hyde\, 8.00\nHalloween Karaoke\, Sandpiper\, 8.00\nOpen Mic\, Grampus (Lee)\, 8.00\nThe Alchemists\, George & Dragon\, 9.00\nAtomic Black + Pinstripe\, Ship and Pilot\, 9.00\nFalling Apart\, Wellington Arms\, 9.00 \nSaturday 1 November\nHalloween Karaoke\, Wellington Arms\, 8.00\nSteve Valentine\, Prince of Wales\, 8.00\nThe Jukes\, George & Dragon\, 9.00\nHalloween Highway\, Sandpiper\, 9.00 \nSunday 2 November\nOpen mic\, Sandpiper\, 3.00\nSt Fian\, HARTA Retreat\, 4.00\nAcoustic Night\, George & Dragon\, 8.30 (1st Sunday of month) \nWeekly events\nFridays – Open Mic\, Grampus (Lee)\, 8.00\nSundays – Open Mic\, Sandpiper\, 3.00\nTuesdays – Open Mic\, Snug & Hyde\, 9.00\nThursdays – Open Mic\, Prince of Wales\, 8.00\nThursdays – Karaoke\, Snug & Hyde\, 8.00 \nFull listing maintained on Facebook at Live Music in Ilfracombe (featured post)
URL:https://www.visitilfracombe.co.uk/event/weekly-gig-listing-20/
LOCATION:Ilfracombe\, Ilfracombe\, Devon\, United Kingdom
CATEGORIES:Ilfracombe Events
ATTACH;FMTTYPE=image/jpeg:https://www.visitilfracombe.co.uk/wp-content/uploads/2025/08/Music.jpg
END:VEVENT
BEGIN:VEVENT
DTSTART;TZID=Europe/London:20251102T100000
DTEND;TZID=Europe/London:20251103T170000
DTSTAMP:20260422T161933
CREATED:20250919T103207Z
LAST-MODIFIED:20251006T091959Z
UID:10004920-1762077600-1762189200@www.visitilfracombe.co.uk
SUMMARY:Ilfracombe Art Trail Christmas Market
DESCRIPTION:
URL:https://www.visitilfracombe.co.uk/event/ilfracombe-art-trail-christmas-market/2025-11-02/
LOCATION:North Devon Resort\, North Devon Resort\, Marlborough Road\, Ilfracombe\, Devon\, EX34 8PF
CATEGORIES:Community Events,Ilfracombe Events
ATTACH;FMTTYPE=image/jpeg:https://www.visitilfracombe.co.uk/wp-content/uploads/2025/09/Art-Trail-543845071_18293013535255546_1609025686449552487_n.jpg
END:VEVENT
BEGIN:VEVENT
DTSTART;TZID=Europe/London:20251104T100000
DTEND;TZID=Europe/London:20251104T120000
DTSTAMP:20260422T161933
CREATED:20250624T125519Z
LAST-MODIFIED:20250717T082418Z
UID:10000723-1762250400-1762257600@www.visitilfracombe.co.uk
SUMMARY:Ilfracombe Monthly hub - for people living with and beyond cancer
DESCRIPTION:Ilfracombe Monthly hub – for people living with and beyond cancer \n*support*coffee*help*tea*advice*cake*chat*company
URL:https://www.visitilfracombe.co.uk/event/ilfracombe-monthly-hub-for-people-living-with-and-beyond-cancer/2025-11-04/
LOCATION:The Lantern\, Lantern Youth & Community Centre\, High Street\, Ilfracombe\, EX34 9QB
CATEGORIES:Community Events
ATTACH;FMTTYPE=image/jpeg:https://www.visitilfracombe.co.uk/wp-content/uploads/2025/06/Ilfracombe-Monthly-Hub.jpg
END:VEVENT
BEGIN:VEVENT
DTSTART;TZID=Europe/London:20251105T100000
DTEND;TZID=Europe/London:20251105T130000
DTSTAMP:20260422T161933
CREATED:20250624T125439Z
LAST-MODIFIED:20250717T144702Z
UID:10000799-1762336800-1762347600@www.visitilfracombe.co.uk
SUMMARY:Wellbeing Wednesday
DESCRIPTION:A weekly Wellbeing Group – based around the 5 steps to wellbeing: Connect\, Be active\, Give\, Learn and Take notice – weekly arts and crafts\, wellbeing walks and free drinks and a light lunch. A very friendly group open to all (designed for age 18+).
URL:https://www.visitilfracombe.co.uk/event/wellbeing-wednesday/2025-11-05/
LOCATION:The Lantern\, Lantern Youth & Community Centre\, High Street\, Ilfracombe\, EX34 9QB
CATEGORIES:Community Events
ATTACH;FMTTYPE=image/jpeg:https://www.visitilfracombe.co.uk/wp-content/uploads/2025/06/Wellbeing-Wednesday.jpg
END:VEVENT
BEGIN:VEVENT
DTSTART;TZID=Europe/London:20251105T143000
DTEND;TZID=Europe/London:20251105T203000
DTSTAMP:20260422T161933
CREATED:20250617T110011Z
LAST-MODIFIED:20251022T153407Z
UID:10000226-1762353000-1762374600@www.visitilfracombe.co.uk
SUMMARY:The Big Sheep Fireworks & Bonfire Spectacular
DESCRIPTION:Join us for an unforgettable evening of excitement\, warmth\, and joy at The BIG Sheep’s BIG Bonfire and Fireworks event! \nA stunning display of Dazzling Fireworks celebrating Guy Fawkes Day! The BIGGEST Bonfire\, Indoor Fireshows\, great tunes from our in-house disco!
URL:https://www.visitilfracombe.co.uk/event/46492/
LOCATION:The Big Sheep\, The Big Sheep\, Abbotsham Rd\, Abbotsham\, Bideford\, Devon\, EX39 5AP\, United Kingdom
CATEGORIES:North Devon Events
ATTACH;FMTTYPE=image/jpeg:https://www.visitilfracombe.co.uk/wp-content/uploads/2025/06/FireworksBonfire2.jpg
ORGANIZER;CN="The Big Sheep":MAILTO:info@thebigsheep.co.uk
END:VEVENT
BEGIN:VEVENT
DTSTART;TZID=Europe/London:20251105T183000
DTEND;TZID=Europe/London:20251105T210000
DTSTAMP:20260422T161933
CREATED:20251020T133941Z
LAST-MODIFIED:20251020T133941Z
UID:10005101-1762367400-1762376400@www.visitilfracombe.co.uk
SUMMARY:Combe Martin Firework Display
DESCRIPTION:
URL:https://www.visitilfracombe.co.uk/event/combe-martin-firework-display/
LOCATION:Combe Martin Beach\, Combe Martin\, EX34 0DJ
CATEGORIES:North Devon Events
ATTACH;FMTTYPE=image/jpeg:https://www.visitilfracombe.co.uk/wp-content/uploads/2025/10/Combe-Martin-Fire-works-559186615_794289456682253_4407757035623101991_n.jpg
END:VEVENT
BEGIN:VEVENT
DTSTART;TZID=Europe/London:20251106T190000
DTEND;TZID=Europe/London:20251106T210000
DTSTAMP:20260422T161933
CREATED:20251009T121716Z
LAST-MODIFIED:20251010T083635Z
UID:10005035-1762455600-1762462800@www.visitilfracombe.co.uk
SUMMARY:Pickle Night
DESCRIPTION:Join us for a lively social evening featuring the Scuttlebutt Shanty Singers\, delicious nautical-themed nibbles\, and a traditional toast to Ilfracombe’s own John Richards Lapenotiere — the man who brought news of Trafalgar to Britain.   \nPort will be served for the toast\, and tea and coffee will be available. Feel free to bring your own drinks to keep the spirits high!   \nNautical dress encouraged — think sailors\, captains\, or mermaids!  \nTickets available from the museum Tuesday – Friday 10am – 4pm  \nInfo.ilfracombemuseum@gmail.com  \nCome sing\, snack\, and celebrate with us! 
URL:https://www.visitilfracombe.co.uk/event/pickle-night/
LOCATION:Ilfracombe Museum\, Ilfracombe Museum\, Wilder Road\, Ilfracombe\, EX34 8AF\, United Kingdom
CATEGORIES:Ilfracombe Events
ATTACH;FMTTYPE=image/png:https://www.visitilfracombe.co.uk/wp-content/uploads/2025/10/Pickle-Night-1-CORRECT-DATE.png
ORGANIZER;CN="Ilfracombe Museum":MAILTO:info.ilfracombemuseum@gmail.com
END:VEVENT
BEGIN:VEVENT
DTSTART;VALUE=DATE:20251107
DTEND;VALUE=DATE:20251115
DTSTAMP:20260422T161933
CREATED:20251107T092502Z
LAST-MODIFIED:20251107T092502Z
UID:10005126-1762488000-1763092799@www.visitilfracombe.co.uk
SUMMARY:Embassy Cinema
DESCRIPTION:Information Correct at time of going to press.  \nDetails or showtimes may be subject to change. \nFriday 7th November to Thursday 13th November 2025 \nPredator: Badlands 105mins \nFri Mon 17:30 20:00 Tue 17:30  20:00  Sat 15:00 17:30 20:00 Sun 15:00 17:30 20:00 Wed 17:15  20:00 Thu 14:15  17:30 \nThe Choral 110mins \nFri Mon Tue 16:45 19:20 Wed 16:45 19:20  Sat 14:20 16:45  19:20 \nSun 14:20  16:40  19:20 Thu 14:00 17:00 \n The Running Man 133mins \nTue 19:45 Wed 17:00 19:45 Thu 14:30 16:45 20:00 \nSpringsteen: Deliver Me From Nowhere 119mins \nFri 19:45  Sun 17:00  Tue 17:00 \nDownton Abbey: The Grand Finale 122mins \nMon 17:00 \n I Swear 120mins \nFri 17:00  Mon 19:45 \nRegretting You 115mins \nSat 17:00 Sun 19:45 \n A PAW Patrol Christmas 65mins \nSat Sun 13:15 \n Mystery Screening 140mins \nSat 19:45 \nUK Surf Cinema Tour 120mins \nThu 19:45 \nThe Bad Guys 103mins \nSat 14:00  Sun 14:00 \nJohn Cleese Packs It In 81mins \nThu 19:30
URL:https://www.visitilfracombe.co.uk/event/embassy-cinema-4/
LOCATION:Embassy Cinema\, 134 High Street\, Ilfracombe\, EX34 9EZ
CATEGORIES:Ilfracombe Events
ATTACH;FMTTYPE=image/jpeg:https://www.visitilfracombe.co.uk/wp-content/uploads/2025/10/Embassy.jpg
END:VEVENT
BEGIN:VEVENT
DTSTART;VALUE=DATE:20251107
DTEND;VALUE=DATE:20251115
DTSTAMP:20260422T161933
CREATED:20251107T131954Z
LAST-MODIFIED:20251107T155752Z
UID:10005127-1762488000-1763092799@www.visitilfracombe.co.uk
SUMMARY:Weekly gig listing
DESCRIPTION:Plenty going on in our live venues this weekend\, let’s get out there and swing our pants! 🎶🎙️🎸🎹🤘😍 \nFriday 7 November\nSasha Brennand\, Monkey Puzzle\, 6.30\nOpen Mic\, Grampus (Lee)\, 8.00\nLuke Glover\, Prince of Wales\, 8.00\nBodstone Boys\, George & Dragon\, 8.00\nGreater Good Duo\, 1893\, 8.30 \nSaturday 8 November\nThe Neil Maya Quartet with Christopher Hill\, Lee Memorial Hall\, 7.30 (Jazz – ticketed))\nJason Howard\, Prince of Wales\, 8.00\nSam Evans Band\, Crown (West Down)\, 8.30\nTake The Tacos and Run\, George & Dragon\, 9.00\nKnow Your Enemy\, Sandpiper\, 9.00 (Rage Against The Machine tribute)\nAsya K. Aydin\, Wellington Arms\, 9.30 \nSunday 9 November\nOpen Mic\, Sandpiper\, 3.00 \nWeekly events\nFridays – Open Mic\, Grampus (Lee)\, 8.00\nSundays – Open Mic\, Sandpiper\, 3.00\nTuesdays – Open Mic\, Snug & Hyde\, 9.00\nThursdays – Open Mic\, Prince of Wales\, 8.00\nThursdays – Karaoke\, Snug & Hyde\, 8.00 \nFull listing maintained on Facebook at Live Music in Ilfracombe (featured post)
URL:https://www.visitilfracombe.co.uk/event/weekly-gig-listing-21/
LOCATION:Ilfracombe\, Ilfracombe\, Devon\, United Kingdom
CATEGORIES:Ilfracombe Events
ATTACH;FMTTYPE=image/jpeg:https://www.visitilfracombe.co.uk/wp-content/uploads/2025/08/Music.jpg
END:VEVENT
BEGIN:VEVENT
DTSTART;TZID=Europe/London:20251109T103000
DTEND;TZID=Europe/London:20251109T120000
DTSTAMP:20260422T161933
CREATED:20250307T124015Z
LAST-MODIFIED:20250611T081419Z
UID:10000014-1762684200-1762689600@www.visitilfracombe.co.uk
SUMMARY:Remembrance Sunday Parade
DESCRIPTION:On behalf of the committee and members of Ilfracombe Royal British Legion Branch\, we invite you to attend the Remembrance Sunday Parade on Sunday 9 November 2025 \nORDER OF PARADE \n10:15am Meet at Brookdale Church and Coach Park \n10:30am Form up for the Parade (Fall In) \n10:40am March off to the War Memorial via Wilder Road \n10:55am Arrive at the War Memorial \n10:57am Exhortation \n10:59am Last Post \n11:02am Reveille \n11:05am Laying of Wreaths\n11:10am Prayer \n11:15am “When you go home…” Proceed into Church \nCHURCH SERVICE \n12:10pm Line Up at Church Street \n12:15pm Down Church Street (take Salute at Roundabout)\, left at Wilder Road and into\nWilder Road Car Park \nTIMES MAY CHANGE SLIGHTLY \nWe look forward to seeing everyone on the day \nPARADE ROUTE \nOn the way there; Brookdale Church and Coach Park (muster point) – Brookdale Ave (towards Lidl) – along Wilder Road and onto Church St (A361) to the War Memorial. \nOn the way back; Church St (not Church Hill) – left at Wilder Road – fall out from Wilder Road Car Park.
URL:https://www.visitilfracombe.co.uk/event/remembrance-sunday-parade/
LOCATION:Brookdale Church\, Brookdale Ave\, Ilfracombe\, EX34 8DB\, United Kingdom
CATEGORIES:Ilfracombe Events
ATTACH;FMTTYPE=image/jpeg:https://www.visitilfracombe.co.uk/wp-content/uploads/2023/11/466007280_10162439002153384_4368463751322127287_n.jpg
ORGANIZER;CN="Royal British Legion (Ilfracombe Branch)":MAILTO:Ilfracombe.Secretary@rbl.community
END:VEVENT
BEGIN:VEVENT
DTSTART;TZID=Europe/London:20251109T140000
DTEND;TZID=Europe/London:20251109T160000
DTSTAMP:20260422T161933
CREATED:20250924T082850Z
LAST-MODIFIED:20250924T082850Z
UID:10004937-1762696800-1762704000@www.visitilfracombe.co.uk
SUMMARY:The Royal Ballet: La Fille Mal Gardee
DESCRIPTION:Lise\, the only daughter of Widow Simone\, is in love with the young farmer Colas\, but her mother has far more ambitious plans for her. Simone hopes to marry her off to Alain\, the son of the wealthy proprietor Thomas. Desperate to marry Colas rather than Alain\, Lise contrives to outwit her mother’s plans.
URL:https://www.visitilfracombe.co.uk/event/the-royal-ballet-la-fille-mal-gardee/
LOCATION:The Landmark Theatre\, The Landmark Theatre\, Promenade\, Ilfracombe\, Devon\, EX34 9BZ\, United Kingdom
CATEGORIES:Ilfracombe Events
ATTACH;FMTTYPE=image/jpeg:https://www.visitilfracombe.co.uk/wp-content/uploads/2025/09/La-Fille-Mal-Gardee-Web-Thumbail-Landscape.jpg
END:VEVENT
END:VCALENDAR