BEGIN:VCALENDAR
VERSION:2.0
PRODID:-//Visit Ilfracombe - ECPv6.15.15//NONSGML v1.0//EN
CALSCALE:GREGORIAN
METHOD:PUBLISH
X-WR-CALNAME:Visit Ilfracombe
X-ORIGINAL-URL:https://www.visitilfracombe.co.uk
X-WR-CALDESC:Events for Visit Ilfracombe
REFRESH-INTERVAL;VALUE=DURATION:PT1H
X-Robots-Tag:noindex
X-PUBLISHED-TTL:PT1H
BEGIN:VTIMEZONE
TZID:Europe/London
BEGIN:DAYLIGHT
TZOFFSETFROM:+0000
TZOFFSETTO:+0100
TZNAME:BST
DTSTART:20240331T010000
END:DAYLIGHT
BEGIN:STANDARD
TZOFFSETFROM:+0100
TZOFFSETTO:+0000
TZNAME:GMT
DTSTART:20241027T010000
END:STANDARD
BEGIN:DAYLIGHT
TZOFFSETFROM:+0000
TZOFFSETTO:+0100
TZNAME:BST
DTSTART:20250330T010000
END:DAYLIGHT
BEGIN:STANDARD
TZOFFSETFROM:+0100
TZOFFSETTO:+0000
TZNAME:GMT
DTSTART:20251026T010000
END:STANDARD
BEGIN:DAYLIGHT
TZOFFSETFROM:+0000
TZOFFSETTO:+0100
TZNAME:BST
DTSTART:20260329T010000
END:DAYLIGHT
BEGIN:STANDARD
TZOFFSETFROM:+0100
TZOFFSETTO:+0000
TZNAME:GMT
DTSTART:20261025T010000
END:STANDARD
END:VTIMEZONE
BEGIN:VEVENT
DTSTART;VALUE=DATE:20251003
DTEND;VALUE=DATE:20251011
DTSTAMP:20260423T042256
CREATED:20251002T165022Z
LAST-MODIFIED:20251002T165022Z
UID:10004983-1759464000-1760068799@www.visitilfracombe.co.uk
SUMMARY:Weekly gig listing
DESCRIPTION:Loads of great live music in our local venues this weekend. Lets get out there and swing our pants!! 🎶🎙️🎸🎹🤘😍 \nWeekly events\nSundays – Open Mic\, Sandpiper\, 3.00\nTuesdays – Open Mic\, Snug & Hyde\, 9.00\nThursdays – Open Mic\, Prince of Wales\, 8.00\nThursdays – Karaoke\, Snug & Hyde\, 8.00\nFridays – Open Mic\, Grampus (Lee)\, 8.00 \nFriday 3 October\nBicycle Repair Man\, Thatched Inn\, (Oktoberfest)\nKaraoke\, Sandpiper\, 8.00\nSasha Brennand\, Prince of Wales\, 8.00\nJim Crawford\, George & Dragon\, 9.00 (blues) \nSaturday 4 October\nAll For Jolly Duo\, Thatched Inn\, (Oktoberfest)\nBroken Aerials\, Prince of Wales\, 8.00\nBasil’s Balls Up Band\, George & Dragon\, 9.00\nBlue Jay\, Sandpiper\, 9.00\nV!XEN/Secs on Decks/LADY C/Phoenix Groove\, Snug & Hyde\, 9.00\nThe Greater Good Duo\, Wellington Arms\, 9.30 \nSunday 5 October\nAndy Grant\, HARTA Retreat\, 4.00\nSundog Slide\, Castle Inn (Combe Martin)\, 4.00\nAcoustic Night\, George & Dragon\, 8.30 (1st Sunday of month) \nFull listing maintained on Facebook at Live Music in Ilfracombe (featured post)
URL:https://www.visitilfracombe.co.uk/event/weekly-gig-listing-16/
LOCATION:Ilfracombe\, Ilfracombe\, Devon\, United Kingdom
CATEGORIES:Ilfracombe Events
ATTACH;FMTTYPE=image/jpeg:https://www.visitilfracombe.co.uk/wp-content/uploads/2025/08/Music.jpg
END:VEVENT
BEGIN:VEVENT
DTSTART;TZID=Europe/London:20251007T100000
DTEND;TZID=Europe/London:20251007T120000
DTSTAMP:20260423T042256
CREATED:20250624T125519Z
LAST-MODIFIED:20250717T082418Z
UID:10000722-1759831200-1759838400@www.visitilfracombe.co.uk
SUMMARY:Ilfracombe Monthly hub - for people living with and beyond cancer
DESCRIPTION:Ilfracombe Monthly hub – for people living with and beyond cancer \n*support*coffee*help*tea*advice*cake*chat*company
URL:https://www.visitilfracombe.co.uk/event/ilfracombe-monthly-hub-for-people-living-with-and-beyond-cancer/2025-10-07/
LOCATION:The Lantern\, Lantern Youth & Community Centre\, High Street\, Ilfracombe\, EX34 9QB
CATEGORIES:Community Events
ATTACH;FMTTYPE=image/jpeg:https://www.visitilfracombe.co.uk/wp-content/uploads/2025/06/Ilfracombe-Monthly-Hub.jpg
END:VEVENT
BEGIN:VEVENT
DTSTART;TZID=Europe/London:20251008T100000
DTEND;TZID=Europe/London:20251008T130000
DTSTAMP:20260423T042256
CREATED:20250624T125439Z
LAST-MODIFIED:20250717T144702Z
UID:10000795-1759917600-1759928400@www.visitilfracombe.co.uk
SUMMARY:Wellbeing Wednesday
DESCRIPTION:A weekly Wellbeing Group – based around the 5 steps to wellbeing: Connect\, Be active\, Give\, Learn and Take notice – weekly arts and crafts\, wellbeing walks and free drinks and a light lunch. A very friendly group open to all (designed for age 18+).
URL:https://www.visitilfracombe.co.uk/event/wellbeing-wednesday/2025-10-08/
LOCATION:The Lantern\, Lantern Youth & Community Centre\, High Street\, Ilfracombe\, EX34 9QB
CATEGORIES:Community Events
ATTACH;FMTTYPE=image/jpeg:https://www.visitilfracombe.co.uk/wp-content/uploads/2025/06/Wellbeing-Wednesday.jpg
END:VEVENT
BEGIN:VEVENT
DTSTART;TZID=Europe/London:20251008T133000
DTEND;TZID=Europe/London:20251008T150000
DTSTAMP:20260423T042256
CREATED:20250624T125350Z
LAST-MODIFIED:20250717T082355Z
UID:10001044-1759930200-1759935600@www.visitilfracombe.co.uk
SUMMARY:Memory Cafe
DESCRIPTION:A friendly cafe for people with memory problems and their family/friends. \nFree tea\, coffee and cake with optional activities.
URL:https://www.visitilfracombe.co.uk/event/memory-cafe/2025-10-08/
LOCATION:Ilfracombe Museum\, Ilfracombe Museum\, Wilder Road\, Ilfracombe\, EX34 8AF\, United Kingdom
CATEGORIES:Community Events
ATTACH;FMTTYPE=image/jpeg:https://www.visitilfracombe.co.uk/wp-content/uploads/2025/06/The-2nd-Wednesday-of-every-month.jpg
END:VEVENT
BEGIN:VEVENT
DTSTART;VALUE=DATE:20251010
DTEND;VALUE=DATE:20251018
DTSTAMP:20260423T042256
CREATED:20251010T142836Z
LAST-MODIFIED:20251010T142900Z
UID:10005036-1760068800-1760673599@www.visitilfracombe.co.uk
SUMMARY:Weekly gig listing
DESCRIPTION:Here it is folks. Your weekly rundown of all the amazing live music in and around Ilfracombe this weekend. Let’s get out there and swing those pants!! 🤘🎹🎸🎙️🎶😍 \nWeekly events\nSundays – Open Mic\, Sandpiper\, 3.00\nTuesdays – Open Mic\, Snug & Hyde\, 9.00\nThursdays – Open Mic\, Prince of Wales\, 8.00\nThursdays – Karaoke\, Snug & Hyde\, 8.00\nFridays – Open Mic\, Grampus (Lee)\, 8.00 \nFriday 10 October\nThe Wyldwoods\, Prince of Wales\, 8.30\nJacob Terry\, George & Dragon 9.00\nKai\, 1893\, 9.00 \nSaturday 11 October\nWilderwolf/Dan Sheehan/miLKpale\, Prince of Wales\, 8.00\nBack In The Room\, Sandpiper\, 8.30\nDrew Neirin Hall Band\, George & Dragon\, 9.00 (soul/blues)\nHighway\, The Ship & Pilot\, 9.00\nThe Kahunas\, Wellington Arms\, 9.30 (Kid Hyena cancelled) \nSunday 12 October\nSmall Town Jones\, HARTA Retreat\, 4.00\nGreater Good Duo\, Ship & Pilot\, 5.00 \nWednesday 15 October\nAcoustic Night\, George & Dragon\, 8.30 (3rd Wednesday of month) \nFull listing maintained on Facebook at Live Music in Ilfracombe (featured post)
URL:https://www.visitilfracombe.co.uk/event/weekly-gig-listing-17/
LOCATION:Ilfracombe\, Ilfracombe\, Devon\, United Kingdom
CATEGORIES:Ilfracombe Events
ATTACH;FMTTYPE=image/jpeg:https://www.visitilfracombe.co.uk/wp-content/uploads/2025/08/Music.jpg
END:VEVENT
BEGIN:VEVENT
DTSTART;TZID=Europe/London:20251011T100000
DTEND;TZID=Europe/London:20251102T160000
DTSTAMP:20260423T042256
CREATED:20250910T171222Z
LAST-MODIFIED:20250910T171222Z
UID:10004503-1760176800-1762099200@www.visitilfracombe.co.uk
SUMMARY:Autumnfest at Arlington Court
DESCRIPTION:Step into Autumn at Arlington Court \nInside the house\, discover a harvest table laid in the dining room and seasonal floral displays throughout. Outside\, head to the garden to see the Atlantic giant pumpkin and gourd display. \nWander through the grounds and follow the fairytale-themed scarecrow trail\, created by local schoolchildren\, community groups\, and volunteers. This year\, you’ll meet characters like Puss in Boots\, Rapunzel\, and other magical favourites. \nFor younger adventurers\, there’s a special children’s spotter trail—pick up a free trail sheet from visitor reception and see how many autumn sights you can find. Can you spot them all? \nPlan your visit and find out more on the Arlington Court website. Normal admission prices apply\, free for National Trust Members.
URL:https://www.visitilfracombe.co.uk/event/autumnfest-at-arlington-court/
LOCATION:Arlington Court\, Arlington Court National Trust\, Barnstaple\, EX31 4LP
CATEGORIES:North Devon Events
ATTACH;FMTTYPE=image/jpeg:https://www.visitilfracombe.co.uk/wp-content/uploads/2025/09/DSC07857-1-scaled.jpg
ORGANIZER;CN="North Devon National Trust":MAILTO:northdevon@nationaltrust.org.uk
END:VEVENT
BEGIN:VEVENT
DTSTART;TZID=Europe/London:20251011T200000
DTEND;TZID=Europe/London:20251011T220000
DTSTAMP:20260423T042256
CREATED:20251004T102613Z
LAST-MODIFIED:20251006T112937Z
UID:10004984-1760212800-1760220000@www.visitilfracombe.co.uk
SUMMARY:Music at The Prince of Wales
DESCRIPTION:
URL:https://www.visitilfracombe.co.uk/event/music-at-the-prince-of-wales/
LOCATION:Prince of Wales\, Prince of Wales\, 2 Fore St\, Ilfracombe\, EX34 9ED
CATEGORIES:Ilfracombe Events
ATTACH;FMTTYPE=image/jpeg:https://www.visitilfracombe.co.uk/wp-content/uploads/2025/10/558162341_2103772013484044_5530040562965955552_n.jpg
END:VEVENT
END:VCALENDAR