BEGIN:VCALENDAR
VERSION:2.0
PRODID:-//Visit Ilfracombe - ECPv6.15.15//NONSGML v1.0//EN
CALSCALE:GREGORIAN
METHOD:PUBLISH
X-ORIGINAL-URL:https://www.visitilfracombe.co.uk
X-WR-CALDESC:Events for Visit Ilfracombe
REFRESH-INTERVAL;VALUE=DURATION:PT1H
X-Robots-Tag:noindex
X-PUBLISHED-TTL:PT1H
BEGIN:VTIMEZONE
TZID:Europe/London
BEGIN:DAYLIGHT
TZOFFSETFROM:+0000
TZOFFSETTO:+0100
TZNAME:BST
DTSTART:20240331T010000
END:DAYLIGHT
BEGIN:STANDARD
TZOFFSETFROM:+0100
TZOFFSETTO:+0000
TZNAME:GMT
DTSTART:20241027T010000
END:STANDARD
BEGIN:DAYLIGHT
TZOFFSETFROM:+0000
TZOFFSETTO:+0100
TZNAME:BST
DTSTART:20250330T010000
END:DAYLIGHT
BEGIN:STANDARD
TZOFFSETFROM:+0100
TZOFFSETTO:+0000
TZNAME:GMT
DTSTART:20251026T010000
END:STANDARD
BEGIN:DAYLIGHT
TZOFFSETFROM:+0000
TZOFFSETTO:+0100
TZNAME:BST
DTSTART:20260329T010000
END:DAYLIGHT
BEGIN:STANDARD
TZOFFSETFROM:+0100
TZOFFSETTO:+0000
TZNAME:GMT
DTSTART:20261025T010000
END:STANDARD
END:VTIMEZONE
BEGIN:VEVENT
DTSTART;VALUE=DATE:20250801
DTEND;VALUE=DATE:20250809
DTSTAMP:20260423T112005
CREATED:20250801T102407Z
LAST-MODIFIED:20250807T092116Z
UID:10004360-1754020800-1754625599@www.visitilfracombe.co.uk
SUMMARY:Weekly gig listing
DESCRIPTION:Weekly events\nSaturdays – Sunset Soundtrack with Steve Optix. Combe Martin beach\, 5.00 (until Aug 2nd)\nSundays – Open Mic Session\, Sandpiper\, 3.00\nThursdays – Open Mic\, Prince of Wales\, 8.00\nThursdays – Karaoke\, Snug & Hyde\, 8.00 \nFriday 1 August\nDance Sun-Set Session with DJ Rick Tozer\, Larkstone Cafe Bar\, 6.30\nWallace\, Monkey Puzzle\, 6.30\nDJ Noah\, Wellington Arms\nSmall Town Jones & Dave Little\, George & Dragon\, 9.00\nSasha Brennand\, Snug & Hyde\, 9.30 \nSaturday 2 August\nJacob Terry\, Hele Bay Pub\, 3.00\nSunset Soundtrack with Steve Optix. Combe Martin beach\, 5.00\nCover Girls\, Wellington Arms\, 5.15\nMax & Veronica + Sophie Smiles\, HARTA Retreat\, 8.00 (ticketed)\nThe Greater Good\, George & Dragon\, 9.00\nDJ Goth\, Wellington Arms\,\nJack The Lads\, Wellington Arms\, 9.00 \nSunday 3 August\nOpen Mic Session\, Sandpiper\, 3.00\nSteve Optix and Van Hessing\, Lime Kiln Cafe & Bar\, 4.00\nLionstar\, Captain Jack’s\, (Woolacombe)\, 4.00\nThe Greater Good Band\, Wellington Arms\, 5.00 \n\nThursday 7 August\n\n\nEmmanuel\, Monkey Puzzle\, 6.00\n\n\nOpen Mic\, Prince of Wales\, 8.00\n\n\nKaraoke\, Snug & Hyde\, 8.00\n\n\nFull listing maintained on Facebook at Live Music in Ilfracombe (featured post)
URL:https://www.visitilfracombe.co.uk/event/weekly-gig-listing-8/
LOCATION:Ilfracombe\, Ilfracombe\, Devon\, United Kingdom
CATEGORIES:Ilfracombe Events
ATTACH;FMTTYPE=image/jpeg:https://www.visitilfracombe.co.uk/wp-content/uploads/2025/08/Music.jpg
END:VEVENT
BEGIN:VEVENT
DTSTART;VALUE=DATE:20250803
DTEND;VALUE=DATE:20250805
DTSTAMP:20260423T112005
CREATED:20250626T085557Z
LAST-MODIFIED:20250626T090509Z
UID:10001105-1754193600-1754279999@www.visitilfracombe.co.uk
SUMMARY:Clovelly Life Boat Day
DESCRIPTION:A day full of family fun and action with food and drink\, music and lifeboat operational displays. Come along! 
URL:https://www.visitilfracombe.co.uk/event/clovelly-life-boat-day/
LOCATION:Clovelly\, Clovelly\, Devon
CATEGORIES:North Devon Events
ATTACH;FMTTYPE=image/jpeg:https://www.visitilfracombe.co.uk/wp-content/uploads/2025/06/Lifeboat-Weekend-3-2000x1055-1.jpg
END:VEVENT
BEGIN:VEVENT
DTSTART;VALUE=DATE:20250803
DTEND;VALUE=DATE:20250805
DTSTAMP:20260423T112005
CREATED:20250730T084146Z
LAST-MODIFIED:20250730T084146Z
UID:10003984-1754193600-1754279999@www.visitilfracombe.co.uk
SUMMARY:Mortehoe Scarecrow Festival
DESCRIPTION:Pop along to Mortehoe Museum to collect your trail sheet. Trail sheets are £5 each and can be used between a family group. Follow the trail around the village to see some of the scarecrows … and don’t forget to note your favourite so you can vote for it at the end.
URL:https://www.visitilfracombe.co.uk/event/mortehoe-scarecrow-festival/2025-08-03/
LOCATION:Mortehoe\, Mortehoe\, United Kingdom
CATEGORIES:North Devon Events
ATTACH;FMTTYPE=image/jpeg:https://www.visitilfracombe.co.uk/wp-content/uploads/2025/07/512704853_762523449436294_219779481228620327_n.jpg
END:VEVENT
BEGIN:VEVENT
DTSTART;VALUE=DATE:20250803
DTEND;VALUE=DATE:20250805
DTSTAMP:20260423T112005
CREATED:20250731T094349Z
LAST-MODIFIED:20250801T131131Z
UID:10003994-1754193600-1754279999@www.visitilfracombe.co.uk
SUMMARY:Welly Fest
DESCRIPTION:   Join us for Welly Fest from Friday 1st- Sunday 3rd August!   \n\nWhat’s on! We have local musicians performing throughout the weekend! Starting from 3pm!! We have Local theatre group ‘Black Box Theatre’ putting on a play Friday 1st from 8pm in our beer garden!! Heidi Booker 50th Birthday celebrations Saturday 2nd! DJ Jonah Friday Night! DJ Goth Saturday! Comedy Act! Face Painter Saturday and Sunday Jack the lads headlining Saturday 2nd from 9pm! Family Fun Games Sunday 1-4pm! The Greater Good band Headlining Sunday 3rd from 5-7pm!\n\nWhat to Wear?! T Type Dye & Wellies!!\n\nWhere?!  Welly Beer Garden\n\nFood Ivan Clarke BBQ 4-7pm on Saturday 2nd!Plus Local Takeaway Menus available to order from!\n\nIt should be an absolute belter of a weekend!!\n\nIf any other musicians or acts would like to get involved please contact Kirsty on 07873318895!
URL:https://www.visitilfracombe.co.uk/event/welly-fest/2025-08-03/
LOCATION:The Wellington Arms\, The Wellington Arms\, 66-67 High Street\, Ilfracombe\, EX34 9QE
CATEGORIES:Ilfracombe Events
ATTACH;FMTTYPE=image/jpeg:https://www.visitilfracombe.co.uk/wp-content/uploads/2025/07/518311524_1573549860296254_3901819117198986452_n.jpg
END:VEVENT
BEGIN:VEVENT
DTSTART;VALUE=DATE:20250804
DTEND;VALUE=DATE:20250806
DTSTAMP:20260423T112005
CREATED:20250730T084146Z
LAST-MODIFIED:20250730T084146Z
UID:10003985-1754280000-1754366399@www.visitilfracombe.co.uk
SUMMARY:Mortehoe Scarecrow Festival
DESCRIPTION:Pop along to Mortehoe Museum to collect your trail sheet. Trail sheets are £5 each and can be used between a family group. Follow the trail around the village to see some of the scarecrows … and don’t forget to note your favourite so you can vote for it at the end.
URL:https://www.visitilfracombe.co.uk/event/mortehoe-scarecrow-festival/2025-08-04/
LOCATION:Mortehoe\, Mortehoe\, United Kingdom
CATEGORIES:North Devon Events
ATTACH;FMTTYPE=image/jpeg:https://www.visitilfracombe.co.uk/wp-content/uploads/2025/07/512704853_762523449436294_219779481228620327_n.jpg
END:VEVENT
BEGIN:VEVENT
DTSTART;TZID=Europe/London:20250804T110000
DTEND;TZID=Europe/London:20250804T160000
DTSTAMP:20260423T112005
CREATED:20250720T102134Z
LAST-MODIFIED:20250730T081149Z
UID:10002456-1754305200-1754323200@www.visitilfracombe.co.uk
SUMMARY:Arts & Crafts Fair
DESCRIPTION:Beautiful local art and crafts\, perfect for a gift or as a treat for yourself.\nLight refreshments available. Both cash and card payments are accepted.\nCar park adjacent to the Memorial Hall (cash payments in the honesty box by the entrance or pay by card at the Old Schoolroom Craft Gallery opposite).\nEveryone will be made most welcome.
URL:https://www.visitilfracombe.co.uk/event/arts-crafts-fair/2025-08-04/
LOCATION:Lee Memorial Hall\, Lee\, EX34 8LW
CATEGORIES:Ilfracombe Events
ATTACH;FMTTYPE=image/jpeg:https://www.visitilfracombe.co.uk/wp-content/uploads/2025/07/Lee-517391418_23967228826218863_254301904626098003_n.jpg
END:VEVENT
BEGIN:VEVENT
DTSTART;TZID=Europe/London:20250805T100000
DTEND;TZID=Europe/London:20250805T120000
DTSTAMP:20260423T112005
CREATED:20250624T125519Z
LAST-MODIFIED:20250717T082418Z
UID:10000720-1754388000-1754395200@www.visitilfracombe.co.uk
SUMMARY:Ilfracombe Monthly hub - for people living with and beyond cancer
DESCRIPTION:Ilfracombe Monthly hub – for people living with and beyond cancer \n*support*coffee*help*tea*advice*cake*chat*company
URL:https://www.visitilfracombe.co.uk/event/ilfracombe-monthly-hub-for-people-living-with-and-beyond-cancer/2025-08-05/
LOCATION:The Lantern\, Lantern Youth & Community Centre\, High Street\, Ilfracombe\, EX34 9QB
CATEGORIES:Community Events
ATTACH;FMTTYPE=image/jpeg:https://www.visitilfracombe.co.uk/wp-content/uploads/2025/06/Ilfracombe-Monthly-Hub.jpg
END:VEVENT
BEGIN:VEVENT
DTSTART;TZID=Europe/London:20250805T110000
DTEND;TZID=Europe/London:20250805T160000
DTSTAMP:20260423T112005
CREATED:20250720T102134Z
LAST-MODIFIED:20250730T081149Z
UID:10002457-1754391600-1754409600@www.visitilfracombe.co.uk
SUMMARY:Arts & Crafts Fair
DESCRIPTION:Beautiful local art and crafts\, perfect for a gift or as a treat for yourself.\nLight refreshments available. Both cash and card payments are accepted.\nCar park adjacent to the Memorial Hall (cash payments in the honesty box by the entrance or pay by card at the Old Schoolroom Craft Gallery opposite).\nEveryone will be made most welcome.
URL:https://www.visitilfracombe.co.uk/event/arts-crafts-fair/2025-08-05/
LOCATION:Lee Memorial Hall\, Lee\, EX34 8LW
CATEGORIES:Ilfracombe Events
ATTACH;FMTTYPE=image/jpeg:https://www.visitilfracombe.co.uk/wp-content/uploads/2025/07/Lee-517391418_23967228826218863_254301904626098003_n.jpg
END:VEVENT
BEGIN:VEVENT
DTSTART;TZID=Europe/London:20250805T133000
DTEND;TZID=Europe/London:20250805T153000
DTSTAMP:20260423T112005
CREATED:20250801T130952Z
LAST-MODIFIED:20250801T130952Z
UID:10004361-1754400600-1754407800@www.visitilfracombe.co.uk
SUMMARY:Rhythms from The Wild Shore | Family Music Workshop
DESCRIPTION:Join us for a unique family music workshop where we’ll spark our creativity and make music together! We’ll draw inspiration from the sounds\, sights\, and rhythms of the coast and create original music that will later become part of our magical outdoor theatre show. \nInstruments are provided (or bring your own)\, no experience needed. \nSuitable for children ages 5+ and their grown-ups too! Get ready to sing and play together as a family. \nTickets: FREE – booking essential due to limited places available
URL:https://www.visitilfracombe.co.uk/event/rhythms-from-the-wild-shore-family-music-workshop/
LOCATION:Bideford\, Bideford\, Devon\, United Kingdom
CATEGORIES:North Devon Events
ATTACH;FMTTYPE=image/webp:https://www.visitilfracombe.co.uk/wp-content/uploads/2025/08/Moye_BTC_Tales_Promo_07.webp
END:VEVENT
BEGIN:VEVENT
DTSTART;TZID=Europe/London:20250805T190000
DTEND;TZID=Europe/London:20250805T210000
DTSTAMP:20260423T112005
CREATED:20250707T095119Z
LAST-MODIFIED:20250707T095119Z
UID:10001116-1754420400-1754427600@www.visitilfracombe.co.uk
SUMMARY:Outdoor Theatre Night - Twelfth Night
DESCRIPTION:Come and enjoy the experience of outdoor theatre in the stunning surroundings of Watermouth Harbour.  Twelfth Night by the Folksy Theatre. Bring picnics\, fizz\, family and friends  You won’t be disappointed and will laugh all evening. Parking available – advised on arrival – charges apply. Storm in a Teacup will be open for drinks\, cake and Ice Cream.  Tickets can be purchased via the link or at Teacup 
URL:https://www.visitilfracombe.co.uk/event/outdoor-theatre-night-twelfth-night/
LOCATION:Watermouth Harbour\, Watermouth\, Berrynarbor\, EX34 9SJ
CATEGORIES:North Devon Events
ATTACH;FMTTYPE=image/jpeg:https://www.visitilfracombe.co.uk/wp-content/uploads/2025/07/503179076_1285604656907514_6179279636332121768_n.jpg
ORGANIZER;CN="Storm in a Teacup":MAILTO:laura.storminateacup@gmail.com
END:VEVENT
BEGIN:VEVENT
DTSTART;TZID=Europe/London:20250806T080000
DTEND;TZID=Europe/London:20250806T180000
DTSTAMP:20260423T112005
CREATED:20250307T130128Z
LAST-MODIFIED:20250801T132728Z
UID:10000021-1754467200-1754503200@www.visitilfracombe.co.uk
SUMMARY:North Devon Show
DESCRIPTION:The North Devon Show is THE premier agricultural spectacle in the region and has something for everyone. \nThere are classes for Alpacas\, Beef & Dairy Cattle\, Sheep\, Horse Showing Classes & Show Jumping as well as Pony Club Games and Young Handler Competitions. There is also an Open Dog Show & Poultry Display plus a wide variety of Trade Stands including a Food Hall and Crafts & Gifts Marquee. \nThe show site is a completely level area of approximately 50 acres with an adjacent car parking area of 42 acres with good access on to the A377. \n \n 
URL:https://www.visitilfracombe.co.uk/event/north-devon-show/
LOCATION:Umberleigh Barton\, Umberleigh\, Devon\, EX37 9DX\, United Kingdom
CATEGORIES:North Devon Events
ATTACH;FMTTYPE=image/jpeg:https://www.visitilfracombe.co.uk/wp-content/uploads/2025/03/Noth-Devon-Show-poster.jpg
END:VEVENT
BEGIN:VEVENT
DTSTART;TZID=Europe/London:20250806T100000
DTEND;TZID=Europe/London:20250806T130000
DTSTAMP:20260423T112005
CREATED:20250624T125439Z
LAST-MODIFIED:20250717T144702Z
UID:10000786-1754474400-1754485200@www.visitilfracombe.co.uk
SUMMARY:Wellbeing Wednesday
DESCRIPTION:A weekly Wellbeing Group – based around the 5 steps to wellbeing: Connect\, Be active\, Give\, Learn and Take notice – weekly arts and crafts\, wellbeing walks and free drinks and a light lunch. A very friendly group open to all (designed for age 18+).
URL:https://www.visitilfracombe.co.uk/event/wellbeing-wednesday/2025-08-06/
LOCATION:The Lantern\, Lantern Youth & Community Centre\, High Street\, Ilfracombe\, EX34 9QB
CATEGORIES:Community Events
ATTACH;FMTTYPE=image/jpeg:https://www.visitilfracombe.co.uk/wp-content/uploads/2025/06/Wellbeing-Wednesday.jpg
END:VEVENT
BEGIN:VEVENT
DTSTART;TZID=Europe/London:20250806T110000
DTEND;TZID=Europe/London:20250806T160000
DTSTAMP:20260423T112005
CREATED:20250720T102134Z
LAST-MODIFIED:20250730T081149Z
UID:10002458-1754478000-1754496000@www.visitilfracombe.co.uk
SUMMARY:Arts & Crafts Fair
DESCRIPTION:Beautiful local art and crafts\, perfect for a gift or as a treat for yourself.\nLight refreshments available. Both cash and card payments are accepted.\nCar park adjacent to the Memorial Hall (cash payments in the honesty box by the entrance or pay by card at the Old Schoolroom Craft Gallery opposite).\nEveryone will be made most welcome.
URL:https://www.visitilfracombe.co.uk/event/arts-crafts-fair/2025-08-06/
LOCATION:Lee Memorial Hall\, Lee\, EX34 8LW
CATEGORIES:Ilfracombe Events
ATTACH;FMTTYPE=image/jpeg:https://www.visitilfracombe.co.uk/wp-content/uploads/2025/07/Lee-517391418_23967228826218863_254301904626098003_n.jpg
END:VEVENT
BEGIN:VEVENT
DTSTART;TZID=Europe/London:20250807T110000
DTEND;TZID=Europe/London:20250807T160000
DTSTAMP:20260423T112005
CREATED:20250720T102134Z
LAST-MODIFIED:20250730T081149Z
UID:10002459-1754564400-1754582400@www.visitilfracombe.co.uk
SUMMARY:Arts & Crafts Fair
DESCRIPTION:Beautiful local art and crafts\, perfect for a gift or as a treat for yourself.\nLight refreshments available. Both cash and card payments are accepted.\nCar park adjacent to the Memorial Hall (cash payments in the honesty box by the entrance or pay by card at the Old Schoolroom Craft Gallery opposite).\nEveryone will be made most welcome.
URL:https://www.visitilfracombe.co.uk/event/arts-crafts-fair/2025-08-07/
LOCATION:Lee Memorial Hall\, Lee\, EX34 8LW
CATEGORIES:Ilfracombe Events
ATTACH;FMTTYPE=image/jpeg:https://www.visitilfracombe.co.uk/wp-content/uploads/2025/07/Lee-517391418_23967228826218863_254301904626098003_n.jpg
END:VEVENT
BEGIN:VEVENT
DTSTART;VALUE=DATE:20250808
DTEND;VALUE=DATE:20250810
DTSTAMP:20260423T112005
CREATED:20250730T080212Z
LAST-MODIFIED:20250730T080654Z
UID:10003221-1754625600-1754711999@www.visitilfracombe.co.uk
SUMMARY:National Trust Rockpool Rambles
DESCRIPTION:Rockpool Rambles are back from Thursday 24 July  Join the Beach Rangers to seek out crabs\, starfish and sea snails and learn about their lives.  Feeling adventurous? Try a night-time ramble with UV torches and uncover the secrets of the seashore after dark.£5 per person daytime / £8 per person night-time. To find out more\, check times and book\, please visit: https://bit.ly/EventsAtWoolacombeNT \n\nAll children welcome. Under 14s must be accompanied. Not suitable for dogs.
URL:https://www.visitilfracombe.co.uk/event/national-trust-rockpool-rambles/2025-08-08/
LOCATION:Woolacombe\, EX34 7DL\, United Kingdom
CATEGORIES:North Devon Events
ATTACH;FMTTYPE=image/jpeg:https://www.visitilfracombe.co.uk/wp-content/uploads/2025/07/515269131_1151203223717761_4466959625952900722_n.jpg
ORGANIZER;CN="North Devon National Trust":MAILTO:northdevon@nationaltrust.org.uk
END:VEVENT
BEGIN:VEVENT
DTSTART;VALUE=DATE:20250808
DTEND;VALUE=DATE:20250816
DTSTAMP:20260423T112005
CREATED:20250807T091945Z
LAST-MODIFIED:20250807T091945Z
UID:10004370-1754625600-1755230399@www.visitilfracombe.co.uk
SUMMARY:Weekly gig listing
DESCRIPTION:Friday 8 August\nVan Hessing (DJ)\, Thatch\, 6.00\nOllie Clark\, Monkey Puzzle\, 6.30\nWyldwoods\, Larkstone Cafe Bar\, 7.30\nSam Evans\, Crown (West Down)\, 8.00\nJason Howard\, Prince of Wales\, 8.00\nHarvey Joe Hudson\, George & Dragon\, 9.00\nStop the Moats\, Snug & Hyde\, 9.30 \nSaturday 9 August\nJacob Terry\, Hele Bay Pub\, 3.00\nDr Goth (70’s 80’s DJ)\, Prince of Wales\, 8.00\nGrizzly & The Grasshoppers\, HARTA Retreat\, 8.30 (ticketed)\nThe Jukes\, George & Dragon\, 9.00\nWyldwoods\, Sandpiper\, 9.00\nThe Groove Collective\, Wellington Arms\, 9.30 \nSunday 10 August\nOpen Mic Session\, Sandpiper\, 3.00\nPeter Bruntnell\, HARTA Retreat\, 3.00\nSteve Optix and Van Hessing\, Lime Kiln Cafe & Bar\, 12.00\nThe Embezzlers\, Captain Jack’s\, (Woolacombe)\, 4.00\nDJ Pete Robinson + Sonic Fusion\, Larkstone Cafe Bar\, 5.00 (Soapbox race after party)\nRick Tucker\, Wellington Arms (garden)\, 5.00 \nMonday 11 August\nMaddie Jane Warren\, Monkey Puzzle\, 6.00 \n  \n\n\n\n\n\nFull listing maintained at Live Music in Ilfracombe (featured post)
URL:https://www.visitilfracombe.co.uk/event/weekly-gig-listing-9/
LOCATION:Ilfracombe\, Ilfracombe\, Devon\, United Kingdom
CATEGORIES:Ilfracombe Events
ATTACH;FMTTYPE=image/jpeg:https://www.visitilfracombe.co.uk/wp-content/uploads/2025/08/Music.jpg
END:VEVENT
BEGIN:VEVENT
DTSTART;TZID=Europe/London:20250808T110000
DTEND;TZID=Europe/London:20250808T160000
DTSTAMP:20260423T112005
CREATED:20250720T102134Z
LAST-MODIFIED:20250730T081149Z
UID:10002460-1754650800-1754668800@www.visitilfracombe.co.uk
SUMMARY:Arts & Crafts Fair
DESCRIPTION:Beautiful local art and crafts\, perfect for a gift or as a treat for yourself.\nLight refreshments available. Both cash and card payments are accepted.\nCar park adjacent to the Memorial Hall (cash payments in the honesty box by the entrance or pay by card at the Old Schoolroom Craft Gallery opposite).\nEveryone will be made most welcome.
URL:https://www.visitilfracombe.co.uk/event/arts-crafts-fair/2025-08-08/
LOCATION:Lee Memorial Hall\, Lee\, EX34 8LW
CATEGORIES:Ilfracombe Events
ATTACH;FMTTYPE=image/jpeg:https://www.visitilfracombe.co.uk/wp-content/uploads/2025/07/Lee-517391418_23967228826218863_254301904626098003_n.jpg
END:VEVENT
BEGIN:VEVENT
DTSTART;TZID=Europe/London:20250808T160000
DTEND;TZID=Europe/London:20250808T213000
DTSTAMP:20260423T112005
CREATED:20250712T095608Z
LAST-MODIFIED:20250818T124448Z
UID:10001619-1754668800-1754688600@www.visitilfracombe.co.uk
SUMMARY:Thatched Inn Beer Garden Sessions
DESCRIPTION:Join us on Sunny Fridays throughout the summer at the Thatched Inn beer garden for great tunes spun by awesome local DJs\, a delicious menu\, drinks\, and fun vibes!
URL:https://www.visitilfracombe.co.uk/event/thatched-inn-beer-garden-sessions-2/2025-08-08/
LOCATION:The Thatched Inn\, The Thatched Inn\, Hillsborough Rd\, Ilfracombe\, EX34 9PG
CATEGORIES:Ilfracombe Events
ATTACH;FMTTYPE=image/jpeg:https://www.visitilfracombe.co.uk/wp-content/uploads/2025/07/IMG-20250712-WA0001.jpg
END:VEVENT
BEGIN:VEVENT
DTSTART;VALUE=DATE:20250809
DTEND;VALUE=DATE:20250811
DTSTAMP:20260423T112005
CREATED:20250730T080212Z
LAST-MODIFIED:20250730T080654Z
UID:10003222-1754712000-1754798399@www.visitilfracombe.co.uk
SUMMARY:National Trust Rockpool Rambles
DESCRIPTION:Rockpool Rambles are back from Thursday 24 July  Join the Beach Rangers to seek out crabs\, starfish and sea snails and learn about their lives.  Feeling adventurous? Try a night-time ramble with UV torches and uncover the secrets of the seashore after dark.£5 per person daytime / £8 per person night-time. To find out more\, check times and book\, please visit: https://bit.ly/EventsAtWoolacombeNT \n\nAll children welcome. Under 14s must be accompanied. Not suitable for dogs.
URL:https://www.visitilfracombe.co.uk/event/national-trust-rockpool-rambles/2025-08-09/
LOCATION:Woolacombe\, EX34 7DL\, United Kingdom
CATEGORIES:North Devon Events
ATTACH;FMTTYPE=image/jpeg:https://www.visitilfracombe.co.uk/wp-content/uploads/2025/07/515269131_1151203223717761_4466959625952900722_n.jpg
ORGANIZER;CN="North Devon National Trust":MAILTO:northdevon@nationaltrust.org.uk
END:VEVENT
BEGIN:VEVENT
DTSTART;TZID=Europe/London:20250809T110000
DTEND;TZID=Europe/London:20250809T160000
DTSTAMP:20260423T112005
CREATED:20250720T102134Z
LAST-MODIFIED:20250730T081149Z
UID:10002461-1754737200-1754755200@www.visitilfracombe.co.uk
SUMMARY:Arts & Crafts Fair
DESCRIPTION:Beautiful local art and crafts\, perfect for a gift or as a treat for yourself.\nLight refreshments available. Both cash and card payments are accepted.\nCar park adjacent to the Memorial Hall (cash payments in the honesty box by the entrance or pay by card at the Old Schoolroom Craft Gallery opposite).\nEveryone will be made most welcome.
URL:https://www.visitilfracombe.co.uk/event/arts-crafts-fair/2025-08-09/
LOCATION:Lee Memorial Hall\, Lee\, EX34 8LW
CATEGORIES:Ilfracombe Events
ATTACH;FMTTYPE=image/jpeg:https://www.visitilfracombe.co.uk/wp-content/uploads/2025/07/Lee-517391418_23967228826218863_254301904626098003_n.jpg
END:VEVENT
BEGIN:VEVENT
DTSTART;TZID=Europe/London:20250809T190000
DTEND;TZID=Europe/London:20250809T230000
DTSTAMP:20260423T112005
CREATED:20250718T083831Z
LAST-MODIFIED:20250806T090532Z
UID:10002053-1754766000-1754780400@www.visitilfracombe.co.uk
SUMMARY:Club Tropicana 80s/90s Disco
DESCRIPTION:Raising funds for Winter Wonderland \nFancy Dress optional – prize for the best one
URL:https://www.visitilfracombe.co.uk/event/club-tropicana80s-90s-disco/
LOCATION:North Devon Resort\, North Devon Resort\, Marlborough Road\, Ilfracombe\, Devon\, EX34 8PF
CATEGORIES:Ilfracombe Events
ATTACH;FMTTYPE=image/jpeg:https://www.visitilfracombe.co.uk/wp-content/uploads/2025/07/Club-527316210_10234565782199402_8175834497695039695_n.jpg
END:VEVENT
BEGIN:VEVENT
DTSTART;VALUE=DATE:20250810
DTEND;VALUE=DATE:20250812
DTSTAMP:20260423T112005
CREATED:20250730T080212Z
LAST-MODIFIED:20250730T080654Z
UID:10003223-1754798400-1754884799@www.visitilfracombe.co.uk
SUMMARY:National Trust Rockpool Rambles
DESCRIPTION:Rockpool Rambles are back from Thursday 24 July  Join the Beach Rangers to seek out crabs\, starfish and sea snails and learn about their lives.  Feeling adventurous? Try a night-time ramble with UV torches and uncover the secrets of the seashore after dark.£5 per person daytime / £8 per person night-time. To find out more\, check times and book\, please visit: https://bit.ly/EventsAtWoolacombeNT \n\nAll children welcome. Under 14s must be accompanied. Not suitable for dogs.
URL:https://www.visitilfracombe.co.uk/event/national-trust-rockpool-rambles/2025-08-10/
LOCATION:Woolacombe\, EX34 7DL\, United Kingdom
CATEGORIES:North Devon Events
ATTACH;FMTTYPE=image/jpeg:https://www.visitilfracombe.co.uk/wp-content/uploads/2025/07/515269131_1151203223717761_4466959625952900722_n.jpg
ORGANIZER;CN="North Devon National Trust":MAILTO:northdevon@nationaltrust.org.uk
END:VEVENT
BEGIN:VEVENT
DTSTART;TZID=Europe/London:20250810T100000
DTEND;TZID=Europe/London:20250810T130000
DTSTAMP:20260423T112005
CREATED:20250314T192209Z
LAST-MODIFIED:20250801T131321Z
UID:10000025-1754820000-1754830800@www.visitilfracombe.co.uk
SUMMARY:Soapbox Derby
DESCRIPTION:Start your engines! \nWe’re gearing up for our first ever Ilfracombe Soapbox Derby — and it’s going to be epic! Join us on Sunday 10th August down Larkstone Lane\, Ilfracombe\, for a day packed with speed\, creativity\, and community fun.
URL:https://www.visitilfracombe.co.uk/event/39395/
LOCATION:Devon
CATEGORIES:Ilfracombe Events
ATTACH;FMTTYPE=image/jpeg:https://www.visitilfracombe.co.uk/wp-content/uploads/2025/03/484448007_1084011860425212_6593873826632719647_n.jpg
END:VEVENT
BEGIN:VEVENT
DTSTART;TZID=Europe/London:20250810T110000
DTEND;TZID=Europe/London:20250810T160000
DTSTAMP:20260423T112005
CREATED:20250720T102134Z
LAST-MODIFIED:20250730T081149Z
UID:10002462-1754823600-1754841600@www.visitilfracombe.co.uk
SUMMARY:Arts & Crafts Fair
DESCRIPTION:Beautiful local art and crafts\, perfect for a gift or as a treat for yourself.\nLight refreshments available. Both cash and card payments are accepted.\nCar park adjacent to the Memorial Hall (cash payments in the honesty box by the entrance or pay by card at the Old Schoolroom Craft Gallery opposite).\nEveryone will be made most welcome.
URL:https://www.visitilfracombe.co.uk/event/arts-crafts-fair/2025-08-10/
LOCATION:Lee Memorial Hall\, Lee\, EX34 8LW
CATEGORIES:Ilfracombe Events
ATTACH;FMTTYPE=image/jpeg:https://www.visitilfracombe.co.uk/wp-content/uploads/2025/07/Lee-517391418_23967228826218863_254301904626098003_n.jpg
END:VEVENT
BEGIN:VEVENT
DTSTART;TZID=Europe/London:20250810T170000
DTEND;TZID=Europe/London:20250810T190000
DTSTAMP:20260423T112005
CREATED:20250806T084628Z
LAST-MODIFIED:20250806T084628Z
UID:10004366-1754845200-1754852400@www.visitilfracombe.co.uk
SUMMARY:Ilfracombe's Official Soapbox Party
DESCRIPTION:
URL:https://www.visitilfracombe.co.uk/event/ilfracombes-official-soapbox-party/
LOCATION:Larkstone Cafe Bar\, Larkstone Cafe Bar\, Larkstone Gardens\, Ilfracombe\, EX34 9QG
CATEGORIES:Ilfracombe Events
ATTACH;FMTTYPE=image/jpeg:https://www.visitilfracombe.co.uk/wp-content/uploads/2025/08/Soapbox-528213347_610427632135858_4796792896695031393_n-1.jpg
END:VEVENT
END:VCALENDAR