BEGIN:VCALENDAR
VERSION:2.0
PRODID:-//Visit Ilfracombe - ECPv6.15.15//NONSGML v1.0//EN
CALSCALE:GREGORIAN
METHOD:PUBLISH
X-ORIGINAL-URL:https://www.visitilfracombe.co.uk
X-WR-CALDESC:Events for Visit Ilfracombe
REFRESH-INTERVAL;VALUE=DURATION:PT1H
X-Robots-Tag:noindex
X-PUBLISHED-TTL:PT1H
BEGIN:VTIMEZONE
TZID:Europe/London
BEGIN:DAYLIGHT
TZOFFSETFROM:+0000
TZOFFSETTO:+0100
TZNAME:BST
DTSTART:20240331T010000
END:DAYLIGHT
BEGIN:STANDARD
TZOFFSETFROM:+0100
TZOFFSETTO:+0000
TZNAME:GMT
DTSTART:20241027T010000
END:STANDARD
BEGIN:DAYLIGHT
TZOFFSETFROM:+0000
TZOFFSETTO:+0100
TZNAME:BST
DTSTART:20250330T010000
END:DAYLIGHT
BEGIN:STANDARD
TZOFFSETFROM:+0100
TZOFFSETTO:+0000
TZNAME:GMT
DTSTART:20251026T010000
END:STANDARD
BEGIN:DAYLIGHT
TZOFFSETFROM:+0000
TZOFFSETTO:+0100
TZNAME:BST
DTSTART:20260329T010000
END:DAYLIGHT
BEGIN:STANDARD
TZOFFSETFROM:+0100
TZOFFSETTO:+0000
TZNAME:GMT
DTSTART:20261025T010000
END:STANDARD
END:VTIMEZONE
BEGIN:VEVENT
DTSTART;VALUE=DATE:20250627
DTEND;VALUE=DATE:20250705
DTSTAMP:20260423T182348
CREATED:20250626T094317Z
LAST-MODIFIED:20250626T094317Z
UID:10001108-1750996800-1751601599@www.visitilfracombe.co.uk
SUMMARY:Weekly gig listing
DESCRIPTION:Here are this weekend’s musical delights in and around Ilfracombe. \nWeekly events\nSaturdays – Sunset Soundtrack with Steve Optix. Combe Martin beach\, 5.00 (until Aug 2nd)\nSundays – Open Mic Session\, Sandpiper\, 3.00\nThursdays – Open Mic\, Prince of Wales\, 8.00\nThursdays – Karaoke with Kat\, Snug & Hyde\, 8.00 \nFriday 27 June\nAmber Louise\, Monkey Puzzle\, 6.30\nA Night at the Musicals\, Castle Inn (Combe Martin)\, 7.30 (ticketed)\nDan Sheehan\, Price of Wales\, 8.00\nRakes Adrift\, George & Dragon\, 9.00 \nSaturday 28 June\nSam Dowden\, Combes Golf Park\, 4.00\nAlan Philips + DJ Richy J + Tommy Deaves\, Pier\, 5.00\nA Night at the Musicals\, Castle Inn (Combe Martin)\, 7.30 (ticketed)\nDino Baptiste\, HARTA Retreat\, 8.30 (ticketed)\nGreater Good Band\, Ship & Pilot\, 9.00\nPeter Bruntnell + band\, George & Dragon\, 9.00\nClashnikovs\, Sandpiper\, 9.00\nNOELFEST ft Falling apart + guests\, Wellington Arms\, 9.30\nEX34 DNB\, Snug & Hyde\, 10-3 \nSunday 29 June\nTwo Rivers WInd Ensemble\, Ilfracombe Bandstand\, 2.00\nDavanya\, Hele Bay Pub\, 3.00 (Maritime Festival fundraiser)\nKaraoke Party\, Wellington Arms\, 5.00 \n\n\n\nFull listing maintained on Facebook at Live Music in Ilfracombe (featured post)
URL:https://www.visitilfracombe.co.uk/event/weekly-gig-listing-3/
LOCATION:Ilfracombe\, Ilfracombe\, Devon\, United Kingdom
CATEGORIES:Ilfracombe Events
ATTACH;FMTTYPE=image/png:https://www.visitilfracombe.co.uk/wp-content/uploads/2025/06/Music-Roundup-graphic.png
END:VEVENT
BEGIN:VEVENT
DTSTART;VALUE=DATE:20250629
DTEND;VALUE=DATE:20250701
DTSTAMP:20260423T182348
CREATED:20250307T125741Z
LAST-MODIFIED:20250717T081927Z
UID:10000019-1751169600-1751255999@www.visitilfracombe.co.uk
SUMMARY:North Devon AONB Marathon & Half Marathon
DESCRIPTION:Marking its 17th year\, this iconic marathon takes place on Sunday\, June 29 and boasts a stunning route that stretches across the South West Coast Path and the North Devon Area of Outstanding Natural Beauty (where the race gets its name). \nThe reputation of this event has grown with runners coming from across the UK and abroad to tackle the legendary course\, which offers as many stunning views as it does challenging hills. The multi-terrain course involves roads\, trails\, beaches\, fields\, steps and the incredible South West Coast Path. \nThose taking part will be starting off from Woolacombe and covering a 10k (6.2 miles)\, half marathon (13.1 miles)\, or full marathon distance (26.2 miles) of gorgeous coastline before celebrating crossing the long-awaited finish line with a delicious cream tea. \nAll monies raised through sponsorship are donated to North Devon Hospice so they can continue to provide free care and support to families who are affected by cancer and other life-limiting illnesses. \nTo find out more and register for this spectacular event go to www.northdevon-aonb.org.uk or search for the race through North Devon Hospice.
URL:https://www.visitilfracombe.co.uk/event/north-devon-aonb-marathon-half-marathon/
LOCATION:Woolacombe\, EX34 7DL\, United Kingdom
CATEGORIES:Community Events,North Devon Events
ATTACH;FMTTYPE=image/jpeg:https://www.visitilfracombe.co.uk/wp-content/uploads/2023/06/AONB-449713944_868217958666313_6191460234195202738_n.jpg
END:VEVENT
BEGIN:VEVENT
DTSTART;TZID=Europe/London:20250701T100000
DTEND;TZID=Europe/London:20250701T120000
DTSTAMP:20260423T182348
CREATED:20250624T125519Z
LAST-MODIFIED:20250717T082418Z
UID:10000719-1751364000-1751371200@www.visitilfracombe.co.uk
SUMMARY:Ilfracombe Monthly hub - for people living with and beyond cancer
DESCRIPTION:Ilfracombe Monthly hub – for people living with and beyond cancer \n*support*coffee*help*tea*advice*cake*chat*company
URL:https://www.visitilfracombe.co.uk/event/ilfracombe-monthly-hub-for-people-living-with-and-beyond-cancer/2025-07-01/
LOCATION:The Lantern\, Lantern Youth & Community Centre\, High Street\, Ilfracombe\, EX34 9QB
CATEGORIES:Community Events
ATTACH;FMTTYPE=image/jpeg:https://www.visitilfracombe.co.uk/wp-content/uploads/2025/06/Ilfracombe-Monthly-Hub.jpg
END:VEVENT
BEGIN:VEVENT
DTSTART;TZID=Europe/London:20250702T100000
DTEND;TZID=Europe/London:20250702T130000
DTSTAMP:20260423T182348
CREATED:20250624T125439Z
LAST-MODIFIED:20250717T144702Z
UID:10000781-1751450400-1751461200@www.visitilfracombe.co.uk
SUMMARY:Wellbeing Wednesday
DESCRIPTION:A weekly Wellbeing Group – based around the 5 steps to wellbeing: Connect\, Be active\, Give\, Learn and Take notice – weekly arts and crafts\, wellbeing walks and free drinks and a light lunch. A very friendly group open to all (designed for age 18+).
URL:https://www.visitilfracombe.co.uk/event/wellbeing-wednesday/2025-07-02/
LOCATION:The Lantern\, Lantern Youth & Community Centre\, High Street\, Ilfracombe\, EX34 9QB
CATEGORIES:Community Events
ATTACH;FMTTYPE=image/jpeg:https://www.visitilfracombe.co.uk/wp-content/uploads/2025/06/Wellbeing-Wednesday.jpg
END:VEVENT
BEGIN:VEVENT
DTSTART;VALUE=DATE:20250704
DTEND;VALUE=DATE:20250712
DTSTAMP:20260423T182348
CREATED:20250704T090811Z
LAST-MODIFIED:20250704T090811Z
UID:10001113-1751601600-1752206399@www.visitilfracombe.co.uk
SUMMARY:Weekly gig listing
DESCRIPTION:Here are this weekend’s musical delights in and around Ilfracombe. \n\nWeekly events\n\n\nSaturdays – Sunset Soundtrack with Steve Optix. Combe Martin beach\, 5.00 (until Aug 2nd)\n\n\nSundays – Open Mic Session\, Sandpiper\, 3.00\n\n\nThursdays – Open Mic\, Prince of Wales\, 8.00\n\n\nThursdays – Karaoke with Kat\, Snug & Hyde\, 8.00\n\n\n\n\n\nFriday 4th July\n\n\nWallace\, Monkey Puzzle\, 6.30\n\n\nPattern Recognition (DJs)\, Dolphin (Combe Martin)\, 8.00\n\n\nTaylor Latham\, Prince of Wales\, 8.00\n\n\nBroken Aerials\, Crown (West Down)\, 8.30\n\n\nJacob Terry\, George & Dragon\, 9.00\n\n\n\nSaturday 5 July\n\n\nAll Things Morris folk music session\, Olive Room\, 5.00\n\n\nThe Nomads\, Chichester Arms (Mortehoe)\, 6.00\n\n\nBroadsands Sessions ft Sexy Toast\, Ilfracombe Princess\, 6.30 (ticketed)\n\n\nGenesis Connected\, Landmark Theatre\, (ticketed)\n\n\nNeversound + SCALLION\, Sandpiper\, 7.00\n\n\nKai Solo\, Prince of Wales\, 8.00\n\n\nJim Crawford\, George & Dragon\, 9.00 (blues)\n\n\n\nSunday 6 July\n\n\nBig joe Bone\, HARTA Retreat\, 4.00\n\n\nAcoustic night\, George & Dragon\, 8.00\n\n\n\n\nFull listing maintained on Facebook at Live Music in Ilfracombe (featured post)
URL:https://www.visitilfracombe.co.uk/event/weekly-gig-listing-4/
LOCATION:Ilfracombe\, Ilfracombe\, Devon\, United Kingdom
CATEGORIES:Ilfracombe Events
ATTACH;FMTTYPE=image/png:https://www.visitilfracombe.co.uk/wp-content/uploads/2025/06/Music-Roundup-graphic.png
END:VEVENT
BEGIN:VEVENT
DTSTART;TZID=Europe/London:20250704T203000
DTEND;TZID=Europe/London:20250704T220000
DTSTAMP:20260423T182348
CREATED:20250704T130420Z
LAST-MODIFIED:20250704T130420Z
UID:10001115-1751661000-1751666400@www.visitilfracombe.co.uk
SUMMARY:Taylor Latham
DESCRIPTION:Tonight we have the incredible Taylor Latham a local singer songwriter and it’s guaranteed to be a phenomenal night of music! Come on down and join us for the fun!
URL:https://www.visitilfracombe.co.uk/event/taylor-latham/
LOCATION:Prince of Wales\, Prince of Wales\, 2 Fore St\, Ilfracombe\, EX34 9ED
CATEGORIES:Ilfracombe Events
ATTACH;FMTTYPE=image/jpeg:https://www.visitilfracombe.co.uk/wp-content/uploads/2025/07/515509389_122112439472911992_4851587204112194036_n.jpg
END:VEVENT
BEGIN:VEVENT
DTSTART;TZID=Europe/London:20250704T210000
DTEND;TZID=Europe/London:20250704T223000
DTSTAMP:20260423T182348
CREATED:20250704T091448Z
LAST-MODIFIED:20250704T091448Z
UID:10001114-1751662800-1751668200@www.visitilfracombe.co.uk
SUMMARY:Jacob Terry at the George & Dragon
DESCRIPTION:Tonight I’ll be back at The George and Dragon Ilfracombe from 9pm for some covers we all know and love and some original music you’ll be singing along to by the end of the night
URL:https://www.visitilfracombe.co.uk/event/jacob-terry-at-the-george-dragon/
LOCATION:George & Dragon Pub\, George & Dragon\, Fore Street\, Ilfracombe\, EX34 9ED
CATEGORIES:Ilfracombe Events
ATTACH;FMTTYPE=image/jpeg:https://www.visitilfracombe.co.uk/wp-content/uploads/2025/07/515493483_1357585162875439_242340918959445783_n.jpg
END:VEVENT
BEGIN:VEVENT
DTSTART;TZID=Europe/London:20250705T090000
DTEND;TZID=Europe/London:20250705T160000
DTSTAMP:20260423T182348
CREATED:20250307T122642Z
LAST-MODIFIED:20250704T125306Z
UID:10000010-1751706000-1751731200@www.visitilfracombe.co.uk
SUMMARY:Ilfracombe Gig Rowing Regatta
DESCRIPTION:See one of the highlights of Ilfracombe’s summer events calendar – the Ilfracombe Pilot Gig Club Regatta. Wander down to the harbour where you can watch the racing in action and cheer on all the rowers. \n \nWe race in boats which are precise replicas of those which were common on our coast 200  years ago.  Each is crafted carefully from Elm wood. \n  \nThere will be a BBQ throughout the day and live posting of results. \nOnce the racing is over and all boats are in the trophy will be presented to the winning team. \nClubs took part from all parts of the South West including Dorset and Cornwall have taken part in our Regattas.  . The categories are:  Ladies B – Mens B – Ladies A – Mens A – Ladies Veterans – Mens Veterans –  Ladies Super veterans – Mens Supervets – Mixed & Junior.
URL:https://www.visitilfracombe.co.uk/event/ilfracombe-gig-rowing-regatta/
LOCATION:Ilfracombe Harbour Area\, The Quay\, Ilfracombe\, Devon
CATEGORIES:Ilfracombe Events
ATTACH;FMTTYPE=image/jpeg:https://www.visitilfracombe.co.uk/wp-content/uploads/2025/03/Gig-Regatta-BC-IMG_0253.jpg
END:VEVENT
BEGIN:VEVENT
DTSTART;TZID=Europe/London:20250705T100000
DTEND;TZID=Europe/London:20250705T123000
DTSTAMP:20260423T182348
CREATED:20250604T154537Z
LAST-MODIFIED:20250717T081926Z
UID:10000138-1751709600-1751718600@www.visitilfracombe.co.uk
SUMMARY:Ilfracombe Farmers' Market
DESCRIPTION:Fresh local and organic produce\, craft\, refreshments and more. \nIlfracombe Farmers Market
URL:https://www.visitilfracombe.co.uk/event/ilfracombe-farmers-market/2025-07-05/
LOCATION:The Lantern\, Lantern Youth & Community Centre\, High Street\, Ilfracombe\, EX34 9QB
CATEGORIES:Community Events,Ilfracombe Events
ATTACH;FMTTYPE=image/jpeg:https://www.visitilfracombe.co.uk/wp-content/uploads/2025/06/Farmers-Market-landscape.jpeg
END:VEVENT
BEGIN:VEVENT
DTSTART;TZID=Europe/London:20250705T100000
DTEND;TZID=Europe/London:20250705T180000
DTSTAMP:20260423T182349
CREATED:20250616T095850Z
LAST-MODIFIED:20250717T082407Z
UID:10000207-1751709600-1751738400@www.visitilfracombe.co.uk
SUMMARY:Fete - Dog Show - Fun Run
DESCRIPTION:A Fun day out for all the family.
URL:https://www.visitilfracombe.co.uk/event/fete-dog-show-fun-run/
LOCATION:West Down Community Park\, West Down\, EX34 8NF
CATEGORIES:Community Events
ATTACH;FMTTYPE=image/jpeg:https://www.visitilfracombe.co.uk/wp-content/uploads/2025/06/July-492420608_1718826162342316_7081330653045991944_n.jpg
END:VEVENT
BEGIN:VEVENT
DTSTART;TZID=Europe/London:20250705T103000
DTEND;TZID=Europe/London:20250705T160000
DTSTAMP:20260423T182349
CREATED:20250307T122352Z
LAST-MODIFIED:20250717T081925Z
UID:10000009-1751711400-1751731200@www.visitilfracombe.co.uk
SUMMARY:All Things Morris
DESCRIPTION:2025 will see 15 Morris sides coming to dance – as well as from Cornwall and the wider Devon they come from as far a field as California\, not to forget our local sides\, Ilfracombe Red Petticoats\, Borderline Morris from Barnstaple & Bideford Phoenix. \nOn both Saturday and Sunday there will be Morris dancing around the seafront and harbour areas all day as well as food and craft stalls on the Seafront. \nThe activity starts on Saturday at 10.30am with a parade of dancers and musicians from the Pier to the Seafront. \nThis event is free and is brought to you by Events 4 Ilfracombe. The full daily schedule will be published nearer to the event. \n \nAll Things Morris on Visit Ilfracombe
URL:https://www.visitilfracombe.co.uk/event/all-things-morris/
LOCATION:Devon
CATEGORIES:Community Events,Ilfracombe Events
ORGANIZER;CN="Events 4 Ilfracombe":MAILTO:events4ilfracombe@gmail.com
END:VEVENT
BEGIN:VEVENT
DTSTART;TZID=Europe/London:20250705T170000
DTEND;TZID=Europe/London:20250705T190000
DTSTAMP:20260423T182349
CREATED:20250624T110934Z
LAST-MODIFIED:20250624T110934Z
UID:10001101-1751734800-1751742000@www.visitilfracombe.co.uk
SUMMARY:All Things Morris Folk Session
DESCRIPTION:Free music event
URL:https://www.visitilfracombe.co.uk/event/all-things-morris-folk-session/
LOCATION:The Olive Branch\, 56 Fore Street\, Ilfracombe\, EX34 9DJ\, United Kingdom
CATEGORIES:Ilfracombe Events
ATTACH;FMTTYPE=image/jpeg:https://www.visitilfracombe.co.uk/wp-content/uploads/2025/06/505478000_4086717638283541_1266287116392470041_n.jpg
END:VEVENT
BEGIN:VEVENT
DTSTART;TZID=Europe/London:20250705T193000
DTEND;TZID=Europe/London:20250705T223000
DTSTAMP:20260423T182349
CREATED:20250519T131258Z
LAST-MODIFIED:20250519T131258Z
UID:10000087-1751743800-1751754600@www.visitilfracombe.co.uk
SUMMARY:Genesis Connected
DESCRIPTION:Celebrating the music of Genesis and the biggest selling acts connected: Peter Gabriel\, Phil Collins and Mike & the Mechanics\, this show has an incredible mix of material\, from atmospheric anthems to chart toppers. Hits spanning from the late 70s onwards including; Turn It On Again\, Sledgehammer\, In The Air Tonight\, Over My Shoulder\, Against All Odds\, That’s All\, Solsbury Hill\, You Can’t Hurry Love\, The Living Years and many more. \nThe frontman\, Pete Bultitude\, is not only an incredibly versatile vocalist\, he is also a truly gifted drummer just like Phil Collins\, So expect the show to include the iconic “double drums” element as featured on every Genesis and Phil Collins tour.
URL:https://www.visitilfracombe.co.uk/event/genesis-connected/
LOCATION:The Landmark Theatre\, The Landmark Theatre\, Promenade\, Ilfracombe\, Devon\, EX34 9BZ\, United Kingdom
CATEGORIES:Ilfracombe Events
ATTACH;FMTTYPE=image/jpeg:https://www.visitilfracombe.co.uk/wp-content/uploads/2025/05/genesis-connected-850x478-1.jpg
ORGANIZER;CN="The Landmark Theatre":MAILTO:northdevon.tickets@landmarktheatres.co.uk
END:VEVENT
BEGIN:VEVENT
DTSTART;TZID=Europe/London:20250705T210000
DTEND;TZID=Europe/London:20250705T223000
DTSTAMP:20260423T182349
CREATED:20250702T092254Z
LAST-MODIFIED:20250702T092254Z
UID:10001110-1751749200-1751754600@www.visitilfracombe.co.uk
SUMMARY:Jim Crawford at The George & Dragon
DESCRIPTION:Saturday 5th July the George and Dragon Ilfracombe introduces the fabulously talented Blues singer/ songwriter and guitarist Jim Crawford \, he’s new to us so come and give him a George & Dragon welcome from 9pm
URL:https://www.visitilfracombe.co.uk/event/jim-crawford-at-the-george-dragon/
LOCATION:George & Dragon Pub\, George & Dragon\, Fore Street\, Ilfracombe\, EX34 9ED
CATEGORIES:Ilfracombe Events
ATTACH;FMTTYPE=image/jpeg:https://www.visitilfracombe.co.uk/wp-content/uploads/2025/07/514750635_1179325440664867_6127841414962228537_n.jpg
END:VEVENT
BEGIN:VEVENT
DTSTART;VALUE=DATE:20250706
DTEND;VALUE=DATE:20250708
DTSTAMP:20260423T182349
CREATED:20250307T125946Z
LAST-MODIFIED:20250717T081925Z
UID:10000020-1751774400-1751860799@www.visitilfracombe.co.uk
SUMMARY:Croyde Ocean Triathlon
DESCRIPTION:Based at the beautiful\, award winning Putsborough Sands the race takes in some of the South West’s most stunning scenery. The start and finish line overlook Putsborough Beach\, a 3 km sandy beach stretching up to Woolacombe with views of Lundy Island in the distance. \nThis Olympic distance course – 1.5km Open water swim\, 40km Bike ride & 12km Run –  is not for the faint hearted. \nA 1.5km ocean swim along Putsborough Beach\, in the Atlantic Ocean\, marshalled by fully qualified lifeguards. Then a 38km road bike course winding its way towards Pickwell Manor and up onto higher ground heading towards Ilfracombe\, through the Fullabrook Wind Farm. With rolling hills and beautiful views\, there is something to see at every turn and plenty of elevation to challenge competitors. Finally a 12km off road run\, a demanding\, hilly & possibly muddy route\, where you might encounter the odd sheep\, a run devised by local athletes to give you fabulous views of three bays: Putsborough\, Saunton and Croyde. It will include a beach run along the famous Croyde surfing Beach and will encompass Baggy Point\, before dropping back into Putsborough. \nJoin us for one of the most fun and challenging events in the triathlon calendar.
URL:https://www.visitilfracombe.co.uk/event/croyde-ocean-triathlon/
LOCATION:Devon
CATEGORIES:Community Events,North Devon Events
ATTACH;FMTTYPE=image/jpeg:https://www.visitilfracombe.co.uk/wp-content/uploads/2019/08/66781536_1623653944433661_5760305499106967552_o-Copy.jpg
END:VEVENT
BEGIN:VEVENT
DTSTART;TZID=Europe/London:20250706T110000
DTEND;TZID=Europe/London:20250706T153000
DTSTAMP:20260423T182349
CREATED:20250527T101002Z
LAST-MODIFIED:20250717T081924Z
UID:10000120-1751799600-1751815800@www.visitilfracombe.co.uk
SUMMARY:All Things Morris & Friends
DESCRIPTION:2025 will see 15 Morris sides coming to dance – as well as from Cornwall and the wider Devon they come from as far a field as California\, not to forget our local sides\, Ilfracombe Red Petticoats\, Borderline Morris from Barnstaple & Bideford Phoenix. \n On Sunday it kicks off at 11am and there will also be our classic & vintage vehicle show ‘Morris & Friends’ all along the seafront with the presentation of prizes at 3pm. The winning Morris in 2024 was a 1937 Morris 8\, Series 2 four door saloon.
URL:https://www.visitilfracombe.co.uk/event/all-things-morris-friends/
LOCATION:Ilfracombe Seafront\, The Promenade\, Ilfracombe\, Devon\, EX34 9BJ\, United Kingdom
CATEGORIES:Community Events,Ilfracombe Events
ATTACH;FMTTYPE=image/jpeg:https://www.visitilfracombe.co.uk/wp-content/uploads/2025/05/2014-Sharon-F-20140713_13343-Copy.jpg
ORGANIZER;CN="Events 4 Ilfracombe":MAILTO:events4ilfracombe@gmail.com
END:VEVENT
END:VCALENDAR