BEGIN:VCALENDAR
VERSION:2.0
PRODID:-//Visit Ilfracombe - ECPv6.15.15//NONSGML v1.0//EN
CALSCALE:GREGORIAN
METHOD:PUBLISH
X-WR-CALNAME:Visit Ilfracombe
X-ORIGINAL-URL:https://www.visitilfracombe.co.uk
X-WR-CALDESC:Events for Visit Ilfracombe
REFRESH-INTERVAL;VALUE=DURATION:PT1H
X-Robots-Tag:noindex
X-PUBLISHED-TTL:PT1H
BEGIN:VTIMEZONE
TZID:Europe/London
BEGIN:DAYLIGHT
TZOFFSETFROM:+0000
TZOFFSETTO:+0100
TZNAME:BST
DTSTART:20240331T010000
END:DAYLIGHT
BEGIN:STANDARD
TZOFFSETFROM:+0100
TZOFFSETTO:+0000
TZNAME:GMT
DTSTART:20241027T010000
END:STANDARD
BEGIN:DAYLIGHT
TZOFFSETFROM:+0000
TZOFFSETTO:+0100
TZNAME:BST
DTSTART:20250330T010000
END:DAYLIGHT
BEGIN:STANDARD
TZOFFSETFROM:+0100
TZOFFSETTO:+0000
TZNAME:GMT
DTSTART:20251026T010000
END:STANDARD
BEGIN:DAYLIGHT
TZOFFSETFROM:+0000
TZOFFSETTO:+0100
TZNAME:BST
DTSTART:20260329T010000
END:DAYLIGHT
BEGIN:STANDARD
TZOFFSETFROM:+0100
TZOFFSETTO:+0000
TZNAME:GMT
DTSTART:20261025T010000
END:STANDARD
END:VTIMEZONE
BEGIN:VEVENT
DTSTART;TZID=Europe/London:20250609T183000
DTEND;TZID=Europe/London:20250609T203000
DTSTAMP:20260423T200416
CREATED:20250528T080809Z
LAST-MODIFIED:20250528T080809Z
UID:10000122-1749493800-1749501000@www.visitilfracombe.co.uk
SUMMARY:Soap Making Workshop
DESCRIPTION:Learn the traditional method of cold press soap making. \nFor more information and how to book Instagram\, Facebook or email handplantshop@yahoo.com
URL:https://www.visitilfracombe.co.uk/event/soap-making-workshop/
LOCATION:Devon
CATEGORIES:Ilfracombe Events
ATTACH;FMTTYPE=image/jpeg:https://www.visitilfracombe.co.uk/wp-content/uploads/2025/05/Messenger_creation_E7B60836-5282-4DAD-8AC8-9903B7D185BF.jpeg
END:VEVENT
BEGIN:VEVENT
DTSTART;TZID=Europe/London:20250612T100000
DTEND;TZID=Europe/London:20250612T220000
DTSTAMP:20260423T200416
CREATED:20250525T134806Z
LAST-MODIFIED:20250605T124205Z
UID:10000110-1749722400-1749765600@www.visitilfracombe.co.uk
SUMMARY:The Out & Wild Pre-Festival Celebration
DESCRIPTION:Welcome to Pride Fest at The Big Sheep \nJoin us for an unforgettable celebration of love\, diversity\, and unity at North Devon’s most vibrant festival. Experience the joy and excitement of Pride Fest the OUT & WILD PRE-FESTIVAL CELEBRATION with live music\, family-friendly activities\, and a welcoming atmosphere for everyone. \n \n  \n 
URL:https://www.visitilfracombe.co.uk/event/the-out-wild-pre-festival-celebration/
LOCATION:The Big Sheep\, The Big Sheep\, Abbotsham Rd\, Abbotsham\, Bideford\, Devon\, EX39 5AP\, United Kingdom
CATEGORIES:North Devon Events
ATTACH;FMTTYPE=image/jpeg:https://www.visitilfracombe.co.uk/wp-content/uploads/2025/05/PrideFest.jpg
ORGANIZER;CN="The Big Sheep":MAILTO:info@thebigsheep.co.uk
END:VEVENT
BEGIN:VEVENT
DTSTART;TZID=Europe/London:20250613T180000
DTEND;TZID=Europe/London:20250613T210000
DTSTAMP:20260423T200416
CREATED:20250605T092554Z
LAST-MODIFIED:20250613T160022Z
UID:10000198-1749837600-1749848400@www.visitilfracombe.co.uk
SUMMARY:2 Silent Discos
DESCRIPTION:Children from 6pm to 7pm \nAdults from 7.30pm to 9pm \nBar and Snacks available
URL:https://www.visitilfracombe.co.uk/event/2-silent-discos/
LOCATION:St. Peter’s Church\, St. Peter's Church\, Highfield Rd\, Ilfracombe\, EX34 9LH
CATEGORIES:Ilfracombe Events
ATTACH;FMTTYPE=image/jpeg:https://www.visitilfracombe.co.uk/wp-content/uploads/2025/06/Silent-Disco-Poster-on-Heading-25-1.jpg
END:VEVENT
BEGIN:VEVENT
DTSTART;TZID=Europe/London:20250613T193000
DTEND;TZID=Europe/London:20250613T213000
DTSTAMP:20260423T200416
CREATED:20250520T084101Z
LAST-MODIFIED:20250520T084205Z
UID:10000095-1749843000-1749850200@www.visitilfracombe.co.uk
SUMMARY:Live Music with The Greater Good
DESCRIPTION:Known for getting the crowd up and dancing\, The Greater Good are a brilliant band visiting us this June! great vibes all round – we can’t wait!\n\n\nFamily Friendly\nFood & Drink Available\nStunning Sea Views\nFree Entry!
URL:https://www.visitilfracombe.co.uk/event/live-music-with-the-greater-good/
LOCATION:Larkstone Cafe Bar\, Larkstone Cafe Bar\, Larkstone Gardens\, Ilfracombe\, EX34 9QG
CATEGORIES:Ilfracombe Events
ATTACH;FMTTYPE=image/jpeg:https://www.visitilfracombe.co.uk/wp-content/uploads/2025/05/Larkstone-GG.jpg
END:VEVENT
BEGIN:VEVENT
DTSTART;VALUE=DATE:20250614
DTEND;VALUE=DATE:20250622
DTSTAMP:20260423T200416
CREATED:20250527T093338Z
LAST-MODIFIED:20250603T111625Z
UID:10000116-1749873600-1750478399@www.visitilfracombe.co.uk
SUMMARY:Ilfracombe Golf Club Open Week
DESCRIPTION:Ilfracombe Golf Club Open Week 2025 is just around the corner!  \n\nSaturday 14th – Friday 20th June – 7 days of fantastic golf on the beautiful North Devon Coast!\n\n\n\nEveryone welcome – come play\, compete & enjoy the views on probably the most attractive golf course in the South West.\n\n\n\nOpen Week 2025\n Sat 14th – Whitbread Trophy (3-ball better ball)\n Sun 15th – Wright Trophy (4-person team)\n Mon 16th – J&L Draper 3x6s + J Stairmand Memorial Mixed Greensomes\n Tues 17th – CQC Men’s Ind Stableford\, ESB Vets Ind Stableford\, Ladies Channel View Ind Stableford\n Wed 18th – Men’s Goodban Memorial\, JFK Scratch Medal\, Ladies Meredith Cup\n Thurs 19th – NDJH Pairs Better Ball\n Fri 20th – RCB Texas Scramble (4-person) + Mixed Goodban Morris Scramble (2 men/2 ladies)\n\n\n\nEnter now via Golf Empire: www.golfempire.co.uk\n\nQuestions?\n 01271 862176\n pro@ilfracombegolfclub.com
URL:https://www.visitilfracombe.co.uk/event/ilfracombe-golf-club-open-week/
LOCATION:Ilfracombe Golf Club\, Ilfracombe Golf Club\, A399\, Hele Bay\, Ilfracombe\, Devon\, EX34 9RT
CATEGORIES:Ilfracombe Events
ATTACH;FMTTYPE=image/jpeg:https://www.visitilfracombe.co.uk/wp-content/uploads/2025/05/Golf-499760463_1297961038433635_252743743634728368_n.jpg
END:VEVENT
BEGIN:VEVENT
DTSTART;TZID=Europe/London:20250614T120000
DTEND;TZID=Europe/London:20250614T150000
DTSTAMP:20260423T200416
CREATED:20250525T140302Z
LAST-MODIFIED:20250525T141140Z
UID:10000113-1749902400-1749913200@www.visitilfracombe.co.uk
SUMMARY:Manor Hall Market
DESCRIPTION:A wonderful range of local wares for sale & delicious toasties too! \n 
URL:https://www.visitilfracombe.co.uk/event/manor-hall-market/
LOCATION:Manor Hall\, Manor Hall\, Berrybarbor\, Ilfracombe\, Devon\, EX34 9SE\, United Kingdom
CATEGORIES:Ilfracombe Events
ATTACH;FMTTYPE=image/jpeg:https://www.visitilfracombe.co.uk/wp-content/uploads/2025/05/June-494792861_1002886455312862_7978180831202252468_n.jpg
END:VEVENT
BEGIN:VEVENT
DTSTART;TZID=Europe/London:20250614T140000
DTEND;TZID=Europe/London:20250614T170000
DTSTAMP:20260423T200416
CREATED:20250519T112948Z
LAST-MODIFIED:20250519T131011Z
UID:10000085-1749909600-1749920400@www.visitilfracombe.co.uk
SUMMARY:Vamos Theatre’s Elevate Taster Workshop
DESCRIPTION:Are you an Early Career Artist interested in non-verbal\, physical story telling? Fancy the chance to be part of Vamos Theatre’s Elevate 2025 FREE four-day training residency in mask and physical theatre?\nVamos Theatre’s Elevate programme is designed to train and inspire Early Career Artists from diverse communities across the UK. \nThe first stage\, open to all\, is a free full mask taster session where participants can immerse themselves in Vamos Theatre’s approach to mask theatre\, creating physical character and devising non-verbal theatre that connects and moves audiences. From these nationwide taster workshops\, we’ll select a group of artists to attend a free residency in September 2025\, where participants will receive intensive training and space to create public performances. \nElevate aims to nurture performers and theatre makers from an early career stage\, offering workshops\, a residency\, online support sessions\, performance opportunities and ongoing connections within the Elevate community over a full year. \nWho is it for? \nThis is suitable for anyone 18 years + who is serious about working in the industry; the company is particular interested in working with artists from the global majority and those from low socio-economic backgrounds.
URL:https://www.visitilfracombe.co.uk/event/vamos-theatres-elevate-taster-workshop/
LOCATION:The Landmark Theatre\, The Landmark Theatre\, Promenade\, Ilfracombe\, Devon\, EX34 9BZ\, United Kingdom
CATEGORIES:Ilfracombe Events
ATTACH;FMTTYPE=image/jpeg:https://www.visitilfracombe.co.uk/wp-content/uploads/2025/05/vamos-1.jpg
ORGANIZER;CN="The Landmark Theatre":MAILTO:northdevon.tickets@landmarktheatres.co.uk
END:VEVENT
BEGIN:VEVENT
DTSTART;TZID=Europe/London:20250614T200000
DTEND;TZID=Europe/London:20250614T230000
DTSTAMP:20260423T200416
CREATED:20250520T085003Z
LAST-MODIFIED:20250520T085003Z
UID:10000097-1749931200-1749942000@www.visitilfracombe.co.uk
SUMMARY:Wilder Wolf\, Stop the Moats + support
DESCRIPTION:Presenting a night of pyschedelic rock and hip-hop!
URL:https://www.visitilfracombe.co.uk/event/wilder-wolf-stop-the-moats-support/
LOCATION:Prince of Wales\, Prince of Wales\, 2 Fore St\, Ilfracombe\, EX34 9ED
CATEGORIES:Ilfracombe Events
ATTACH;FMTTYPE=image/jpeg:https://www.visitilfracombe.co.uk/wp-content/uploads/2025/05/PoW-14-June.jpg
END:VEVENT
END:VCALENDAR