BEGIN:VCALENDAR
VERSION:2.0
PRODID:-//Visit Ilfracombe - ECPv6.15.15//NONSGML v1.0//EN
CALSCALE:GREGORIAN
METHOD:PUBLISH
X-ORIGINAL-URL:https://www.visitilfracombe.co.uk
X-WR-CALDESC:Events for Visit Ilfracombe
REFRESH-INTERVAL;VALUE=DURATION:PT1H
X-Robots-Tag:noindex
X-PUBLISHED-TTL:PT1H
BEGIN:VTIMEZONE
TZID:Europe/London
BEGIN:DAYLIGHT
TZOFFSETFROM:+0000
TZOFFSETTO:+0100
TZNAME:BST
DTSTART:20240331T010000
END:DAYLIGHT
BEGIN:STANDARD
TZOFFSETFROM:+0100
TZOFFSETTO:+0000
TZNAME:GMT
DTSTART:20241027T010000
END:STANDARD
BEGIN:DAYLIGHT
TZOFFSETFROM:+0000
TZOFFSETTO:+0100
TZNAME:BST
DTSTART:20250330T010000
END:DAYLIGHT
BEGIN:STANDARD
TZOFFSETFROM:+0100
TZOFFSETTO:+0000
TZNAME:GMT
DTSTART:20251026T010000
END:STANDARD
BEGIN:DAYLIGHT
TZOFFSETFROM:+0000
TZOFFSETTO:+0100
TZNAME:BST
DTSTART:20260329T010000
END:DAYLIGHT
BEGIN:STANDARD
TZOFFSETFROM:+0100
TZOFFSETTO:+0000
TZNAME:GMT
DTSTART:20261025T010000
END:STANDARD
END:VTIMEZONE
BEGIN:VEVENT
DTSTART;VALUE=DATE:20250430
DTEND;VALUE=DATE:20250506
DTSTAMP:20260423T223446
CREATED:20250307T112154Z
LAST-MODIFIED:20250307T112154Z
UID:10000002-1745985600-1746417599@www.visitilfracombe.co.uk
SUMMARY:The Forces March
DESCRIPTION:The Forces March is a recreation of an epic 135-mile WW2 training march from Ilfracombe\, North Devon to Bulford\, Wiltshire. \nThe 1942 march was undertaken by men who would go on to spearhead the entire D-Day liberation with the assault on Pegasus Bridge \nOpen to runners and walkers\, military and civilians\, teams and individuals\, The Forces March is not a race – it’s an adventure! The event attracts people from all backgrounds and abilities who are inspired by the cause\, the scenery and the challenge. Many return year after year having enjoyed the truly unique event and an incredible bond which forms between those taking part. \nStarting from Ilfracombe Seafront the Forces March is one of the UK’s adventures and is held every year in aid of The Veterans Charity. The event follows the route of the legendary and arduous training march created when the Oxfordshire and Buckinghamshire Light Infantry were sent to Devon to train during World War Two and it was then decided to march the entire regiment back to Bulford\, naturally the event became fiercely contested between the companies. \nFrom Ilfracombe\, through Exmoor\, rural Somerset\, over the Quantock Hills\, across the Somerset Levels and then finally across Salisbury Plain to the finish at Bulford – a total of 134 miles – each stage will be at least 26.2 miles in length – that’s five full marathons in five days! Runners – Walkers – Hand Cyclists – Teams & Individuals all take part. \nThe Forces March is a unique\, life-changing event in which more than 1000 people have participated raising over £500\,000 to support veterans facing hardship and distress. All funds raised go to The Veterans Charity – Please support the marchers as they pass.
URL:https://www.visitilfracombe.co.uk/event/the-forces-march/
LOCATION:Devon
CATEGORIES:Ilfracombe Events
ATTACH;FMTTYPE=image/jpeg:https://www.visitilfracombe.co.uk/wp-content/uploads/2022/04/Forces-March-FM25-Header.jpg
END:VEVENT
BEGIN:VEVENT
DTSTART;VALUE=DATE:20250502
DTEND;VALUE=DATE:20250507
DTSTAMP:20260423T223446
CREATED:20250501T143613Z
LAST-MODIFIED:20250501T143613Z
UID:10000074-1746158400-1746503999@www.visitilfracombe.co.uk
SUMMARY:The Wellington May Bank Holiday Weekend
DESCRIPTION:Join us this May Bank Holiday for a fantastic weekend with 💫 Darts Fun and Duck Racing 🎯 🦆 Fri💫 Live Band 5 Man Down 🎶 Saturday 💫 Live Duo The Kahunas Sun 8pm💫 Bank Holiday KIKI’s BBQ with Quiz & Bingo Monday 5th!
URL:https://www.visitilfracombe.co.uk/event/the-wellington-may-bank-holiday-weekend/
LOCATION:The Wellington Arms\, The Wellington Arms\, 66-67 High Street\, Ilfracombe\, EX34 9QE
CATEGORIES:Ilfracombe Events
ATTACH;FMTTYPE=image/jpeg:https://www.visitilfracombe.co.uk/wp-content/uploads/2025/05/Welly-weekend.jpg
END:VEVENT
BEGIN:VEVENT
DTSTART;TZID=Europe/London:20250502T100000
DTEND;TZID=Europe/London:20250502T120000
DTSTAMP:20260423T223446
CREATED:20250424T111014Z
LAST-MODIFIED:20250424T111014Z
UID:10000066-1746180000-1746187200@www.visitilfracombe.co.uk
SUMMARY:Cruise from Bideford to Ilfracombe
DESCRIPTION:There are still tickets available for the first coastal cruise of this year\, on Friday 2nd May\, departing Bideford at 10.00am.The one way cruise to Ilfracombe takes approximately two hours.To book tickets call us on 01271 863636.
URL:https://www.visitilfracombe.co.uk/event/cruise-from-bideford-to-ilfracombe/
LOCATION:Devon
CATEGORIES:North Devon Events
ATTACH;FMTTYPE=image/jpeg:https://www.visitilfracombe.co.uk/wp-content/uploads/2025/04/492255841_1128867452618865_3542503461911182737_n.jpg
ORGANIZER;CN="The Landmark Trust":MAILTO:info@lundyisland.co.uk
END:VEVENT
BEGIN:VEVENT
DTSTART;TZID=Europe/London:20250502T183000
DTEND;TZID=Europe/London:20250502T200000
DTSTAMP:20260423T223446
CREATED:20250429T083626Z
LAST-MODIFIED:20250429T090239Z
UID:10000067-1746210600-1746216000@www.visitilfracombe.co.uk
SUMMARY:Live Music Friday: Ollie Clarke
DESCRIPTION:Friday Night Live with Ollie Clarke!\nKick off the weekend with live music\, great food\, and an electric atmosphere at Monkey Puzzle! This Friday from 6:30pm\, we’re welcoming the sensational Ollie Clarke to the stage for a night of fantastic tunes and good vibes.\nWhether you’re here for a delicious meal\, a few drinks\, or just the music\, it’s gonna be a night to remember!\nWalk-ins welcome but book your table to get the best spot! \n 
URL:https://www.visitilfracombe.co.uk/event/live-music-friday-ollie-clarke/
LOCATION:Monkey Puzzle Restaurant\, Monkey Puzzle Restaurant\, IHP\, Marlborough Rd\, Ilfracombe\, EX34 8PF
CATEGORIES:Ilfracombe Events
ATTACH;FMTTYPE=image/jpeg:https://www.visitilfracombe.co.uk/wp-content/uploads/2025/04/a6c70a24-eead-4fc5-83d2-f42b3e7c59c7.jpeg
ORGANIZER;CN="Monkey Puzzle Restaurant":MAILTO:hello@monkeypuzzlerestaurant.com
END:VEVENT
BEGIN:VEVENT
DTSTART;TZID=Europe/London:20250502T203000
DTEND;TZID=Europe/London:20250502T220000
DTSTAMP:20260423T223446
CREATED:20250502T072329Z
LAST-MODIFIED:20250502T072329Z
UID:10000075-1746217800-1746223200@www.visitilfracombe.co.uk
SUMMARY:The Wyldwoods
DESCRIPTION:Live music playing your fav pop\, blues\, dance\, country\, folk rock & California.
URL:https://www.visitilfracombe.co.uk/event/the-wyldwoods/
LOCATION:Prince of Wales\, Prince of Wales\, 2 Fore St\, Ilfracombe\, EX34 9ED
CATEGORIES:Ilfracombe Events
ATTACH;FMTTYPE=image/jpeg:https://www.visitilfracombe.co.uk/wp-content/uploads/2025/05/Wyldwoods-PoW.jpg
END:VEVENT
BEGIN:VEVENT
DTSTART;TZID=Europe/London:20250503T140000
DTEND;TZID=Europe/London:20250503T150000
DTSTAMP:20260423T223446
CREATED:20250423T192752Z
LAST-MODIFIED:20250423T192752Z
UID:10000059-1746280800-1746284400@www.visitilfracombe.co.uk
SUMMARY:May Day Fun at the Lifeboat Station
DESCRIPTION:Pop along to the Lifeboat station for Free Zumba on the Beach with Roberto! \nIf that doesn’t take your fancy then there will also be a plant sale taking place at the Lifeboat station\, and cream teas and refreshments will be available. \nBoth events taking place from 2pm.
URL:https://www.visitilfracombe.co.uk/event/may-day-fun-at-the-lifeboat-station/
LOCATION:RNLI Ilfracombe\, RNLI Ilfracombe Lifeboat Station\, Lifeboat House\, Broad St\, Ilfracombe\, Devon\, EX34 9EE\, United Kingdom
CATEGORIES:Ilfracombe Events
ATTACH;FMTTYPE=image/jpeg:https://www.visitilfracombe.co.uk/wp-content/uploads/2025/04/RNLI-May-day.jpg
END:VEVENT
BEGIN:VEVENT
DTSTART;TZID=Europe/London:20250503T183000
DTEND;TZID=Europe/London:20250503T213000
DTSTAMP:20260423T223446
CREATED:20250417T161401Z
LAST-MODIFIED:20250417T161529Z
UID:10000047-1746297000-1746307800@www.visitilfracombe.co.uk
SUMMARY:Funk n' Soul Sun-Set with DJ Pete Robinson
DESCRIPTION:We had Pete play last May and he had everyone dancing the sunset away with his incredible mix of funk and soul classics. His event sold out so quickly last year\, so if wanting to join in on the good times this year\, it’s best to get tickets as early as you can! This will undoubtedly be a sell out again…\n\nThis is a family friendly event. Food\, alcoholic & soft drinks available.
URL:https://www.visitilfracombe.co.uk/event/40320/
LOCATION:Larkstone Cafe Bar\, Larkstone Cafe Bar\, Larkstone Gardens\, Ilfracombe\, EX34 9QG
CATEGORIES:Ilfracombe Events
ATTACH;FMTTYPE=image/jpeg:https://www.visitilfracombe.co.uk/wp-content/uploads/2025/04/Larkstone-3-May-2025.jpg
END:VEVENT
BEGIN:VEVENT
DTSTART;VALUE=DATE:20250504
DTEND;VALUE=DATE:20250506
DTSTAMP:20260423T223446
CREATED:20250318T111635Z
LAST-MODIFIED:20250612T085630Z
UID:10000026-1746331200-1746417599@www.visitilfracombe.co.uk
SUMMARY:Appledore Lifeboat Day
DESCRIPTION:Preparations are well underway for May the 4th\, when we will hold our Lifeboat Day here in Appledore.\n\n\n\nIn the morning our All Weather Lifeboat\, Mollie Hunt will be moored up against Appledore Quay\, so why not come aboard and have a look around. Then join us at our station in the afternoon to meet the crew\, watch on-water displays\, learn about the history of the station and lots\, lots more.\n\n\n\nWe are very proud to have invited some of our emergency service partners\, and local groups to take part in this event. Look out for updates to see who will be joining us on the day!
URL:https://www.visitilfracombe.co.uk/event/appledore-lifeboat-day/
LOCATION:Appledore\, Appledore\, Devon
CATEGORIES:North Devon Events
ATTACH;FMTTYPE=image/jpeg:https://www.visitilfracombe.co.uk/wp-content/uploads/2025/03/Appledore-Lifeboat-Day.jpg
END:VEVENT
BEGIN:VEVENT
DTSTART;TZID=Europe/London:20250504T103000
DTEND;TZID=Europe/London:20250504T130000
DTSTAMP:20260423T223446
CREATED:20250307T112920Z
LAST-MODIFIED:20250611T080756Z
UID:10000003-1746354600-1746363600@www.visitilfracombe.co.uk
SUMMARY:Jack in the Green Celebration
DESCRIPTION:The annual Jack-in-the-Green event is all about releasing the ‘spirit of summer\, a green clad procession complete with giants\, Brigid\, seen in spring as the manifestation of growth and renewal\, are joined by her partner\, Bres\, and a new tree giant\, Thorne\, and drummers makes its way through the town to the seafront. \nMustering from 10.45am in Wilder Road Car Park they parade through the High Street\, Fore Street & St James Place ending at the Clapping Circle above Wildersmouth Beach. \nAt the Clapping Circle where they dance the May Pole children from the audience are invited to join in the dancing\, then ‘Jack’ will be stripped of his leafy coverings to welcome the Spirit of Summer. \nEveryone is welcome to join or watch the May Day parade – just turn up and if possible wear something green. For more details contact Events 4 Ilfracombe or the May Day team at maydayilfracombe@gmail.com \nPhoto by Tim Lamerton
URL:https://www.visitilfracombe.co.uk/event/jack-in-the-green-celebration/
LOCATION:Ilfracombe Seafront\, The Promenade\, Ilfracombe\, Devon\, EX34 9BJ\, United Kingdom
CATEGORIES:Ilfracombe Events
ATTACH;FMTTYPE=image/jpeg:https://www.visitilfracombe.co.uk/wp-content/uploads/2024/05/11-TL-424624432_976960367770006_8314664711712801855_n.jpg
ORGANIZER;CN="Events 4 Ilfracombe":MAILTO:events4ilfracombe@gmail.com
END:VEVENT
BEGIN:VEVENT
DTSTART;TZID=Europe/London:20250504T140000
DTEND;TZID=Europe/London:20250504T180000
DTSTAMP:20260423T223446
CREATED:20250428T114042Z
LAST-MODIFIED:20250428T114042Z
UID:10000069-1746367200-1746381600@www.visitilfracombe.co.uk
SUMMARY:Yuvi in Attendance
DESCRIPTION:International street artist Yuvi is returning to Magenta! We will be hosting a solo show in our Ilfracombe Gallery this bank holiday weekend.
URL:https://www.visitilfracombe.co.uk/event/yuvi-in-attendance/
LOCATION:Magenta Fine Art Gallery\, magenta fine art\, 19 St James Place\, Ilfracombe\, Devon\, EX34 9BJ\, United Kingdom
CATEGORIES:Ilfracombe Events
END:VEVENT
END:VCALENDAR