BEGIN:VCALENDAR
VERSION:2.0
PRODID:-//Visit Ilfracombe - ECPv6.15.15//NONSGML v1.0//EN
CALSCALE:GREGORIAN
METHOD:PUBLISH
X-ORIGINAL-URL:https://www.visitilfracombe.co.uk
X-WR-CALDESC:Events for Visit Ilfracombe
REFRESH-INTERVAL;VALUE=DURATION:PT1H
X-Robots-Tag:noindex
X-PUBLISHED-TTL:PT1H
BEGIN:VTIMEZONE
TZID:Europe/London
BEGIN:DAYLIGHT
TZOFFSETFROM:+0000
TZOFFSETTO:+0100
TZNAME:BST
DTSTART:20290325T010000
END:DAYLIGHT
BEGIN:STANDARD
TZOFFSETFROM:+0100
TZOFFSETTO:+0000
TZNAME:GMT
DTSTART:20291028T010000
END:STANDARD
BEGIN:DAYLIGHT
TZOFFSETFROM:+0000
TZOFFSETTO:+0100
TZNAME:BST
DTSTART:20300331T010000
END:DAYLIGHT
BEGIN:STANDARD
TZOFFSETFROM:+0100
TZOFFSETTO:+0000
TZNAME:GMT
DTSTART:20301027T010000
END:STANDARD
BEGIN:DAYLIGHT
TZOFFSETFROM:+0000
TZOFFSETTO:+0100
TZNAME:BST
DTSTART:20310330T010000
END:DAYLIGHT
BEGIN:STANDARD
TZOFFSETFROM:+0100
TZOFFSETTO:+0000
TZNAME:GMT
DTSTART:20311026T010000
END:STANDARD
END:VTIMEZONE
BEGIN:VEVENT
DTSTART;TZID=Europe/London:20300305T100000
DTEND;TZID=Europe/London:20300305T120000
DTSTAMP:20260420T084554
CREATED:20250624T125519Z
LAST-MODIFIED:20250717T082418Z
UID:10000775-1898935200-1898942400@www.visitilfracombe.co.uk
SUMMARY:Ilfracombe Monthly hub - for people living with and beyond cancer
DESCRIPTION:Ilfracombe Monthly hub – for people living with and beyond cancer \n*support*coffee*help*tea*advice*cake*chat*company
URL:https://www.visitilfracombe.co.uk/event/ilfracombe-monthly-hub-for-people-living-with-and-beyond-cancer/2030-03-05/
LOCATION:The Lantern\, Lantern Youth & Community Centre\, High Street\, Ilfracombe\, EX34 9QB
CATEGORIES:Community Events
ATTACH;FMTTYPE=image/jpeg:https://www.visitilfracombe.co.uk/wp-content/uploads/2025/06/Ilfracombe-Monthly-Hub.jpg
END:VEVENT
BEGIN:VEVENT
DTSTART;TZID=Europe/London:20300306T100000
DTEND;TZID=Europe/London:20300306T130000
DTSTAMP:20260420T084554
CREATED:20250624T125439Z
LAST-MODIFIED:20250717T144702Z
UID:10001025-1899021600-1899032400@www.visitilfracombe.co.uk
SUMMARY:Wellbeing Wednesday
DESCRIPTION:A weekly Wellbeing Group – based around the 5 steps to wellbeing: Connect\, Be active\, Give\, Learn and Take notice – weekly arts and crafts\, wellbeing walks and free drinks and a light lunch. A very friendly group open to all (designed for age 18+).
URL:https://www.visitilfracombe.co.uk/event/wellbeing-wednesday/2030-03-06/
LOCATION:The Lantern\, Lantern Youth & Community Centre\, High Street\, Ilfracombe\, EX34 9QB
CATEGORIES:Community Events
ATTACH;FMTTYPE=image/jpeg:https://www.visitilfracombe.co.uk/wp-content/uploads/2025/06/Wellbeing-Wednesday.jpg
END:VEVENT
BEGIN:VEVENT
DTSTART;TZID=Europe/London:20300313T100000
DTEND;TZID=Europe/London:20300313T130000
DTSTAMP:20260420T084554
CREATED:20250624T125439Z
LAST-MODIFIED:20250717T144702Z
UID:10001026-1899626400-1899637200@www.visitilfracombe.co.uk
SUMMARY:Wellbeing Wednesday
DESCRIPTION:A weekly Wellbeing Group – based around the 5 steps to wellbeing: Connect\, Be active\, Give\, Learn and Take notice – weekly arts and crafts\, wellbeing walks and free drinks and a light lunch. A very friendly group open to all (designed for age 18+).
URL:https://www.visitilfracombe.co.uk/event/wellbeing-wednesday/2030-03-13/
LOCATION:The Lantern\, Lantern Youth & Community Centre\, High Street\, Ilfracombe\, EX34 9QB
CATEGORIES:Community Events
ATTACH;FMTTYPE=image/jpeg:https://www.visitilfracombe.co.uk/wp-content/uploads/2025/06/Wellbeing-Wednesday.jpg
END:VEVENT
BEGIN:VEVENT
DTSTART;TZID=Europe/London:20300313T133000
DTEND;TZID=Europe/London:20300313T150000
DTSTAMP:20260420T084554
CREATED:20250624T125350Z
LAST-MODIFIED:20250717T082355Z
UID:10001097-1899639000-1899644400@www.visitilfracombe.co.uk
SUMMARY:Memory Cafe
DESCRIPTION:A friendly cafe for people with memory problems and their family/friends. \nFree tea\, coffee and cake with optional activities.
URL:https://www.visitilfracombe.co.uk/event/memory-cafe/2030-03-13/
LOCATION:Ilfracombe Museum\, Ilfracombe Museum\, Wilder Road\, Ilfracombe\, EX34 8AF\, United Kingdom
CATEGORIES:Community Events
ATTACH;FMTTYPE=image/jpeg:https://www.visitilfracombe.co.uk/wp-content/uploads/2025/06/The-2nd-Wednesday-of-every-month.jpg
END:VEVENT
BEGIN:VEVENT
DTSTART;TZID=Europe/London:20300320T100000
DTEND;TZID=Europe/London:20300320T130000
DTSTAMP:20260420T084554
CREATED:20250624T125439Z
LAST-MODIFIED:20250717T144702Z
UID:10001027-1900231200-1900242000@www.visitilfracombe.co.uk
SUMMARY:Wellbeing Wednesday
DESCRIPTION:A weekly Wellbeing Group – based around the 5 steps to wellbeing: Connect\, Be active\, Give\, Learn and Take notice – weekly arts and crafts\, wellbeing walks and free drinks and a light lunch. A very friendly group open to all (designed for age 18+).
URL:https://www.visitilfracombe.co.uk/event/wellbeing-wednesday/2030-03-20/
LOCATION:The Lantern\, Lantern Youth & Community Centre\, High Street\, Ilfracombe\, EX34 9QB
CATEGORIES:Community Events
ATTACH;FMTTYPE=image/jpeg:https://www.visitilfracombe.co.uk/wp-content/uploads/2025/06/Wellbeing-Wednesday.jpg
END:VEVENT
BEGIN:VEVENT
DTSTART;TZID=Europe/London:20300327T100000
DTEND;TZID=Europe/London:20300327T130000
DTSTAMP:20260420T084554
CREATED:20250624T125439Z
LAST-MODIFIED:20250717T144702Z
UID:10001028-1900836000-1900846800@www.visitilfracombe.co.uk
SUMMARY:Wellbeing Wednesday
DESCRIPTION:A weekly Wellbeing Group – based around the 5 steps to wellbeing: Connect\, Be active\, Give\, Learn and Take notice – weekly arts and crafts\, wellbeing walks and free drinks and a light lunch. A very friendly group open to all (designed for age 18+).
URL:https://www.visitilfracombe.co.uk/event/wellbeing-wednesday/2030-03-27/
LOCATION:The Lantern\, Lantern Youth & Community Centre\, High Street\, Ilfracombe\, EX34 9QB
CATEGORIES:Community Events
ATTACH;FMTTYPE=image/jpeg:https://www.visitilfracombe.co.uk/wp-content/uploads/2025/06/Wellbeing-Wednesday.jpg
END:VEVENT
BEGIN:VEVENT
DTSTART;TZID=Europe/London:20300402T100000
DTEND;TZID=Europe/London:20300402T120000
DTSTAMP:20260420T084554
CREATED:20250624T125519Z
LAST-MODIFIED:20250717T082418Z
UID:10000776-1901354400-1901361600@www.visitilfracombe.co.uk
SUMMARY:Ilfracombe Monthly hub - for people living with and beyond cancer
DESCRIPTION:Ilfracombe Monthly hub – for people living with and beyond cancer \n*support*coffee*help*tea*advice*cake*chat*company
URL:https://www.visitilfracombe.co.uk/event/ilfracombe-monthly-hub-for-people-living-with-and-beyond-cancer/2030-04-02/
LOCATION:The Lantern\, Lantern Youth & Community Centre\, High Street\, Ilfracombe\, EX34 9QB
CATEGORIES:Community Events
ATTACH;FMTTYPE=image/jpeg:https://www.visitilfracombe.co.uk/wp-content/uploads/2025/06/Ilfracombe-Monthly-Hub.jpg
END:VEVENT
BEGIN:VEVENT
DTSTART;TZID=Europe/London:20300403T100000
DTEND;TZID=Europe/London:20300403T130000
DTSTAMP:20260420T084554
CREATED:20250624T125439Z
LAST-MODIFIED:20250717T144702Z
UID:10001029-1901440800-1901451600@www.visitilfracombe.co.uk
SUMMARY:Wellbeing Wednesday
DESCRIPTION:A weekly Wellbeing Group – based around the 5 steps to wellbeing: Connect\, Be active\, Give\, Learn and Take notice – weekly arts and crafts\, wellbeing walks and free drinks and a light lunch. A very friendly group open to all (designed for age 18+).
URL:https://www.visitilfracombe.co.uk/event/wellbeing-wednesday/2030-04-03/
LOCATION:The Lantern\, Lantern Youth & Community Centre\, High Street\, Ilfracombe\, EX34 9QB
CATEGORIES:Community Events
ATTACH;FMTTYPE=image/jpeg:https://www.visitilfracombe.co.uk/wp-content/uploads/2025/06/Wellbeing-Wednesday.jpg
END:VEVENT
BEGIN:VEVENT
DTSTART;TZID=Europe/London:20300406T100000
DTEND;TZID=Europe/London:20300406T123000
DTSTAMP:20260420T084554
CREATED:20250604T154537Z
LAST-MODIFIED:20250717T081926Z
UID:10000326-1901700000-1901709000@www.visitilfracombe.co.uk
SUMMARY:Ilfracombe Farmers' Market
DESCRIPTION:Fresh local and organic produce\, craft\, refreshments and more. \nIlfracombe Farmers Market
URL:https://www.visitilfracombe.co.uk/event/ilfracombe-farmers-market/2030-04-06/
LOCATION:The Lantern\, Lantern Youth & Community Centre\, High Street\, Ilfracombe\, EX34 9QB
CATEGORIES:Community Events,Ilfracombe Events
ATTACH;FMTTYPE=image/jpeg:https://www.visitilfracombe.co.uk/wp-content/uploads/2025/06/Farmers-Market-landscape.jpeg
END:VEVENT
BEGIN:VEVENT
DTSTART;TZID=Europe/London:20300410T100000
DTEND;TZID=Europe/London:20300410T130000
DTSTAMP:20260420T084554
CREATED:20250624T125439Z
LAST-MODIFIED:20250717T144702Z
UID:10001030-1902045600-1902056400@www.visitilfracombe.co.uk
SUMMARY:Wellbeing Wednesday
DESCRIPTION:A weekly Wellbeing Group – based around the 5 steps to wellbeing: Connect\, Be active\, Give\, Learn and Take notice – weekly arts and crafts\, wellbeing walks and free drinks and a light lunch. A very friendly group open to all (designed for age 18+).
URL:https://www.visitilfracombe.co.uk/event/wellbeing-wednesday/2030-04-10/
LOCATION:The Lantern\, Lantern Youth & Community Centre\, High Street\, Ilfracombe\, EX34 9QB
CATEGORIES:Community Events
ATTACH;FMTTYPE=image/jpeg:https://www.visitilfracombe.co.uk/wp-content/uploads/2025/06/Wellbeing-Wednesday.jpg
END:VEVENT
BEGIN:VEVENT
DTSTART;TZID=Europe/London:20300410T133000
DTEND;TZID=Europe/London:20300410T150000
DTSTAMP:20260420T084554
CREATED:20250624T125350Z
LAST-MODIFIED:20250717T082355Z
UID:10001098-1902058200-1902063600@www.visitilfracombe.co.uk
SUMMARY:Memory Cafe
DESCRIPTION:A friendly cafe for people with memory problems and their family/friends. \nFree tea\, coffee and cake with optional activities.
URL:https://www.visitilfracombe.co.uk/event/memory-cafe/2030-04-10/
LOCATION:Ilfracombe Museum\, Ilfracombe Museum\, Wilder Road\, Ilfracombe\, EX34 8AF\, United Kingdom
CATEGORIES:Community Events
ATTACH;FMTTYPE=image/jpeg:https://www.visitilfracombe.co.uk/wp-content/uploads/2025/06/The-2nd-Wednesday-of-every-month.jpg
END:VEVENT
BEGIN:VEVENT
DTSTART;TZID=Europe/London:20300417T100000
DTEND;TZID=Europe/London:20300417T130000
DTSTAMP:20260420T084554
CREATED:20250624T125439Z
LAST-MODIFIED:20250717T144702Z
UID:10001031-1902650400-1902661200@www.visitilfracombe.co.uk
SUMMARY:Wellbeing Wednesday
DESCRIPTION:A weekly Wellbeing Group – based around the 5 steps to wellbeing: Connect\, Be active\, Give\, Learn and Take notice – weekly arts and crafts\, wellbeing walks and free drinks and a light lunch. A very friendly group open to all (designed for age 18+).
URL:https://www.visitilfracombe.co.uk/event/wellbeing-wednesday/2030-04-17/
LOCATION:The Lantern\, Lantern Youth & Community Centre\, High Street\, Ilfracombe\, EX34 9QB
CATEGORIES:Community Events
ATTACH;FMTTYPE=image/jpeg:https://www.visitilfracombe.co.uk/wp-content/uploads/2025/06/Wellbeing-Wednesday.jpg
END:VEVENT
BEGIN:VEVENT
DTSTART;TZID=Europe/London:20300424T100000
DTEND;TZID=Europe/London:20300424T130000
DTSTAMP:20260420T084554
CREATED:20250624T125439Z
LAST-MODIFIED:20250717T144702Z
UID:10001032-1903255200-1903266000@www.visitilfracombe.co.uk
SUMMARY:Wellbeing Wednesday
DESCRIPTION:A weekly Wellbeing Group – based around the 5 steps to wellbeing: Connect\, Be active\, Give\, Learn and Take notice – weekly arts and crafts\, wellbeing walks and free drinks and a light lunch. A very friendly group open to all (designed for age 18+).
URL:https://www.visitilfracombe.co.uk/event/wellbeing-wednesday/2030-04-24/
LOCATION:The Lantern\, Lantern Youth & Community Centre\, High Street\, Ilfracombe\, EX34 9QB
CATEGORIES:Community Events
ATTACH;FMTTYPE=image/jpeg:https://www.visitilfracombe.co.uk/wp-content/uploads/2025/06/Wellbeing-Wednesday.jpg
END:VEVENT
BEGIN:VEVENT
DTSTART;TZID=Europe/London:20300501T100000
DTEND;TZID=Europe/London:20300501T130000
DTSTAMP:20260420T084554
CREATED:20250624T125439Z
LAST-MODIFIED:20250717T144702Z
UID:10001033-1903860000-1903870800@www.visitilfracombe.co.uk
SUMMARY:Wellbeing Wednesday
DESCRIPTION:A weekly Wellbeing Group – based around the 5 steps to wellbeing: Connect\, Be active\, Give\, Learn and Take notice – weekly arts and crafts\, wellbeing walks and free drinks and a light lunch. A very friendly group open to all (designed for age 18+).
URL:https://www.visitilfracombe.co.uk/event/wellbeing-wednesday/2030-05-01/
LOCATION:The Lantern\, Lantern Youth & Community Centre\, High Street\, Ilfracombe\, EX34 9QB
CATEGORIES:Community Events
ATTACH;FMTTYPE=image/jpeg:https://www.visitilfracombe.co.uk/wp-content/uploads/2025/06/Wellbeing-Wednesday.jpg
END:VEVENT
BEGIN:VEVENT
DTSTART;TZID=Europe/London:20300504T100000
DTEND;TZID=Europe/London:20300504T123000
DTSTAMP:20260420T084554
CREATED:20250604T154537Z
LAST-MODIFIED:20250717T081926Z
UID:10000327-1904119200-1904128200@www.visitilfracombe.co.uk
SUMMARY:Ilfracombe Farmers' Market
DESCRIPTION:Fresh local and organic produce\, craft\, refreshments and more. \nIlfracombe Farmers Market
URL:https://www.visitilfracombe.co.uk/event/ilfracombe-farmers-market/2030-05-04/
LOCATION:The Lantern\, Lantern Youth & Community Centre\, High Street\, Ilfracombe\, EX34 9QB
CATEGORIES:Community Events,Ilfracombe Events
ATTACH;FMTTYPE=image/jpeg:https://www.visitilfracombe.co.uk/wp-content/uploads/2025/06/Farmers-Market-landscape.jpeg
END:VEVENT
BEGIN:VEVENT
DTSTART;TZID=Europe/London:20300507T100000
DTEND;TZID=Europe/London:20300507T120000
DTSTAMP:20260420T084554
CREATED:20250624T125519Z
LAST-MODIFIED:20250717T082418Z
UID:10000777-1904378400-1904385600@www.visitilfracombe.co.uk
SUMMARY:Ilfracombe Monthly hub - for people living with and beyond cancer
DESCRIPTION:Ilfracombe Monthly hub – for people living with and beyond cancer \n*support*coffee*help*tea*advice*cake*chat*company
URL:https://www.visitilfracombe.co.uk/event/ilfracombe-monthly-hub-for-people-living-with-and-beyond-cancer/2030-05-07/
LOCATION:The Lantern\, Lantern Youth & Community Centre\, High Street\, Ilfracombe\, EX34 9QB
CATEGORIES:Community Events
ATTACH;FMTTYPE=image/jpeg:https://www.visitilfracombe.co.uk/wp-content/uploads/2025/06/Ilfracombe-Monthly-Hub.jpg
END:VEVENT
BEGIN:VEVENT
DTSTART;TZID=Europe/London:20300508T100000
DTEND;TZID=Europe/London:20300508T130000
DTSTAMP:20260420T084554
CREATED:20250624T125439Z
LAST-MODIFIED:20250717T144702Z
UID:10001034-1904464800-1904475600@www.visitilfracombe.co.uk
SUMMARY:Wellbeing Wednesday
DESCRIPTION:A weekly Wellbeing Group – based around the 5 steps to wellbeing: Connect\, Be active\, Give\, Learn and Take notice – weekly arts and crafts\, wellbeing walks and free drinks and a light lunch. A very friendly group open to all (designed for age 18+).
URL:https://www.visitilfracombe.co.uk/event/wellbeing-wednesday/2030-05-08/
LOCATION:The Lantern\, Lantern Youth & Community Centre\, High Street\, Ilfracombe\, EX34 9QB
CATEGORIES:Community Events
ATTACH;FMTTYPE=image/jpeg:https://www.visitilfracombe.co.uk/wp-content/uploads/2025/06/Wellbeing-Wednesday.jpg
END:VEVENT
BEGIN:VEVENT
DTSTART;TZID=Europe/London:20300508T133000
DTEND;TZID=Europe/London:20300508T150000
DTSTAMP:20260420T084554
CREATED:20250624T125350Z
LAST-MODIFIED:20250717T082355Z
UID:10001099-1904477400-1904482800@www.visitilfracombe.co.uk
SUMMARY:Memory Cafe
DESCRIPTION:A friendly cafe for people with memory problems and their family/friends. \nFree tea\, coffee and cake with optional activities.
URL:https://www.visitilfracombe.co.uk/event/memory-cafe/2030-05-08/
LOCATION:Ilfracombe Museum\, Ilfracombe Museum\, Wilder Road\, Ilfracombe\, EX34 8AF\, United Kingdom
CATEGORIES:Community Events
ATTACH;FMTTYPE=image/jpeg:https://www.visitilfracombe.co.uk/wp-content/uploads/2025/06/The-2nd-Wednesday-of-every-month.jpg
END:VEVENT
BEGIN:VEVENT
DTSTART;TZID=Europe/London:20300515T100000
DTEND;TZID=Europe/London:20300515T130000
DTSTAMP:20260420T084554
CREATED:20250624T125439Z
LAST-MODIFIED:20250717T144702Z
UID:10001035-1905069600-1905080400@www.visitilfracombe.co.uk
SUMMARY:Wellbeing Wednesday
DESCRIPTION:A weekly Wellbeing Group – based around the 5 steps to wellbeing: Connect\, Be active\, Give\, Learn and Take notice – weekly arts and crafts\, wellbeing walks and free drinks and a light lunch. A very friendly group open to all (designed for age 18+).
URL:https://www.visitilfracombe.co.uk/event/wellbeing-wednesday/2030-05-15/
LOCATION:The Lantern\, Lantern Youth & Community Centre\, High Street\, Ilfracombe\, EX34 9QB
CATEGORIES:Community Events
ATTACH;FMTTYPE=image/jpeg:https://www.visitilfracombe.co.uk/wp-content/uploads/2025/06/Wellbeing-Wednesday.jpg
END:VEVENT
BEGIN:VEVENT
DTSTART;TZID=Europe/London:20300522T100000
DTEND;TZID=Europe/London:20300522T130000
DTSTAMP:20260420T084554
CREATED:20250624T125439Z
LAST-MODIFIED:20250717T144702Z
UID:10001036-1905674400-1905685200@www.visitilfracombe.co.uk
SUMMARY:Wellbeing Wednesday
DESCRIPTION:A weekly Wellbeing Group – based around the 5 steps to wellbeing: Connect\, Be active\, Give\, Learn and Take notice – weekly arts and crafts\, wellbeing walks and free drinks and a light lunch. A very friendly group open to all (designed for age 18+).
URL:https://www.visitilfracombe.co.uk/event/wellbeing-wednesday/2030-05-22/
LOCATION:The Lantern\, Lantern Youth & Community Centre\, High Street\, Ilfracombe\, EX34 9QB
CATEGORIES:Community Events
ATTACH;FMTTYPE=image/jpeg:https://www.visitilfracombe.co.uk/wp-content/uploads/2025/06/Wellbeing-Wednesday.jpg
END:VEVENT
BEGIN:VEVENT
DTSTART;TZID=Europe/London:20300529T100000
DTEND;TZID=Europe/London:20300529T130000
DTSTAMP:20260420T084554
CREATED:20250624T125439Z
LAST-MODIFIED:20250717T144702Z
UID:10001037-1906279200-1906290000@www.visitilfracombe.co.uk
SUMMARY:Wellbeing Wednesday
DESCRIPTION:A weekly Wellbeing Group – based around the 5 steps to wellbeing: Connect\, Be active\, Give\, Learn and Take notice – weekly arts and crafts\, wellbeing walks and free drinks and a light lunch. A very friendly group open to all (designed for age 18+).
URL:https://www.visitilfracombe.co.uk/event/wellbeing-wednesday/2030-05-29/
LOCATION:The Lantern\, Lantern Youth & Community Centre\, High Street\, Ilfracombe\, EX34 9QB
CATEGORIES:Community Events
ATTACH;FMTTYPE=image/jpeg:https://www.visitilfracombe.co.uk/wp-content/uploads/2025/06/Wellbeing-Wednesday.jpg
END:VEVENT
BEGIN:VEVENT
DTSTART;TZID=Europe/London:20300601T100000
DTEND;TZID=Europe/London:20300601T123000
DTSTAMP:20260420T084554
CREATED:20250604T154537Z
LAST-MODIFIED:20250717T081926Z
UID:10000328-1906538400-1906547400@www.visitilfracombe.co.uk
SUMMARY:Ilfracombe Farmers' Market
DESCRIPTION:Fresh local and organic produce\, craft\, refreshments and more. \nIlfracombe Farmers Market
URL:https://www.visitilfracombe.co.uk/event/ilfracombe-farmers-market/2030-06-01/
LOCATION:The Lantern\, Lantern Youth & Community Centre\, High Street\, Ilfracombe\, EX34 9QB
CATEGORIES:Community Events,Ilfracombe Events
ATTACH;FMTTYPE=image/jpeg:https://www.visitilfracombe.co.uk/wp-content/uploads/2025/06/Farmers-Market-landscape.jpeg
END:VEVENT
BEGIN:VEVENT
DTSTART;TZID=Europe/London:20300604T100000
DTEND;TZID=Europe/London:20300604T120000
DTSTAMP:20260420T084554
CREATED:20250624T125519Z
LAST-MODIFIED:20250717T082418Z
UID:10000778-1906797600-1906804800@www.visitilfracombe.co.uk
SUMMARY:Ilfracombe Monthly hub - for people living with and beyond cancer
DESCRIPTION:Ilfracombe Monthly hub – for people living with and beyond cancer \n*support*coffee*help*tea*advice*cake*chat*company
URL:https://www.visitilfracombe.co.uk/event/ilfracombe-monthly-hub-for-people-living-with-and-beyond-cancer/2030-06-04/
LOCATION:The Lantern\, Lantern Youth & Community Centre\, High Street\, Ilfracombe\, EX34 9QB
CATEGORIES:Community Events
ATTACH;FMTTYPE=image/jpeg:https://www.visitilfracombe.co.uk/wp-content/uploads/2025/06/Ilfracombe-Monthly-Hub.jpg
END:VEVENT
BEGIN:VEVENT
DTSTART;TZID=Europe/London:20300605T100000
DTEND;TZID=Europe/London:20300605T130000
DTSTAMP:20260420T084554
CREATED:20250624T125439Z
LAST-MODIFIED:20250717T144702Z
UID:10001038-1906884000-1906894800@www.visitilfracombe.co.uk
SUMMARY:Wellbeing Wednesday
DESCRIPTION:A weekly Wellbeing Group – based around the 5 steps to wellbeing: Connect\, Be active\, Give\, Learn and Take notice – weekly arts and crafts\, wellbeing walks and free drinks and a light lunch. A very friendly group open to all (designed for age 18+).
URL:https://www.visitilfracombe.co.uk/event/wellbeing-wednesday/2030-06-05/
LOCATION:The Lantern\, Lantern Youth & Community Centre\, High Street\, Ilfracombe\, EX34 9QB
CATEGORIES:Community Events
ATTACH;FMTTYPE=image/jpeg:https://www.visitilfracombe.co.uk/wp-content/uploads/2025/06/Wellbeing-Wednesday.jpg
END:VEVENT
BEGIN:VEVENT
DTSTART;TZID=Europe/London:20300612T100000
DTEND;TZID=Europe/London:20300612T130000
DTSTAMP:20260420T084554
CREATED:20250624T125439Z
LAST-MODIFIED:20250717T144702Z
UID:10001039-1907488800-1907499600@www.visitilfracombe.co.uk
SUMMARY:Wellbeing Wednesday
DESCRIPTION:A weekly Wellbeing Group – based around the 5 steps to wellbeing: Connect\, Be active\, Give\, Learn and Take notice – weekly arts and crafts\, wellbeing walks and free drinks and a light lunch. A very friendly group open to all (designed for age 18+).
URL:https://www.visitilfracombe.co.uk/event/wellbeing-wednesday/2030-06-12/
LOCATION:The Lantern\, Lantern Youth & Community Centre\, High Street\, Ilfracombe\, EX34 9QB
CATEGORIES:Community Events
ATTACH;FMTTYPE=image/jpeg:https://www.visitilfracombe.co.uk/wp-content/uploads/2025/06/Wellbeing-Wednesday.jpg
END:VEVENT
BEGIN:VEVENT
DTSTART;TZID=Europe/London:20300612T133000
DTEND;TZID=Europe/London:20300612T150000
DTSTAMP:20260420T084554
CREATED:20250624T125350Z
LAST-MODIFIED:20250717T082355Z
UID:10001100-1907501400-1907506800@www.visitilfracombe.co.uk
SUMMARY:Memory Cafe
DESCRIPTION:A friendly cafe for people with memory problems and their family/friends. \nFree tea\, coffee and cake with optional activities.
URL:https://www.visitilfracombe.co.uk/event/memory-cafe/2030-06-12/
LOCATION:Ilfracombe Museum\, Ilfracombe Museum\, Wilder Road\, Ilfracombe\, EX34 8AF\, United Kingdom
CATEGORIES:Community Events
ATTACH;FMTTYPE=image/jpeg:https://www.visitilfracombe.co.uk/wp-content/uploads/2025/06/The-2nd-Wednesday-of-every-month.jpg
END:VEVENT
BEGIN:VEVENT
DTSTART;TZID=Europe/London:20300619T100000
DTEND;TZID=Europe/London:20300619T130000
DTSTAMP:20260420T084554
CREATED:20250624T125439Z
LAST-MODIFIED:20250717T144702Z
UID:10001040-1908093600-1908104400@www.visitilfracombe.co.uk
SUMMARY:Wellbeing Wednesday
DESCRIPTION:A weekly Wellbeing Group – based around the 5 steps to wellbeing: Connect\, Be active\, Give\, Learn and Take notice – weekly arts and crafts\, wellbeing walks and free drinks and a light lunch. A very friendly group open to all (designed for age 18+).
URL:https://www.visitilfracombe.co.uk/event/wellbeing-wednesday/2030-06-19/
LOCATION:The Lantern\, Lantern Youth & Community Centre\, High Street\, Ilfracombe\, EX34 9QB
CATEGORIES:Community Events
ATTACH;FMTTYPE=image/jpeg:https://www.visitilfracombe.co.uk/wp-content/uploads/2025/06/Wellbeing-Wednesday.jpg
END:VEVENT
BEGIN:VEVENT
DTSTART;TZID=Europe/London:20300626T100000
DTEND;TZID=Europe/London:20300626T130000
DTSTAMP:20260420T084554
CREATED:20250624T125439Z
LAST-MODIFIED:20250717T144702Z
UID:10002049-1908698400-1908709200@www.visitilfracombe.co.uk
SUMMARY:Wellbeing Wednesday
DESCRIPTION:A weekly Wellbeing Group – based around the 5 steps to wellbeing: Connect\, Be active\, Give\, Learn and Take notice – weekly arts and crafts\, wellbeing walks and free drinks and a light lunch. A very friendly group open to all (designed for age 18+).
URL:https://www.visitilfracombe.co.uk/event/wellbeing-wednesday/2030-06-26/
LOCATION:The Lantern\, Lantern Youth & Community Centre\, High Street\, Ilfracombe\, EX34 9QB
CATEGORIES:Community Events
ATTACH;FMTTYPE=image/jpeg:https://www.visitilfracombe.co.uk/wp-content/uploads/2025/06/Wellbeing-Wednesday.jpg
END:VEVENT
BEGIN:VEVENT
DTSTART;TZID=Europe/London:20300703T100000
DTEND;TZID=Europe/London:20300703T130000
DTSTAMP:20260420T084554
CREATED:20250624T125439Z
LAST-MODIFIED:20250717T144702Z
UID:10002050-1909303200-1909314000@www.visitilfracombe.co.uk
SUMMARY:Wellbeing Wednesday
DESCRIPTION:A weekly Wellbeing Group – based around the 5 steps to wellbeing: Connect\, Be active\, Give\, Learn and Take notice – weekly arts and crafts\, wellbeing walks and free drinks and a light lunch. A very friendly group open to all (designed for age 18+).
URL:https://www.visitilfracombe.co.uk/event/wellbeing-wednesday/2030-07-03/
LOCATION:The Lantern\, Lantern Youth & Community Centre\, High Street\, Ilfracombe\, EX34 9QB
CATEGORIES:Community Events
ATTACH;FMTTYPE=image/jpeg:https://www.visitilfracombe.co.uk/wp-content/uploads/2025/06/Wellbeing-Wednesday.jpg
END:VEVENT
BEGIN:VEVENT
DTSTART;TZID=Europe/London:20300710T100000
DTEND;TZID=Europe/London:20300710T130000
DTSTAMP:20260420T084554
CREATED:20250624T125439Z
LAST-MODIFIED:20250717T144702Z
UID:10002051-1909908000-1909918800@www.visitilfracombe.co.uk
SUMMARY:Wellbeing Wednesday
DESCRIPTION:A weekly Wellbeing Group – based around the 5 steps to wellbeing: Connect\, Be active\, Give\, Learn and Take notice – weekly arts and crafts\, wellbeing walks and free drinks and a light lunch. A very friendly group open to all (designed for age 18+).
URL:https://www.visitilfracombe.co.uk/event/wellbeing-wednesday/2030-07-10/
LOCATION:The Lantern\, Lantern Youth & Community Centre\, High Street\, Ilfracombe\, EX34 9QB
CATEGORIES:Community Events
ATTACH;FMTTYPE=image/jpeg:https://www.visitilfracombe.co.uk/wp-content/uploads/2025/06/Wellbeing-Wednesday.jpg
END:VEVENT
END:VCALENDAR