BEGIN:VCALENDAR
VERSION:2.0
PRODID:-//Visit Ilfracombe - ECPv6.15.15//NONSGML v1.0//EN
CALSCALE:GREGORIAN
METHOD:PUBLISH
X-ORIGINAL-URL:https://www.visitilfracombe.co.uk
X-WR-CALDESC:Events for Visit Ilfracombe
REFRESH-INTERVAL;VALUE=DURATION:PT1H
X-Robots-Tag:noindex
X-PUBLISHED-TTL:PT1H
BEGIN:VTIMEZONE
TZID:Europe/London
BEGIN:DAYLIGHT
TZOFFSETFROM:+0000
TZOFFSETTO:+0100
TZNAME:BST
DTSTART:20250330T010000
END:DAYLIGHT
BEGIN:STANDARD
TZOFFSETFROM:+0100
TZOFFSETTO:+0000
TZNAME:GMT
DTSTART:20251026T010000
END:STANDARD
BEGIN:DAYLIGHT
TZOFFSETFROM:+0000
TZOFFSETTO:+0100
TZNAME:BST
DTSTART:20260329T010000
END:DAYLIGHT
BEGIN:STANDARD
TZOFFSETFROM:+0100
TZOFFSETTO:+0000
TZNAME:GMT
DTSTART:20261025T010000
END:STANDARD
BEGIN:DAYLIGHT
TZOFFSETFROM:+0000
TZOFFSETTO:+0100
TZNAME:BST
DTSTART:20270328T010000
END:DAYLIGHT
BEGIN:STANDARD
TZOFFSETFROM:+0100
TZOFFSETTO:+0000
TZNAME:GMT
DTSTART:20271031T010000
END:STANDARD
END:VTIMEZONE
BEGIN:VEVENT
DTSTART;TZID=Europe/London:20260602T100000
DTEND;TZID=Europe/London:20260602T120000
DTSTAMP:20260421T160209
CREATED:20250624T125519Z
LAST-MODIFIED:20250717T082418Z
UID:10000730-1780394400-1780401600@www.visitilfracombe.co.uk
SUMMARY:Ilfracombe Monthly hub - for people living with and beyond cancer
DESCRIPTION:Ilfracombe Monthly hub – for people living with and beyond cancer \n*support*coffee*help*tea*advice*cake*chat*company
URL:https://www.visitilfracombe.co.uk/event/ilfracombe-monthly-hub-for-people-living-with-and-beyond-cancer/2026-06-02/
LOCATION:The Lantern\, Lantern Youth & Community Centre\, High Street\, Ilfracombe\, EX34 9QB
CATEGORIES:Community Events
ATTACH;FMTTYPE=image/jpeg:https://www.visitilfracombe.co.uk/wp-content/uploads/2025/06/Ilfracombe-Monthly-Hub.jpg
END:VEVENT
BEGIN:VEVENT
DTSTART;TZID=Europe/London:20260603T100000
DTEND;TZID=Europe/London:20260603T130000
DTSTAMP:20260421T160209
CREATED:20250624T125439Z
LAST-MODIFIED:20250717T144702Z
UID:10000829-1780480800-1780491600@www.visitilfracombe.co.uk
SUMMARY:Wellbeing Wednesday
DESCRIPTION:A weekly Wellbeing Group – based around the 5 steps to wellbeing: Connect\, Be active\, Give\, Learn and Take notice – weekly arts and crafts\, wellbeing walks and free drinks and a light lunch. A very friendly group open to all (designed for age 18+).
URL:https://www.visitilfracombe.co.uk/event/wellbeing-wednesday/2026-06-03/
LOCATION:The Lantern\, Lantern Youth & Community Centre\, High Street\, Ilfracombe\, EX34 9QB
CATEGORIES:Community Events
ATTACH;FMTTYPE=image/jpeg:https://www.visitilfracombe.co.uk/wp-content/uploads/2025/06/Wellbeing-Wednesday.jpg
END:VEVENT
BEGIN:VEVENT
DTSTART;TZID=Europe/London:20260606T100000
DTEND;TZID=Europe/London:20260606T123000
DTSTAMP:20260421T160209
CREATED:20250604T154537Z
LAST-MODIFIED:20250717T081926Z
UID:10000287-1780740000-1780749000@www.visitilfracombe.co.uk
SUMMARY:Ilfracombe Farmers' Market
DESCRIPTION:Fresh local and organic produce\, craft\, refreshments and more. \nIlfracombe Farmers Market
URL:https://www.visitilfracombe.co.uk/event/ilfracombe-farmers-market/2026-06-06/
LOCATION:The Lantern\, Lantern Youth & Community Centre\, High Street\, Ilfracombe\, EX34 9QB
CATEGORIES:Community Events,Ilfracombe Events
ATTACH;FMTTYPE=image/jpeg:https://www.visitilfracombe.co.uk/wp-content/uploads/2025/06/Farmers-Market-landscape.jpeg
END:VEVENT
BEGIN:VEVENT
DTSTART;TZID=Europe/London:20260607T130000
DTEND;TZID=Europe/London:20260607T200000
DTSTAMP:20260421T160209
CREATED:20260211T102554Z
LAST-MODIFIED:20260211T102554Z
UID:10005931-1780837200-1780862400@www.visitilfracombe.co.uk
SUMMARY:The Big Lunch
DESCRIPTION:A street party with entertainment in Fore Street which will be closed to traffic for the day. A chance to come together for a few hours of food\, friendship and fun. \nStarting at one o’clock and continuing throughout the afternoon and into the evening\, outside the Prince of Wales and the George and Dragon. There will be food\, fun\, and a DJ playing music from each decade 60s\, 70s 80s and 90s. Everyone is welcome.
URL:https://www.visitilfracombe.co.uk/event/the-big-lunch-2/
LOCATION:Fore Street\, Ilfracombe\, Devon\, EX34 9ED
CATEGORIES:Community Events,Ilfracombe Events
ATTACH;FMTTYPE=image/jpeg:https://www.visitilfracombe.co.uk/wp-content/uploads/2026/02/Big-Lunch-286483973_5390369454328479_564512919639330106_n.jpg
END:VEVENT
END:VCALENDAR