BEGIN:VCALENDAR
VERSION:2.0
PRODID:-//Visit Ilfracombe - ECPv6.15.15//NONSGML v1.0//EN
CALSCALE:GREGORIAN
METHOD:PUBLISH
X-ORIGINAL-URL:https://www.visitilfracombe.co.uk
X-WR-CALDESC:Events for Visit Ilfracombe
REFRESH-INTERVAL;VALUE=DURATION:PT1H
X-Robots-Tag:noindex
X-PUBLISHED-TTL:PT1H
BEGIN:VTIMEZONE
TZID:Europe/London
BEGIN:DAYLIGHT
TZOFFSETFROM:+0000
TZOFFSETTO:+0100
TZNAME:BST
DTSTART:20250330T010000
END:DAYLIGHT
BEGIN:STANDARD
TZOFFSETFROM:+0100
TZOFFSETTO:+0000
TZNAME:GMT
DTSTART:20251026T010000
END:STANDARD
BEGIN:DAYLIGHT
TZOFFSETFROM:+0000
TZOFFSETTO:+0100
TZNAME:BST
DTSTART:20260329T010000
END:DAYLIGHT
BEGIN:STANDARD
TZOFFSETFROM:+0100
TZOFFSETTO:+0000
TZNAME:GMT
DTSTART:20261025T010000
END:STANDARD
BEGIN:DAYLIGHT
TZOFFSETFROM:+0000
TZOFFSETTO:+0100
TZNAME:BST
DTSTART:20270328T010000
END:DAYLIGHT
BEGIN:STANDARD
TZOFFSETFROM:+0100
TZOFFSETTO:+0000
TZNAME:GMT
DTSTART:20271031T010000
END:STANDARD
END:VTIMEZONE
BEGIN:VEVENT
DTSTART;TZID=Europe/London:20260401T100000
DTEND;TZID=Europe/London:20260401T130000
DTSTAMP:20260421T142847
CREATED:20250624T125439Z
LAST-MODIFIED:20250717T144702Z
UID:10000820-1775037600-1775048400@www.visitilfracombe.co.uk
SUMMARY:Wellbeing Wednesday
DESCRIPTION:A weekly Wellbeing Group – based around the 5 steps to wellbeing: Connect\, Be active\, Give\, Learn and Take notice – weekly arts and crafts\, wellbeing walks and free drinks and a light lunch. A very friendly group open to all (designed for age 18+).
URL:https://www.visitilfracombe.co.uk/event/wellbeing-wednesday/2026-04-01/
LOCATION:The Lantern\, Lantern Youth & Community Centre\, High Street\, Ilfracombe\, EX34 9QB
CATEGORIES:Community Events
ATTACH;FMTTYPE=image/jpeg:https://www.visitilfracombe.co.uk/wp-content/uploads/2025/06/Wellbeing-Wednesday.jpg
END:VEVENT
BEGIN:VEVENT
DTSTART;TZID=Europe/London:20260403T090000
DTEND;TZID=Europe/London:20260403T110000
DTSTAMP:20260421T142847
CREATED:20260331T083213Z
LAST-MODIFIED:20260331T083213Z
UID:10006093-1775206800-1775214000@www.visitilfracombe.co.uk
SUMMARY:Walk of Witness
DESCRIPTION:Walk of Witness with the Cross from the War Memorial to Capstone Hill
URL:https://www.visitilfracombe.co.uk/event/walk-of-witness/
LOCATION:Ilfracombe\, Ilfracombe\, Devon\, United Kingdom
CATEGORIES:Community Events,Ilfracombe Events
ATTACH;FMTTYPE=image/jpeg:https://www.visitilfracombe.co.uk/wp-content/uploads/2026/03/IMG_0591.jpeg
END:VEVENT
BEGIN:VEVENT
DTSTART;TZID=Europe/London:20260403T190000
DTEND;TZID=Europe/London:20260403T210000
DTSTAMP:20260421T142847
CREATED:20260331T084106Z
LAST-MODIFIED:20260331T084106Z
UID:10006094-1775242800-1775250000@www.visitilfracombe.co.uk
SUMMARY:The Crucifixion
DESCRIPTION:A musical relflexion on the East story at the Church of St Peter ad Vincula
URL:https://www.visitilfracombe.co.uk/event/the-crucifixion/
LOCATION:Combe Martin\, EX34 0LG
CATEGORIES:Community Events,North Devon Events
ATTACH;FMTTYPE=image/jpeg:https://www.visitilfracombe.co.uk/wp-content/uploads/2026/03/IMG_0590.jpeg
END:VEVENT
BEGIN:VEVENT
DTSTART;TZID=Europe/London:20260404T100000
DTEND;TZID=Europe/London:20260404T123000
DTSTAMP:20260421T142847
CREATED:20250604T154537Z
LAST-MODIFIED:20250717T081926Z
UID:10000285-1775296800-1775305800@www.visitilfracombe.co.uk
SUMMARY:Ilfracombe Farmers' Market
DESCRIPTION:Fresh local and organic produce\, craft\, refreshments and more. \nIlfracombe Farmers Market
URL:https://www.visitilfracombe.co.uk/event/ilfracombe-farmers-market/2026-04-04/
LOCATION:The Lantern\, Lantern Youth & Community Centre\, High Street\, Ilfracombe\, EX34 9QB
CATEGORIES:Community Events,Ilfracombe Events
ATTACH;FMTTYPE=image/jpeg:https://www.visitilfracombe.co.uk/wp-content/uploads/2025/06/Farmers-Market-landscape.jpeg
END:VEVENT
BEGIN:VEVENT
DTSTART;TZID=Europe/London:20260404T110000
DTEND;TZID=Europe/London:20260404T150000
DTSTAMP:20260421T142847
CREATED:20260323T170100Z
LAST-MODIFIED:20260323T170233Z
UID:10006065-1775300400-1775314800@www.visitilfracombe.co.uk
SUMMARY:Lifeboat Easter Eggstravaganza
DESCRIPTION:An Easter fair with stalls or crafts\, refreshments\, cakes and games. It is free to come in and everyone is welcome!
URL:https://www.visitilfracombe.co.uk/event/lifeboateaster/
LOCATION:RNLI Ilfracombe\, RNLI Ilfracombe Lifeboat Station\, Lifeboat House\, Broad St\, Ilfracombe\, Devon\, EX34 9EE\, United Kingdom
CATEGORIES:Community Events,Ilfracombe Events
ATTACH;FMTTYPE=image/jpeg:https://www.visitilfracombe.co.uk/wp-content/uploads/2026/03/646055102_1355568909945398_7169947392629778934_n.jpg
ORGANIZER;CN="RNLI Ilfracombe":MAILTO:ilfracombe@rnli.org.uk
END:VEVENT
BEGIN:VEVENT
DTSTART;TZID=Europe/London:20260405T100000
DTEND;TZID=Europe/London:20260405T160000
DTSTAMP:20260421T142847
CREATED:20260211T101749Z
LAST-MODIFIED:20260211T101749Z
UID:10005930-1775383200-1775404800@www.visitilfracombe.co.uk
SUMMARY:Traditional Egg Decorating Competition
DESCRIPTION:Entriest to be displayed by 11am – Winners announced at 2pm
URL:https://www.visitilfracombe.co.uk/event/traditional-egg-decorating-competition/
LOCATION:Seafront\, Ilfracombe\, EX34 9AR
CATEGORIES:Community Events,Ilfracombe Events
ATTACH;FMTTYPE=image/jpeg:https://www.visitilfracombe.co.uk/wp-content/uploads/2026/02/621814410_842755578750579_4360898067205770893_n.jpg
END:VEVENT
END:VCALENDAR