BEGIN:VCALENDAR
VERSION:2.0
PRODID:-//Visit Ilfracombe - ECPv6.15.15//NONSGML v1.0//EN
CALSCALE:GREGORIAN
METHOD:PUBLISH
X-WR-CALNAME:Visit Ilfracombe
X-ORIGINAL-URL:https://www.visitilfracombe.co.uk
X-WR-CALDESC:Events for Visit Ilfracombe
REFRESH-INTERVAL;VALUE=DURATION:PT1H
X-Robots-Tag:noindex
X-PUBLISHED-TTL:PT1H
BEGIN:VTIMEZONE
TZID:Europe/London
BEGIN:DAYLIGHT
TZOFFSETFROM:+0000
TZOFFSETTO:+0100
TZNAME:BST
DTSTART:20240331T010000
END:DAYLIGHT
BEGIN:STANDARD
TZOFFSETFROM:+0100
TZOFFSETTO:+0000
TZNAME:GMT
DTSTART:20241027T010000
END:STANDARD
BEGIN:DAYLIGHT
TZOFFSETFROM:+0000
TZOFFSETTO:+0100
TZNAME:BST
DTSTART:20250330T010000
END:DAYLIGHT
BEGIN:STANDARD
TZOFFSETFROM:+0100
TZOFFSETTO:+0000
TZNAME:GMT
DTSTART:20251026T010000
END:STANDARD
BEGIN:DAYLIGHT
TZOFFSETFROM:+0000
TZOFFSETTO:+0100
TZNAME:BST
DTSTART:20260329T010000
END:DAYLIGHT
BEGIN:STANDARD
TZOFFSETFROM:+0100
TZOFFSETTO:+0000
TZNAME:GMT
DTSTART:20261025T010000
END:STANDARD
END:VTIMEZONE
BEGIN:VEVENT
DTSTART;TZID=Europe/London:20251217T100000
DTEND;TZID=Europe/London:20251217T130000
DTSTAMP:20260423T174951
CREATED:20250624T125439Z
LAST-MODIFIED:20250717T144702Z
UID:10000805-1765965600-1765976400@www.visitilfracombe.co.uk
SUMMARY:Wellbeing Wednesday
DESCRIPTION:A weekly Wellbeing Group – based around the 5 steps to wellbeing: Connect\, Be active\, Give\, Learn and Take notice – weekly arts and crafts\, wellbeing walks and free drinks and a light lunch. A very friendly group open to all (designed for age 18+).
URL:https://www.visitilfracombe.co.uk/event/wellbeing-wednesday/2025-12-17/
LOCATION:The Lantern\, Lantern Youth & Community Centre\, High Street\, Ilfracombe\, EX34 9QB
CATEGORIES:Community Events
ATTACH;FMTTYPE=image/jpeg:https://www.visitilfracombe.co.uk/wp-content/uploads/2025/06/Wellbeing-Wednesday.jpg
END:VEVENT
BEGIN:VEVENT
DTSTART;TZID=Europe/London:20251219T180000
DTEND;TZID=Europe/London:20251219T190000
DTSTAMP:20260423T174951
CREATED:20251202T185806Z
LAST-MODIFIED:20251215T104132Z
UID:10005146-1766167200-1766170800@www.visitilfracombe.co.uk
SUMMARY:Nine Lessons & Carols at Holy Trinity Church
DESCRIPTION:
URL:https://www.visitilfracombe.co.uk/event/nine-lessons-carols-at-holy-trinity-church/
LOCATION:Holy Trinity Church\, Holy Trinity Church\, Church Hill\, Ilfracombe\, EX34 8EE
CATEGORIES:Community Events,Ilfracombe Events
ATTACH;FMTTYPE=image/jpeg:https://www.visitilfracombe.co.uk/wp-content/uploads/2025/12/599707796_1274513374722951_4029905253400276675_n.jpg
END:VEVENT
BEGIN:VEVENT
DTSTART;TZID=Europe/London:20251221T103000
DTEND;TZID=Europe/London:20251221T113000
DTSTAMP:20260423T174951
CREATED:20251214T155742Z
LAST-MODIFIED:20251214T155742Z
UID:10005158-1766313000-1766316600@www.visitilfracombe.co.uk
SUMMARY:Nativity Service - Brookdale Church
DESCRIPTION:Mince pies and other refreshments served after each of these services.
URL:https://www.visitilfracombe.co.uk/event/nativity-service-brookdale-church/
LOCATION:Brookdale Church\, Brookdale Ave\, Ilfracombe\, EX34 8DB\, United Kingdom
CATEGORIES:Community Events,Ilfracombe Events
ATTACH;FMTTYPE=image/jpeg:https://www.visitilfracombe.co.uk/wp-content/uploads/2025/12/599162052_25746290258301578_1593844911968186665_n.jpg
END:VEVENT
BEGIN:VEVENT
DTSTART;TZID=Europe/London:20251221T103000
DTEND;TZID=Europe/London:20251221T120000
DTSTAMP:20260423T174951
CREATED:20251202T185139Z
LAST-MODIFIED:20251202T185139Z
UID:10005144-1766313000-1766318400@www.visitilfracombe.co.uk
SUMMARY:Nativity
DESCRIPTION:The Pip & Jim’s Church Nativity will be held on the 21st December at 10.30am
URL:https://www.visitilfracombe.co.uk/event/nativity/
LOCATION:Pip & Jims Ilfracombe\, Pip & Jims Ilfracombe\, Combe Martin\, Berrynarbor churches\, North Devon\, St James Pl\, Ilfracombe\, EX34 9BJ
CATEGORIES:Community Events,Ilfracombe Events
ATTACH;FMTTYPE=image/jpeg:https://www.visitilfracombe.co.uk/wp-content/uploads/2025/09/589853258_1273439971474350_734537917977422618_n.jpg
END:VEVENT
BEGIN:VEVENT
DTSTART;TZID=Europe/London:20251221T180000
DTEND;TZID=Europe/London:20251221T190000
DTSTAMP:20260423T174951
CREATED:20251217T170907Z
LAST-MODIFIED:20251217T170907Z
UID:10005162-1766340000-1766343600@www.visitilfracombe.co.uk
SUMMARY:Carol Service
DESCRIPTION:
URL:https://www.visitilfracombe.co.uk/event/carol-service/
LOCATION:Ilfracombe Baptist Church\, Ilfracombe Baptist Church\, 119 High St\,\, Ilfracombe\, EX34 9EY
CATEGORIES:Community Events,Ilfracombe Events
ATTACH;FMTTYPE=image/jpeg:https://www.visitilfracombe.co.uk/wp-content/uploads/2025/12/600307115_25439990788998298_6260261946551051682_n.jpg
END:VEVENT
BEGIN:VEVENT
DTSTART;TZID=Europe/London:20251221T183000
DTEND;TZID=Europe/London:20251221T193000
DTSTAMP:20260423T174951
CREATED:20251214T155818Z
LAST-MODIFIED:20251214T155818Z
UID:10005159-1766341800-1766345400@www.visitilfracombe.co.uk
SUMMARY:Carols by Candlelight - Brookdale Church
DESCRIPTION:Mince pies and other refreshments served after each of these services.
URL:https://www.visitilfracombe.co.uk/event/carols-by-candlelight-brookdale-church/
LOCATION:Brookdale Church\, Brookdale Ave\, Ilfracombe\, EX34 8DB\, United Kingdom
CATEGORIES:Community Events,Ilfracombe Events
ATTACH;FMTTYPE=image/jpeg:https://www.visitilfracombe.co.uk/wp-content/uploads/2025/12/599162052_25746290258301578_1593844911968186665_n.jpg
END:VEVENT
BEGIN:VEVENT
DTSTART;TZID=Europe/London:20251221T190000
DTEND;TZID=Europe/London:20251222T200000
DTSTAMP:20260423T174951
CREATED:20251202T185953Z
LAST-MODIFIED:20251202T190057Z
UID:10005148-1766343600-1766433600@www.visitilfracombe.co.uk
SUMMARY:Cloth for the Cradle at St Peter's Church
DESCRIPTION:
URL:https://www.visitilfracombe.co.uk/event/holy-communion-at-holy-trinity-church/
LOCATION:St Peters Church\, Highfield Road\, Ilfracombe\, EX34 9LH
CATEGORIES:Community Events,Ilfracombe Events
ATTACH;FMTTYPE=image/jpeg:https://www.visitilfracombe.co.uk/wp-content/uploads/2025/12/592074193_1262909315883357_6448641237730755379_n.jpg
END:VEVENT
END:VCALENDAR