BEGIN:VCALENDAR
VERSION:2.0
PRODID:-//Visit Ilfracombe - ECPv6.15.15//NONSGML v1.0//EN
CALSCALE:GREGORIAN
METHOD:PUBLISH
X-WR-CALNAME:Visit Ilfracombe
X-ORIGINAL-URL:https://www.visitilfracombe.co.uk
X-WR-CALDESC:Events for Visit Ilfracombe
REFRESH-INTERVAL;VALUE=DURATION:PT1H
X-Robots-Tag:noindex
X-PUBLISHED-TTL:PT1H
BEGIN:VTIMEZONE
TZID:Europe/London
BEGIN:DAYLIGHT
TZOFFSETFROM:+0000
TZOFFSETTO:+0100
TZNAME:BST
DTSTART:20240331T010000
END:DAYLIGHT
BEGIN:STANDARD
TZOFFSETFROM:+0100
TZOFFSETTO:+0000
TZNAME:GMT
DTSTART:20241027T010000
END:STANDARD
BEGIN:DAYLIGHT
TZOFFSETFROM:+0000
TZOFFSETTO:+0100
TZNAME:BST
DTSTART:20250330T010000
END:DAYLIGHT
BEGIN:STANDARD
TZOFFSETFROM:+0100
TZOFFSETTO:+0000
TZNAME:GMT
DTSTART:20251026T010000
END:STANDARD
BEGIN:DAYLIGHT
TZOFFSETFROM:+0000
TZOFFSETTO:+0100
TZNAME:BST
DTSTART:20260329T010000
END:DAYLIGHT
BEGIN:STANDARD
TZOFFSETFROM:+0100
TZOFFSETTO:+0000
TZNAME:GMT
DTSTART:20261025T010000
END:STANDARD
END:VTIMEZONE
BEGIN:VEVENT
DTSTART;VALUE=DATE:20251207
DTEND;VALUE=DATE:20251209
DTSTAMP:20260423T203214
CREATED:20250307T124425Z
LAST-MODIFIED:20251108T160034Z
UID:10004510-1765080000-1765166399@www.visitilfracombe.co.uk
SUMMARY:Winter Wonderland
DESCRIPTION:A Free Community Event \nSanta’s Grotto & Sleigh – Christmas Craft Shopping – Music \nBBQ – Festive Treats at the Mill \nLight Switch on 4pm
URL:https://www.visitilfracombe.co.uk/event/winter-wonderland/2025-12-07/
LOCATION:Ilfracombe\, Ilfracombe\, Devon\, United Kingdom
CATEGORIES:Community Events,Ilfracombe Events
ATTACH;FMTTYPE=image/jpeg:https://www.visitilfracombe.co.uk/wp-content/uploads/2025/03/579627049_840020671742984_5892856468511189775_n.jpg
END:VEVENT
BEGIN:VEVENT
DTSTART;TZID=Europe/London:20251210T100000
DTEND;TZID=Europe/London:20251210T130000
DTSTAMP:20260423T203214
CREATED:20250624T125439Z
LAST-MODIFIED:20250717T144702Z
UID:10000804-1765360800-1765371600@www.visitilfracombe.co.uk
SUMMARY:Wellbeing Wednesday
DESCRIPTION:A weekly Wellbeing Group – based around the 5 steps to wellbeing: Connect\, Be active\, Give\, Learn and Take notice – weekly arts and crafts\, wellbeing walks and free drinks and a light lunch. A very friendly group open to all (designed for age 18+).
URL:https://www.visitilfracombe.co.uk/event/wellbeing-wednesday/2025-12-10/
LOCATION:The Lantern\, Lantern Youth & Community Centre\, High Street\, Ilfracombe\, EX34 9QB
CATEGORIES:Community Events
ATTACH;FMTTYPE=image/jpeg:https://www.visitilfracombe.co.uk/wp-content/uploads/2025/06/Wellbeing-Wednesday.jpg
END:VEVENT
BEGIN:VEVENT
DTSTART;TZID=Europe/London:20251210T133000
DTEND;TZID=Europe/London:20251210T150000
DTSTAMP:20260423T203214
CREATED:20250624T125350Z
LAST-MODIFIED:20250717T082355Z
UID:10001046-1765373400-1765378800@www.visitilfracombe.co.uk
SUMMARY:Memory Cafe
DESCRIPTION:A friendly cafe for people with memory problems and their family/friends. \nFree tea\, coffee and cake with optional activities.
URL:https://www.visitilfracombe.co.uk/event/memory-cafe/2025-12-10/
LOCATION:Ilfracombe Museum\, Ilfracombe Museum\, Wilder Road\, Ilfracombe\, EX34 8AF\, United Kingdom
CATEGORIES:Community Events
ATTACH;FMTTYPE=image/jpeg:https://www.visitilfracombe.co.uk/wp-content/uploads/2025/06/The-2nd-Wednesday-of-every-month.jpg
END:VEVENT
BEGIN:VEVENT
DTSTART;TZID=Europe/London:20251213T100000
DTEND;TZID=Europe/London:20251213T150000
DTSTAMP:20260423T203214
CREATED:20251107T163248Z
LAST-MODIFIED:20251107T163248Z
UID:10005128-1765620000-1765638000@www.visitilfracombe.co.uk
SUMMARY:Ilfracombe Torrs tree planting weekend
DESCRIPTION:Join the National Trust for a weekend of tree planting at Ilfracombe Tours on the 13 & 14 December. Be a part of planting over 10\,000 trees to benefit both people and nature as we work to create a broader range of habitats across the Ilfracombe Tours. \nWhether you love getting your hands dirty\, want to make a real difference\, or simply enjoy spending time outdoors\, this is the perfect opportunity to get involved. No experience is needed\, and all ages are welcome (children must be accompanied by an adult). \nThe planting is part of a major project to restore woodland and improve habitats along North Devon’s coastline. By creating a richer mix of habitats\, the work will help restore fragments of Atlantic rainforest\, capture carbon\, and support a greater diversity of wildlife. It’s all part of the Trust’s wider ambition to see people and nature thriving by building a more resilient landscape. \nEssential kit will be provided\, but please bring your own gloves if you have them. \nLimited parking is available at National Trust Torrs car park\, if you are local please consider walking up. Public car park are also available in town\, including Wilder Road car park and Jubilee Gardens Car Park.
URL:https://www.visitilfracombe.co.uk/event/ilfracombe-torrs-tree-planting-weekend/2025-12-13/
LOCATION:Ilfracombe\, Ilfracombe\, Devon\, United Kingdom
CATEGORIES:Community Events,Ilfracombe Events
ATTACH;FMTTYPE=image/jpeg:https://www.visitilfracombe.co.uk/wp-content/uploads/2025/11/Illfracombe-tours-2.jpg
ORGANIZER;CN="North Devon National Trust":MAILTO:northdevon@nationaltrust.org.uk
END:VEVENT
BEGIN:VEVENT
DTSTART;TZID=Europe/London:20251213T103000
DTEND;TZID=Europe/London:20251213T143000
DTSTAMP:20260423T203214
CREATED:20250919T101749Z
LAST-MODIFIED:20250919T101749Z
UID:10004917-1765621800-1765636200@www.visitilfracombe.co.uk
SUMMARY:Christmas Fair
DESCRIPTION:
URL:https://www.visitilfracombe.co.uk/event/christmas-fair-2/
LOCATION:The Lantern\, Lantern Youth & Community Centre\, High Street\, Ilfracombe\, EX34 9QB
CATEGORIES:Community Events,Ilfracombe Events
ATTACH;FMTTYPE=image/jpeg:https://www.visitilfracombe.co.uk/wp-content/uploads/2025/09/Christmas-Fair-Dec-544931893_2849885921873503_1387327257174613632_n.jpg
END:VEVENT
BEGIN:VEVENT
DTSTART;TZID=Europe/London:20251213T110000
DTEND;TZID=Europe/London:20251213T140000
DTSTAMP:20260423T203214
CREATED:20250919T095847Z
LAST-MODIFIED:20250919T095847Z
UID:10004547-1765623600-1765634400@www.visitilfracombe.co.uk
SUMMARY:The Big Parish Christmas Craft Fayre
DESCRIPTION:
URL:https://www.visitilfracombe.co.uk/event/the-big-parish-christmas-craft-fayre/
LOCATION:Holy Trinity Church\, Holy Trinity Church\, Church Hill\, Ilfracombe\, EX34 8EE
CATEGORIES:Community Events,Ilfracombe Events
ATTACH;FMTTYPE=image/jpeg:https://www.visitilfracombe.co.uk/wp-content/uploads/2025/09/550225156_1199698362204453_5020581906629754968_n.jpg
END:VEVENT
BEGIN:VEVENT
DTSTART;TZID=Europe/London:20251213T130000
DTEND;TZID=Europe/London:20251213T190000
DTSTAMP:20260423T203214
CREATED:20250919T100652Z
LAST-MODIFIED:20250919T100652Z
UID:10004548-1765630800-1765652400@www.visitilfracombe.co.uk
SUMMARY:Christmas Market
DESCRIPTION:
URL:https://www.visitilfracombe.co.uk/event/christmas-market/
LOCATION:Larkstone Cafe Bar\, Larkstone Cafe Bar\, Larkstone Gardens\, Ilfracombe\, EX34 9QG
CATEGORIES:Community Events,Ilfracombe Events
ATTACH;FMTTYPE=image/jpeg:https://www.visitilfracombe.co.uk/wp-content/uploads/2025/09/Larkstone-FB_IMG_1758138898344.jpg
END:VEVENT
BEGIN:VEVENT
DTSTART;TZID=Europe/London:20251214T100000
DTEND;TZID=Europe/London:20251214T150000
DTSTAMP:20260423T203214
CREATED:20251107T163248Z
LAST-MODIFIED:20251107T163248Z
UID:10005129-1765706400-1765724400@www.visitilfracombe.co.uk
SUMMARY:Ilfracombe Torrs tree planting weekend
DESCRIPTION:Join the National Trust for a weekend of tree planting at Ilfracombe Tours on the 13 & 14 December. Be a part of planting over 10\,000 trees to benefit both people and nature as we work to create a broader range of habitats across the Ilfracombe Tours. \nWhether you love getting your hands dirty\, want to make a real difference\, or simply enjoy spending time outdoors\, this is the perfect opportunity to get involved. No experience is needed\, and all ages are welcome (children must be accompanied by an adult). \nThe planting is part of a major project to restore woodland and improve habitats along North Devon’s coastline. By creating a richer mix of habitats\, the work will help restore fragments of Atlantic rainforest\, capture carbon\, and support a greater diversity of wildlife. It’s all part of the Trust’s wider ambition to see people and nature thriving by building a more resilient landscape. \nEssential kit will be provided\, but please bring your own gloves if you have them. \nLimited parking is available at National Trust Torrs car park\, if you are local please consider walking up. Public car park are also available in town\, including Wilder Road car park and Jubilee Gardens Car Park.
URL:https://www.visitilfracombe.co.uk/event/ilfracombe-torrs-tree-planting-weekend/2025-12-14/
LOCATION:Ilfracombe\, Ilfracombe\, Devon\, United Kingdom
CATEGORIES:Community Events,Ilfracombe Events
ATTACH;FMTTYPE=image/jpeg:https://www.visitilfracombe.co.uk/wp-content/uploads/2025/11/Illfracombe-tours-2.jpg
ORGANIZER;CN="North Devon National Trust":MAILTO:northdevon@nationaltrust.org.uk
END:VEVENT
BEGIN:VEVENT
DTSTART;TZID=Europe/London:20251214T183000
DTEND;TZID=Europe/London:20251214T200000
DTSTAMP:20260423T203214
CREATED:20251202T184412Z
LAST-MODIFIED:20251202T184412Z
UID:10005142-1765737000-1765742400@www.visitilfracombe.co.uk
SUMMARY:Carols By Candlelight
DESCRIPTION:Join the yearly carol service from 6.30pm at Pip & Jim’s Church
URL:https://www.visitilfracombe.co.uk/event/carols-by-candlelight/
LOCATION:Pip & Jims Ilfracombe\, Pip & Jims Ilfracombe\, Combe Martin\, Berrynarbor churches\, North Devon\, St James Pl\, Ilfracombe\, EX34 9BJ
CATEGORIES:Community Events,Ilfracombe Events
ATTACH;FMTTYPE=image/jpeg:https://www.visitilfracombe.co.uk/wp-content/uploads/2025/09/589853258_1273439971474350_734537917977422618_n.jpg
END:VEVENT
END:VCALENDAR