BEGIN:VCALENDAR
VERSION:2.0
PRODID:-//Visit Ilfracombe - ECPv6.15.15//NONSGML v1.0//EN
CALSCALE:GREGORIAN
METHOD:PUBLISH
X-ORIGINAL-URL:https://www.visitilfracombe.co.uk
X-WR-CALDESC:Events for Visit Ilfracombe
REFRESH-INTERVAL;VALUE=DURATION:PT1H
X-Robots-Tag:noindex
X-PUBLISHED-TTL:PT1H
BEGIN:VTIMEZONE
TZID:Europe/London
BEGIN:DAYLIGHT
TZOFFSETFROM:+0000
TZOFFSETTO:+0100
TZNAME:BST
DTSTART:20250330T010000
END:DAYLIGHT
BEGIN:STANDARD
TZOFFSETFROM:+0100
TZOFFSETTO:+0000
TZNAME:GMT
DTSTART:20251026T010000
END:STANDARD
BEGIN:DAYLIGHT
TZOFFSETFROM:+0000
TZOFFSETTO:+0100
TZNAME:BST
DTSTART:20260329T010000
END:DAYLIGHT
BEGIN:STANDARD
TZOFFSETFROM:+0100
TZOFFSETTO:+0000
TZNAME:GMT
DTSTART:20261025T010000
END:STANDARD
BEGIN:DAYLIGHT
TZOFFSETFROM:+0000
TZOFFSETTO:+0100
TZNAME:BST
DTSTART:20270328T010000
END:DAYLIGHT
BEGIN:STANDARD
TZOFFSETFROM:+0100
TZOFFSETTO:+0000
TZNAME:GMT
DTSTART:20271031T010000
END:STANDARD
END:VTIMEZONE
BEGIN:VEVENT
DTSTART;VALUE=DATE:20260526
DTEND;VALUE=DATE:20260617
DTSTAMP:20260422T063951
CREATED:20250307T114452Z
LAST-MODIFIED:20260306T163734Z
UID:10000006-1779768000-1781582399@www.visitilfracombe.co.uk
SUMMARY:Waverley Paddle Steamer
DESCRIPTION:Take a cruise along the North Devon coast or visit Lundy Island. \n2025 marked the 50th Anniversary of Waverley’s first ever sailing in preservation. \nBristol Channel sailings start from 26 May and continue on various dates until 15 June. \nTo check all sailings go to  https://waverleyexcursions.co.uk/plan-your-cruise/timetables/. Tickets can then be booked online at https://waverleyexcursions.co.uk/book/ or on board the ship
URL:https://www.visitilfracombe.co.uk/event/waverley-paddle-steamer/
LOCATION:Ilfracombe Harbour Area\, The Quay\, Ilfracombe\, Devon
CATEGORIES:Ilfracombe Events
ATTACH;FMTTYPE=image/jpeg:https://www.visitilfracombe.co.uk/wp-content/uploads/2023/05/WAVERLEY-AC-445798561_2653327671514815_4231203083009465386_n.jpg
ORGANIZER;CN="Waverley Excursions":MAILTO:info@waverleyexcursions.co.uk
END:VEVENT
BEGIN:VEVENT
DTSTART;VALUE=DATE:20260613
DTEND;VALUE=DATE:20260615
DTSTAMP:20260422T063951
CREATED:20251231T110332Z
LAST-MODIFIED:20251231T110625Z
UID:10005205-1781323200-1781409599@www.visitilfracombe.co.uk
SUMMARY:Tabfest 2026
DESCRIPTION:In aid of Tabithas’s Smile Charity lighting up lives with music and theatre \nTabitha’s Smile Charity dedicated to providing young people aged 15-25 with uplifting theatre and musical experiences while they receive treatment for cancer and other life-limiting illnesses. \nFeaturing – Majesty A Tribute To Queen\, Nick Parker and The False Alarms\, The Kahunas\, Yazzy and Fool Custardy
URL:https://www.visitilfracombe.co.uk/event/tabfest-2026/
LOCATION:The Big Sheep\, The Big Sheep\, Abbotsham Rd\, Abbotsham\, Bideford\, Devon\, EX39 5AP\, United Kingdom
CATEGORIES:North Devon Events
ATTACH;FMTTYPE=image/jpeg:https://www.visitilfracombe.co.uk/wp-content/uploads/2025/12/TabsFest-Graphic-Square-NEW.jpg
END:VEVENT
BEGIN:VEVENT
DTSTART;TZID=Europe/London:20260613T110000
DTEND;TZID=Europe/London:20260613T150000
DTSTAMP:20260422T063951
CREATED:20260323T170701Z
LAST-MODIFIED:20260323T170701Z
UID:10006069-1781348400-1781362800@www.visitilfracombe.co.uk
SUMMARY:Lifeboat Heritage Walks
DESCRIPTION:The first of this year’s guided walks exploring Ilfracombe’s rich sea rescue history is on Wednesday 1st April.All the walks are free and there is no need to book. Meet at 11am at the lifeboat station.
URL:https://www.visitilfracombe.co.uk/event/lifeboat-heritage-walks/2026-06-13/
LOCATION:RNLI Ilfracombe\, RNLI Ilfracombe Lifeboat Station\, Lifeboat House\, Broad St\, Ilfracombe\, Devon\, EX34 9EE\, United Kingdom
CATEGORIES:Ilfracombe Events
ATTACH;FMTTYPE=image/jpeg:https://www.visitilfracombe.co.uk/wp-content/uploads/2026/03/653704927_1368219828680306_7747732186140880991_n.jpg
ORGANIZER;CN="RNLI Ilfracombe":MAILTO:ilfracombe@rnli.org.uk
END:VEVENT
BEGIN:VEVENT
DTSTART;TZID=Europe/London:20260613T200000
DTEND;TZID=Europe/London:20260614T010000
DTSTAMP:20260422T063951
CREATED:20260225T151545Z
LAST-MODIFIED:20260225T151545Z
UID:10005984-1781380800-1781398800@www.visitilfracombe.co.uk
SUMMARY:Ladies Night - Jordan's Pleasure Boys
DESCRIPTION:The Ultimate Girls’ Night Out is Heading to North Devon! Scott Jordan’s Pleasure boys are one of the top male strip revue\, performing in the UK and abroad\, and featured in many TV documentaries & reality TV shows. Gather your girl squad and book up for a Saturday night to remember! Enjoy choreographed routines\, and performances that include acrobatics and fire! Following exciting acts there’s a DJ after party . Strictly 18+ only.
URL:https://www.visitilfracombe.co.uk/event/ladies-night-jordans-pleasure-boys/
LOCATION:North Devon Resort\, North Devon Resort\, Marlborough Road\, Ilfracombe\, Devon\, EX34 8PF
CATEGORIES:Ilfracombe Events
ATTACH;FMTTYPE=image/png:https://www.visitilfracombe.co.uk/wp-content/uploads/2026/02/Ladies-Night-1080px-1.png
END:VEVENT
END:VCALENDAR