BEGIN:VCALENDAR
VERSION:2.0
PRODID:-//Visit Ilfracombe - ECPv6.15.15//NONSGML v1.0//EN
CALSCALE:GREGORIAN
METHOD:PUBLISH
X-WR-CALNAME:Visit Ilfracombe
X-ORIGINAL-URL:https://www.visitilfracombe.co.uk
X-WR-CALDESC:Events for Visit Ilfracombe
REFRESH-INTERVAL;VALUE=DURATION:PT1H
X-Robots-Tag:noindex
X-PUBLISHED-TTL:PT1H
BEGIN:VTIMEZONE
TZID:Europe/London
BEGIN:DAYLIGHT
TZOFFSETFROM:+0000
TZOFFSETTO:+0100
TZNAME:BST
DTSTART:20250330T010000
END:DAYLIGHT
BEGIN:STANDARD
TZOFFSETFROM:+0100
TZOFFSETTO:+0000
TZNAME:GMT
DTSTART:20251026T010000
END:STANDARD
BEGIN:DAYLIGHT
TZOFFSETFROM:+0000
TZOFFSETTO:+0100
TZNAME:BST
DTSTART:20260329T010000
END:DAYLIGHT
BEGIN:STANDARD
TZOFFSETFROM:+0100
TZOFFSETTO:+0000
TZNAME:GMT
DTSTART:20261025T010000
END:STANDARD
BEGIN:DAYLIGHT
TZOFFSETFROM:+0000
TZOFFSETTO:+0100
TZNAME:BST
DTSTART:20270328T010000
END:DAYLIGHT
BEGIN:STANDARD
TZOFFSETFROM:+0100
TZOFFSETTO:+0000
TZNAME:GMT
DTSTART:20271031T010000
END:STANDARD
END:VTIMEZONE
BEGIN:VEVENT
DTSTART;VALUE=DATE:20260424
DTEND;VALUE=DATE:20260502
DTSTAMP:20260424T202340
CREATED:20260424T074305Z
LAST-MODIFIED:20260424T074305Z
UID:10006117-1777003200-1777607999@www.visitilfracombe.co.uk
SUMMARY:Embassy Cinema
DESCRIPTION:Friday 24th April to Thursday 30rd April 2026 \nMichael 125mins \nFri 17:00 19:50 Sat 14:00 17:00 19:50 \nSun 14:00 17:00 19:50 Mon Tues Wed 19:00 \nThurs 13:45 17:00 19:50 \nRose of Nevada 115mins \nFri Sat 19:30 Sun 19:30 Mon Tues Weds 18:45 \nThurs 14:15 16:45  19:30 \nProject Hail Mary 155mins \nFri Sat Thurs 19:00  Sun 19:00   \nMon Tue Wed 18:30 \nThe Super Mario Galaxy Movie 95mins \nFri Thur 16:30  Sat Sun 14:20 16:30 \nThe Magic Faraway Tree 110mins \nFri 16.45 Sat Sun 13:45  16:45 \nMother’s Pride 93mins \nThurs 14:00
URL:https://www.visitilfracombe.co.uk/event/embassy-cinema-26/
LOCATION:Embassy Cinema\, 134 High Street\, Ilfracombe\, EX34 9EZ
CATEGORIES:Ilfracombe Events
ATTACH;FMTTYPE=image/jpeg:https://www.visitilfracombe.co.uk/wp-content/uploads/2026/02/Embassy.jpg
END:VEVENT
BEGIN:VEVENT
DTSTART;VALUE=DATE:20260424
DTEND;VALUE=DATE:20260502
DTSTAMP:20260424T202340
CREATED:20260424T160624Z
LAST-MODIFIED:20260424T160624Z
UID:10006118-1777003200-1777607999@www.visitilfracombe.co.uk
SUMMARY:Weekly gig listing
DESCRIPTION:Plenty of live music for us to enjoy this weekend. Lets get out there and swing our pants!! 🤘🎸🎙️🎹🥁🎶😍 \nFriday 24 April\nUp Close With The Blues with Giles Robson\, HARTA Retreat\, 6.00 (ticketed)\nOpen Mic\, Grampus (Lee)\, 8.00\nBodstone Boys\, George & Dragon\, 8.00\nJukebox Karaoke with DJ Ronnie\, Lamb 1893\, 8.30\nHarry Wallace\, Prince of Wales\, 9.00 \nSaturday 25 April\nStange Brew + Radio Sunset\, Larkstone Cafe Bar\, 7.30\nRegional One + Kai Ó Callaghan\, Sandpiper\, 8.00\nAmber\, Crown Duels\, 8.00\nCoral Sings\, Liberal Club\, 8.00\nStop The Moats + Lulu Rennson\, Lamb 1893\, 8.30\nYazzy\, Wellington Arms\, 8.30\nNeirin Big Band\, George & Dragon\, 9.00\nHighway\, Ship and Pilot\, 9.00 \nSunday 26 April\nOpen Mic\, Sandpiper\, 3.00\nSam Dowden HARTA Retreat\, 4.00 \nWednesday 29 April\nWednesdays Children Open Mic\, Royal Britannia\, 7.00\nOpen Mic Night with Sam Dowden\, Bar Electric (Woolacombe)\, 9.00 \nThursday 30 April\nOpen Mic with Richard Woods\, Ship and Pilot\, 7.30\nKaraoke with Danny\, Snug & Hyde\, 8.00 \n\nFull listing maintained on Facebook at Live Music in Ilfracombe (featured post)
URL:https://www.visitilfracombe.co.uk/event/weekly-gig-listing-43/
LOCATION:Ilfracombe\, Ilfracombe\, Devon\, United Kingdom
CATEGORIES:Ilfracombe Events
ATTACH;FMTTYPE=image/jpeg:https://www.visitilfracombe.co.uk/wp-content/uploads/2025/08/Music.jpg
END:VEVENT
BEGIN:VEVENT
DTSTART;TZID=Europe/London:20260424T100000
DTEND;TZID=Europe/London:20260424T160000
DTSTAMP:20260424T202340
CREATED:20260317T093630Z
LAST-MODIFIED:20260317T093630Z
UID:10006012-1777024800-1777046400@www.visitilfracombe.co.uk
SUMMARY:Postcode Week
DESCRIPTION:During Lynton & Barnstaple Railway service running days between the 18th – 26th of April EX & TA postcode residents are invited to enjoy travel for just £2.00. Plus kids under 14 years travel for free! For just £2.00 sit back and enjoy a relaxing train ride\, passengers are entitled to one round trip only. We strongly recommend pre-booking a date and train service to avoid disappointment\, however any remaining tickets will be available on the day. \nYou will need to ensure to bring along proof of residency (a utility bill or similar) or photo ID that includes your address like a drivers license to claim your £2 ride.
URL:https://www.visitilfracombe.co.uk/event/postcode-week/2026-04-24/
LOCATION:Lynton & Barnstaple Railway\, Woody Bay Station\, Martinhoe Cross\, EX31 4RA\, United Kingdom
CATEGORIES:North Devon Events
ATTACH;FMTTYPE=image/jpeg:https://www.visitilfracombe.co.uk/wp-content/uploads/2026/03/L-B-Rail-postcode_week-image1677x1023-crop-autorotate.jpg
END:VEVENT
END:VCALENDAR