BEGIN:VCALENDAR
VERSION:2.0
PRODID:-//Visit Ilfracombe - ECPv6.15.15//NONSGML v1.0//EN
CALSCALE:GREGORIAN
METHOD:PUBLISH
X-ORIGINAL-URL:https://www.visitilfracombe.co.uk
X-WR-CALDESC:Events for Visit Ilfracombe
REFRESH-INTERVAL;VALUE=DURATION:PT1H
X-Robots-Tag:noindex
X-PUBLISHED-TTL:PT1H
BEGIN:VTIMEZONE
TZID:Europe/London
BEGIN:DAYLIGHT
TZOFFSETFROM:+0000
TZOFFSETTO:+0100
TZNAME:BST
DTSTART:20250330T010000
END:DAYLIGHT
BEGIN:STANDARD
TZOFFSETFROM:+0100
TZOFFSETTO:+0000
TZNAME:GMT
DTSTART:20251026T010000
END:STANDARD
BEGIN:DAYLIGHT
TZOFFSETFROM:+0000
TZOFFSETTO:+0100
TZNAME:BST
DTSTART:20260329T010000
END:DAYLIGHT
BEGIN:STANDARD
TZOFFSETFROM:+0100
TZOFFSETTO:+0000
TZNAME:GMT
DTSTART:20261025T010000
END:STANDARD
BEGIN:DAYLIGHT
TZOFFSETFROM:+0000
TZOFFSETTO:+0100
TZNAME:BST
DTSTART:20270328T010000
END:DAYLIGHT
BEGIN:STANDARD
TZOFFSETFROM:+0100
TZOFFSETTO:+0000
TZNAME:GMT
DTSTART:20271031T010000
END:STANDARD
END:VTIMEZONE
BEGIN:VEVENT
DTSTART;VALUE=DATE:20260306
DTEND;VALUE=DATE:20260314
DTSTAMP:20260421T111702
CREATED:20260305T095457Z
LAST-MODIFIED:20260305T095457Z
UID:10005989-1772769600-1773374399@www.visitilfracombe.co.uk
SUMMARY:Embassy Cinema
DESCRIPTION:Friday 06th March to Thursday12th March 2026 \nMother’s Pride 93mins \nFrFri Mon Tue Wed 17:20 19:20 Sat 14:55  17:20 19:20 Sun 15:00 17:20 19:20 Thu 14:15 19:20 \n The Bride! 125mins \nFri Mon Tue 17:00  19:40 Sat 14:00  19:40  \nSun 14:00  17:00  Wed 19:40  \nThu 14:00 17:05 \n Hoppers 105mins \nFri Mon Tue Wed 16:45 Sat Sun 11:45 14:15 16:45 Thu 14:40  16:45 \n Scream 7 113mins \nFri Sat Mon Tue Wed Thu 20:00  Sun 20:00 \n Wuthering Heights 135mins \nSat Wed 17:00  Sun 19:40 \nThurs 19:40 \nGOAT 100mins \nSat Sun 12:30 \n Zootropolis 2 108mins \nSat Sun 11:30 \nEPiC: Elvis Presley In Concert 90mins \nThurs 17:20
URL:https://www.visitilfracombe.co.uk/event/embassy-cinema-20/
LOCATION:Embassy Cinema\, 134 High Street\, Ilfracombe\, EX34 9EZ
CATEGORIES:Ilfracombe Events
ATTACH;FMTTYPE=image/jpeg:https://www.visitilfracombe.co.uk/wp-content/uploads/2026/02/Embassy.jpg
END:VEVENT
BEGIN:VEVENT
DTSTART;VALUE=DATE:20260306
DTEND;VALUE=DATE:20260314
DTSTAMP:20260421T111702
CREATED:20260306T171311Z
LAST-MODIFIED:20260306T171311Z
UID:10005993-1772769600-1773374399@www.visitilfracombe.co.uk
SUMMARY:Weekly gig listing
DESCRIPTION:Here is your weekly round up of live music in and around Ilfracombe this weekend. Let’s get out there and swing our pants 🤘🎸🎹🎙️🎶😍🥁 \nFriday 6 March\nOpen Mic\, Grampus (Lee)\, 8.00\nKaraoke\, Prince of Wales\, 8.30\nJoy Machine\, The Lamb 1893\, 9.00\nNothing But Treble\, George & Dragon\, 9.00 \nSaturday 7 March\nKirsty’s Leaving Party – DJ + Karaoke\, Wellington Arms\, 5.00\nNothing But Treble\, The Barn\, 6.00\nBlue Shed Band + Jose & The Hot Dogs\, Crown (West Down)\, 8.00\nThe Hoodoo Man\, The Lamb 1893\, 8.30\nPeter Bruntnell\, George & Dragon\, 9.00\nJet Generation/Twisted in a Layby\, Sandpiper\, 9.00\nCoral\, Crown Duels\, 9.00\nHarvey Joe Hudson\, Ship and Pilot\, 9.00 \nSunday 8 March\nOpen Mic\, Sandpiper\, 3.00\nCal White\, Ship and Pilot\, 5.00 \nWednesday 11 March\nOpen Mic with Harvey Joe Hudson\, Snug & Hyde\, 9.00 \nThursday 12 March\nOpen Mic\, Ship and Pilot\, 7.00\nKaraoke with Danny\, Snug & Hyde\, 8.00 \nFull listing maintained on Facebook at Live Music in Ilfracombe (featured post)
URL:https://www.visitilfracombe.co.uk/event/weekly-gig-listing-36/
LOCATION:Ilfracombe\, Ilfracombe\, Devon\, United Kingdom
CATEGORIES:Ilfracombe Events
ATTACH;FMTTYPE=image/jpeg:https://www.visitilfracombe.co.uk/wp-content/uploads/2025/08/Music.jpg
END:VEVENT
BEGIN:VEVENT
DTSTART;TZID=Europe/London:20260307T100000
DTEND;TZID=Europe/London:20260307T123000
DTSTAMP:20260421T111702
CREATED:20250604T154537Z
LAST-MODIFIED:20250717T081926Z
UID:10000284-1772877600-1772886600@www.visitilfracombe.co.uk
SUMMARY:Ilfracombe Farmers' Market
DESCRIPTION:Fresh local and organic produce\, craft\, refreshments and more. \nIlfracombe Farmers Market
URL:https://www.visitilfracombe.co.uk/event/ilfracombe-farmers-market/2026-03-07/
LOCATION:The Lantern\, Lantern Youth & Community Centre\, High Street\, Ilfracombe\, EX34 9QB
CATEGORIES:Community Events,Ilfracombe Events
ATTACH;FMTTYPE=image/jpeg:https://www.visitilfracombe.co.uk/wp-content/uploads/2025/06/Farmers-Market-landscape.jpeg
END:VEVENT
BEGIN:VEVENT
DTSTART;TZID=Europe/London:20260307T100000
DTEND;TZID=Europe/London:20260307T160000
DTSTAMP:20260421T111702
CREATED:20260224T101547Z
LAST-MODIFIED:20260303T144222Z
UID:10005982-1772877600-1772899200@www.visitilfracombe.co.uk
SUMMARY:Fundraiser for North Devon Hospice & ALK Positive Cancer Charity
DESCRIPTION:Half price entry \n\n\nWe’ll be donating all funds raised to @alkpositivelungcanceruk & @northdevonhospice from Saturdays charity day\, we hope you can join us to make this day a great success \n\n\nWe’ll be open 10am – 4pm
URL:https://www.visitilfracombe.co.uk/event/fundraiser-for-north-devon-hospice-alk-positive-cancer-charity/
LOCATION:Ilfracombe Aquarium\, Ilfracombe Aquarium\, The Quay\, Ilfracombe\, EX34 9EQ
CATEGORIES:Ilfracombe Events
ATTACH;FMTTYPE=image/jpeg:https://www.visitilfracombe.co.uk/wp-content/uploads/2026/02/Ilf-Aquar-637758129_3099451993589770_2090553064686627934_n.jpg
END:VEVENT
BEGIN:VEVENT
DTSTART;TZID=Europe/London:20260307T110000
DTEND;TZID=Europe/London:20260307T150000
DTSTAMP:20260421T111702
CREATED:20260305T143818Z
LAST-MODIFIED:20260305T143818Z
UID:10005990-1772881200-1772895600@www.visitilfracombe.co.uk
SUMMARY:BREAKING BOUNDARIES
DESCRIPTION:BREAKING BOUNDARIES \n\n\nInternational Women’s Day Exhibition\n\n\n Barnstaple Guildhall\n 7th March | 11am–3pm\n Free Entry\n\n\nCelebrating the women of Barnstaple & North Devon\, then and now.
URL:https://www.visitilfracombe.co.uk/event/breaking-boundaries/
LOCATION:Barnstaple Guildhall\, Barnstaple Guildhall \, Butchers Row\, Barnstaple\, EX31 1BW
CATEGORIES:North Devon Events
ATTACH;FMTTYPE=image/jpeg:https://www.visitilfracombe.co.uk/wp-content/uploads/2026/03/646961483_1369040741934154_8168871764573757511_n.jpg
END:VEVENT
END:VCALENDAR