BEGIN:VCALENDAR
VERSION:2.0
PRODID:-//Visit Ilfracombe - ECPv6.15.15//NONSGML v1.0//EN
CALSCALE:GREGORIAN
METHOD:PUBLISH
X-WR-CALNAME:Visit Ilfracombe
X-ORIGINAL-URL:https://www.visitilfracombe.co.uk
X-WR-CALDESC:Events for Visit Ilfracombe
REFRESH-INTERVAL;VALUE=DURATION:PT1H
X-Robots-Tag:noindex
X-PUBLISHED-TTL:PT1H
BEGIN:VTIMEZONE
TZID:Europe/London
BEGIN:DAYLIGHT
TZOFFSETFROM:+0000
TZOFFSETTO:+0100
TZNAME:BST
DTSTART:20240331T010000
END:DAYLIGHT
BEGIN:STANDARD
TZOFFSETFROM:+0100
TZOFFSETTO:+0000
TZNAME:GMT
DTSTART:20241027T010000
END:STANDARD
BEGIN:DAYLIGHT
TZOFFSETFROM:+0000
TZOFFSETTO:+0100
TZNAME:BST
DTSTART:20250330T010000
END:DAYLIGHT
BEGIN:STANDARD
TZOFFSETFROM:+0100
TZOFFSETTO:+0000
TZNAME:GMT
DTSTART:20251026T010000
END:STANDARD
BEGIN:DAYLIGHT
TZOFFSETFROM:+0000
TZOFFSETTO:+0100
TZNAME:BST
DTSTART:20260329T010000
END:DAYLIGHT
BEGIN:STANDARD
TZOFFSETFROM:+0100
TZOFFSETTO:+0000
TZNAME:GMT
DTSTART:20261025T010000
END:STANDARD
BEGIN:DAYLIGHT
TZOFFSETFROM:+0000
TZOFFSETTO:+0100
TZNAME:BST
DTSTART:20270328T010000
END:DAYLIGHT
BEGIN:STANDARD
TZOFFSETFROM:+0100
TZOFFSETTO:+0000
TZNAME:GMT
DTSTART:20271031T010000
END:STANDARD
END:VTIMEZONE
BEGIN:VEVENT
DTSTART;VALUE=DATE:20251231
DTEND;VALUE=DATE:20260110
DTSTAMP:20260421T235120
CREATED:20251231T123734Z
LAST-MODIFIED:20260109T105925Z
UID:10005209-1767153600-1767931199@www.visitilfracombe.co.uk
SUMMARY:Weekly gig listing
DESCRIPTION:Here’s your rundown of live music for New Year’s Eve and into the weekend. HAPPY NEW YEAR to all our wonderful local performers\, venues and gig goers. Let’s get out there and swing our pants 🎉😍🎶🎙️🎸🎹🥁🤘 \nWednesday 31 December – NYE\nCato (live acoustic) \, Snug & Hyde\, 8-10\nBlack Sands\, The Hele Bay\, 9.00\nNYE in the square (20th year)\, Sandpiper\, 9 – late (Request and Shout Out line 07876807155)\nCoral Sings\, 1893\, 9.30\nAsya K.Aydin & Band\, Castle (Combe Martin)\, 9.30\nGroove Collective\, Wellington Arms\, 10.00\nDutty Disciples (multi genre mash up)\, Snug & Hyde\, 10-3 \nThursday 1 January\nBasils Balls Up Band\, Dolphin (Combe Martin)\, 3.00\nOpen Mic\, Prince of Wales\, 8.00\nKaraoke with Danny\, Snug & Hyde\, 8.00 \nFriday 2 January\nOpen Mic\, Grampus (Lee)\, 8.00\nEmmanuel (sax)\, George & Dragon\, 9.00 \nSaturday 3 January\nDr Goth (DJ)\, Prince of Wales\, 8.30\nBasil’s Balls Up Band\, George & Dragon\, 9.00 \nSunday 4 January\nOpen Mic\, Sandpiper\, 3.00 \nWeekly events\nFridays – Open Mic\, Grampus (Lee)\, 8.00\nSundays – Open Mic\, Sandpiper\, 3.00\nTuesdays – Open Mic\, Snug & Hyde\, 9.00\nWednesdays (alternate)\, Wednesdays Children Open Mic\, Royal Britannia\,\nThursdays – Open Mic\, Prince of Wales\, 8.00\nThursdays – Karaoke with Danny\, Snug & Hyde\, 8.00 \nFull listing maintained on Facebook at Live Music in Ilfracombe (featured post)
URL:https://www.visitilfracombe.co.uk/event/weekly-gig-listing-28/
LOCATION:Ilfracombe\, Ilfracombe\, Devon\, United Kingdom
CATEGORIES:Ilfracombe Events
ATTACH;FMTTYPE=image/jpeg:https://www.visitilfracombe.co.uk/wp-content/uploads/2025/08/Music.jpg
END:VEVENT
BEGIN:VEVENT
DTSTART;VALUE=DATE:20260102
DTEND;VALUE=DATE:20260110
DTSTAMP:20260421T235120
CREATED:20251231T092705Z
LAST-MODIFIED:20251231T092705Z
UID:10005189-1767326400-1767931199@www.visitilfracombe.co.uk
SUMMARY:Embassy Cinema
DESCRIPTION:Friday 2nd January to Thursday 8th January 2026  \nSong Sung Blue 130mins \nFri Sat 14:00  19:45 Sun 14:00  19:45 \nMon Tue Wed 16:30 19:45 Thu 13:30 16:25  19:45 \n The Housemaid 130mins \nFri Sat Mon Wed 17:00  20:00    \nSun 17:00  20:00   Tue 17:00   \nThu 14:00  20:00 \n Avatar: Fire And Ash 195mins \nFri Sat 15:20 19:20 Sun 15:20 19:20  \nMon Tue Wed 19:20 Thu 13:15 19:20 \n Anaconda 99mins \nFri Sat Sun 12:30 17:20 Mon Tue Wed Thu 17:20 \nThe SpongeBob Movie: Search for SquarePants  \n95mins \nFri Sat Sun 11:40  15:00 \nZootropolis 2 108mins \nFri Sat Sun 12:45 \nWicked For Good 138mins \nThu 17:00
URL:https://www.visitilfracombe.co.uk/event/embassy-cinema-11/
LOCATION:Embassy Cinema\, 134 High Street\, Ilfracombe\, EX34 9EZ
CATEGORIES:Ilfracombe Events
ATTACH;FMTTYPE=image/jpeg:https://www.visitilfracombe.co.uk/wp-content/uploads/2025/10/Embassy.jpg
END:VEVENT
BEGIN:VEVENT
DTSTART;TZID=Europe/London:20260107T100000
DTEND;TZID=Europe/London:20260107T130000
DTSTAMP:20260421T235120
CREATED:20250624T125439Z
LAST-MODIFIED:20250717T144702Z
UID:10000808-1767780000-1767790800@www.visitilfracombe.co.uk
SUMMARY:Wellbeing Wednesday
DESCRIPTION:A weekly Wellbeing Group – based around the 5 steps to wellbeing: Connect\, Be active\, Give\, Learn and Take notice – weekly arts and crafts\, wellbeing walks and free drinks and a light lunch. A very friendly group open to all (designed for age 18+).
URL:https://www.visitilfracombe.co.uk/event/wellbeing-wednesday/2026-01-07/
LOCATION:The Lantern\, Lantern Youth & Community Centre\, High Street\, Ilfracombe\, EX34 9QB
CATEGORIES:Community Events
ATTACH;FMTTYPE=image/jpeg:https://www.visitilfracombe.co.uk/wp-content/uploads/2025/06/Wellbeing-Wednesday.jpg
END:VEVENT
END:VCALENDAR