BEGIN:VCALENDAR
VERSION:2.0
PRODID:-//Visit Ilfracombe - ECPv6.15.15//NONSGML v1.0//EN
CALSCALE:GREGORIAN
METHOD:PUBLISH
X-WR-CALNAME:Visit Ilfracombe
X-ORIGINAL-URL:https://www.visitilfracombe.co.uk
X-WR-CALDESC:Events for Visit Ilfracombe
REFRESH-INTERVAL;VALUE=DURATION:PT1H
X-Robots-Tag:noindex
X-PUBLISHED-TTL:PT1H
BEGIN:VTIMEZONE
TZID:Europe/London
BEGIN:DAYLIGHT
TZOFFSETFROM:+0000
TZOFFSETTO:+0100
TZNAME:BST
DTSTART:20240331T010000
END:DAYLIGHT
BEGIN:STANDARD
TZOFFSETFROM:+0100
TZOFFSETTO:+0000
TZNAME:GMT
DTSTART:20241027T010000
END:STANDARD
BEGIN:DAYLIGHT
TZOFFSETFROM:+0000
TZOFFSETTO:+0100
TZNAME:BST
DTSTART:20250330T010000
END:DAYLIGHT
BEGIN:STANDARD
TZOFFSETFROM:+0100
TZOFFSETTO:+0000
TZNAME:GMT
DTSTART:20251026T010000
END:STANDARD
BEGIN:DAYLIGHT
TZOFFSETFROM:+0000
TZOFFSETTO:+0100
TZNAME:BST
DTSTART:20260329T010000
END:DAYLIGHT
BEGIN:STANDARD
TZOFFSETFROM:+0100
TZOFFSETTO:+0000
TZNAME:GMT
DTSTART:20261025T010000
END:STANDARD
BEGIN:DAYLIGHT
TZOFFSETFROM:+0000
TZOFFSETTO:+0100
TZNAME:BST
DTSTART:20270328T010000
END:DAYLIGHT
BEGIN:STANDARD
TZOFFSETFROM:+0100
TZOFFSETTO:+0000
TZNAME:GMT
DTSTART:20271031T010000
END:STANDARD
END:VTIMEZONE
BEGIN:VEVENT
DTSTART;TZID=Europe/London:20251122T100000
DTEND;TZID=Europe/London:20260104T160000
DTSTAMP:20260422T025339
CREATED:20251101T172111Z
LAST-MODIFIED:20251101T172111Z
UID:10005121-1763805600-1767542400@www.visitilfracombe.co.uk
SUMMARY:A Nutcracker Christmas at Arlington Court
DESCRIPTION:This Christmas\, experience the magic of The Nutcracker at Arlington Court as the house transforms into the enchanting lands of the classic story. Wander through rooms of shimmering snow\, blooming flowers\, twinkling lights and sweet delights. \nIn the grounds\, the festive fun continues with a mince pie mystery trail around the Old Lake walk\, the playful Twelve Days of Christmas critters in the garden\, and a charming gourd nativity. \nWith evening openings\, festive treats in the tea-room\, Christmas shopping\, and the chance to bring a friend for free\, there’s something for every member of the family to enjoy. \nChristmas opening times\n22 November – 18 December\nSat – Tuesday\, 10am – 4pm (last entry to the house 3pm)\n19 Dec – 4 Jan*\nOpen daily\, 10am – 3pm (last entry to the house 1:30pm)\n*Excluding 24 – 26 Dec \nTo see full events and opening times at Arlington Court this Christmas\, please visit: https://bit.ly/ChristmasAtArlington2025
URL:https://www.visitilfracombe.co.uk/event/a-nutcracker-christmas-at-arlington-court/
LOCATION:Arlington Court\, Arlington Court National Trust\, Barnstaple\, EX31 4LP
CATEGORIES:North Devon Events
ATTACH;FMTTYPE=image/jpeg:https://www.visitilfracombe.co.uk/wp-content/uploads/2025/10/Visit-devon-Christmas.jpg
ORGANIZER;CN="North Devon National Trust":MAILTO:northdevon@nationaltrust.org.uk
END:VEVENT
BEGIN:VEVENT
DTSTART;VALUE=DATE:20251219
DTEND;VALUE=DATE:20251227
DTSTAMP:20260422T025339
CREATED:20251219T095203Z
LAST-MODIFIED:20251219T110954Z
UID:10005163-1766116800-1766721599@www.visitilfracombe.co.uk
SUMMARY:Weekly gig listing
DESCRIPTION:Here is your round up of live music in and around Ilfracombe on this last weekend before Christmas. Let’s get out there and swing our pants! 🤘🥁🎹🎸🎙️🎶😍🎄🎅 \nFriday 19 December\n5 Man Down\, Larkstone Café Bar\, 7.30\nOpen Mic\, Grampus (Lee)\, 8.00\nCoral Sings\, 1893\, 8.00\nSteve Valentine\, Prince of Wales\, 8.30\nThe Greater Good\, George & Dragon\, 9.00 \nSaturday 20 December\nDizzee Lites\, Christmas Karaoke\, Dolphin (Combe Martin)\, 7.00\nCal White\, Larkstone Café Bar\, 7.30\nEX34DNB presents Merry Bishmas\, Snug & Hyde\, 8.00\nJason Howard\, Prince of Wales\, 8.30\nSam Dowden\, George & Dragon\, 9.00\nDan & Rich\, Sandpiper\, 9.00\nBad Trafic\, Ship and Pilot\, 9.00 \nSunday 21 December\nOpen Mic\, Sandpiper\, 3.00\nThe Kahunas\, Wellington Arms\, 7.30\nIlfracombe Male Voice Choir\, George & Dragon\, 8.00 \nWednesday 24 December – Christmas Eve 🎄🎄🎄\nWednesday’s Children – Open Mic Xmas Eve Special\, Royal Britannia\, 7.00 (new fortnightly event)\nJohn Braidwood (DJ)\, Dolphin\, Comber Martin\, 7.00\nAsya K.Aydin & Band\, Wellington Arms\, 9.00 \nWeekly events\nFridays – Open Mic\, Grampus (Lee)\, 8.00\nSundays – Open Mic\, Sandpiper\, 3.00\nTuesdays – Open Mic\, Snug & Hyde\, 9.00\nWednesdays (alternate)\, Wednesdays Children Open Mic\, Royal Britannia\,\nThursdays – Open Mic\, Prince of Wales\, 8.00\nThursdays – Karaoke with Danny\, Snug & Hyde\, 8.00 \nFull listing maintained on Facebook at Live Music in Ilfracombe (featured post)
URL:https://www.visitilfracombe.co.uk/event/weekly-gig-listing-27/
LOCATION:Ilfracombe\, Ilfracombe\, Devon\, United Kingdom
CATEGORIES:Ilfracombe Events
ATTACH;FMTTYPE=image/jpeg:https://www.visitilfracombe.co.uk/wp-content/uploads/2025/08/Music.jpg
END:VEVENT
BEGIN:VEVENT
DTSTART;TZID=Europe/London:20251219T080000
DTEND;TZID=Europe/London:20251225T170000
DTSTAMP:20260422T025339
CREATED:20251219T135443Z
LAST-MODIFIED:20251219T135443Z
UID:10005165-1766131200-1766682000@www.visitilfracombe.co.uk
SUMMARY:Embassy Cinema
DESCRIPTION:Friday 19th December to Thursday 25th December 2025  \n Fackham Hall 97mins \nSat 19:40  Sun 19:40   \nWicked For Good 138mins \nSat Sun 16:30   Wed 16:30 Mon 19:20 \nZootropolis 2 108mins \nFri 16:30 Sat 12:15 17:20 Sun 12:15 Mon Tues 12:15 16:30 \nWed 13:20 \n Five Nights At Freddy’s 2 103mins \nFri Sat 20:00 Sun 17:20  \nThe SpongeBob Movie: Search for SquarePants 95mins \nSat Sun Mon Tues 14:00  Wed 11:30 \n The Housemaid 130mins \nMon Tues 17:00 20:00 Wed 17:00 \n Avatar: Fire And Ash 195mins \nFri 15:45 18:00  19:20 Sat Mon Tues 13:00 15:00 19:00 \nSun 13:05  15:00 19:00 Wed 13:00  16:00 \n Gremlins (1984) 105mins \nSun 20:00 \nLove Actually 135mins \nTues 19:20 \n Home Alone (1990) 103mins \nSun 11:30  Wed 14:00 \nElf (20th Anniversary 2003) 97mins \nSat 11:30  Wed 10:50 \n The Polar Express (Pyjama Party) 101mins \nSat Sun Mon Tues Wed 10:30 \n Arthur Christmas 97mins \nTues 11:30 \nThe Muppets Christmas Carol (1992) 86mins \nMon 11:30
URL:https://www.visitilfracombe.co.uk/event/embassy-cinema-9/
LOCATION:Embassy Cinema\, 134 High Street\, Ilfracombe\, EX34 9EZ
CATEGORIES:Ilfracombe Events
ATTACH;FMTTYPE=image/jpeg:https://www.visitilfracombe.co.uk/wp-content/uploads/2025/10/Embassy.jpg
END:VEVENT
BEGIN:VEVENT
DTSTART;TZID=Europe/London:20251219T170000
DTEND;TZID=Europe/London:20251220T210000
DTSTAMP:20260422T025339
CREATED:20251005T140333Z
LAST-MODIFIED:20251005T140333Z
UID:10005004-1766163600-1766264400@www.visitilfracombe.co.uk
SUMMARY:Clovelly Court Gardens Christmas Illuminations
DESCRIPTION:Get into the festive spirit and see the Clovelly Court Gardens like never before. Explore our historic gardens after dark as twinkling lights and seasonal cheer fills the air at the Clovelly Court Gardens Christmas Illuminations! After the success of the first year of Illuminations in 2024\, they are back for 2025! Experience the magi
URL:https://www.visitilfracombe.co.uk/event/clovelly-court-gardens-christmas-illuminations-2/2025-12-19/
LOCATION:Clovelly\, Clovelly\, Devon
CATEGORIES:North Devon Events
ATTACH;FMTTYPE=image/jpeg:https://www.visitilfracombe.co.uk/wp-content/uploads/2025/10/CG-WhatsApp-Image-2024-01-24-at-11.24.26.jpeg
END:VEVENT
BEGIN:VEVENT
DTSTART;TZID=Europe/London:20251220T090000
DTEND;TZID=Europe/London:20251220T140000
DTSTAMP:20260422T025339
CREATED:20251007T082849Z
LAST-MODIFIED:20251020T102123Z
UID:10005010-1766221200-1766239200@www.visitilfracombe.co.uk
SUMMARY:Christmas Farmers Market
DESCRIPTION:FREE EVENT in the Barn \nNorth Devon’s largest indoor Xmas Market \nJoin us in the BARN for a magical day out at our Christmas Farmers Market\, where the sights\, scents\, and sounds of the season come alive! \nWe pride ourselves in having the best Christmas stalls full of great quality\, tasty local food and drink\, festive craft & handmade treasures! \nFree range turkeys\, organic meats\, sprouts on stalks\, cheeses\, cakes\, fresh fish\, festive decorations and gifts plus Christmas trees are just some of the delights which will be on offer plus… \n\nFresh\, locally grown produce & artisanal goods\nHandcrafted holiday gifts & decorations\nWarm mulled wine\, hot chocolate and festive treats\nLive music\, Carol Singers and Christmas cheer\n\nWIN A £200 HAMPER…Don’t miss your chance to WIN a selection of Christmas goodies in our Prize Hamper Draw! \nWrap up warm\, bring your friends and family\, and celebrate the most wonderful time of the year with us
URL:https://www.visitilfracombe.co.uk/event/christmas-farmers-market/2025-12-20/
LOCATION:The Big Sheep\, The Big Sheep\, Abbotsham Rd\, Abbotsham\, Bideford\, Devon\, EX39 5AP\, United Kingdom
CATEGORIES:North Devon Events
ATTACH;FMTTYPE=image/jpeg:https://www.visitilfracombe.co.uk/wp-content/uploads/2025/10/Big-Sheep-Christmas-Market-980x980-1.jpg
END:VEVENT
BEGIN:VEVENT
DTSTART;TZID=Europe/London:20251220T100000
DTEND;TZID=Europe/London:20251220T160000
DTSTAMP:20260422T025339
CREATED:20251007T090120Z
LAST-MODIFIED:20251007T090120Z
UID:10005027-1766224800-1766246400@www.visitilfracombe.co.uk
SUMMARY:Lynton & Barnstaple Railway All aboard for a magical Christmas adventure!
DESCRIPTION:Wrap up warm and get ready for a heartwarming festive steam train ride the whole family will love! Santa and his cheerful elves will be spreading Christmas cheer at Woody Bay Station. The Tearoom & Station Shop will be open. \nPre-booking is recommended to avoid disappointment
URL:https://www.visitilfracombe.co.uk/event/lynton-barnstaple-railway-all-aboard-for-a-magical-christmas-adventure-3/2025-12-20/
LOCATION:Lynton & Barnstaple Railway\, Woody Bay Station\, Martinhoe Cross\, EX31 4RA\, United Kingdom
CATEGORIES:North Devon Events
ATTACH;FMTTYPE=image/jpeg:https://www.visitilfracombe.co.uk/wp-content/uploads/2025/10/LB-Rail-santa-image1152x864-crop-autorotate.jpg
END:VEVENT
BEGIN:VEVENT
DTSTART;TZID=Europe/London:20251220T100000
DTEND;TZID=Europe/London:20251220T160000
DTSTAMP:20260422T025339
CREATED:20251020T102940Z
LAST-MODIFIED:20251020T103924Z
UID:10005064-1766224800-1766246400@www.visitilfracombe.co.uk
SUMMARY:Christmas Holiday at the Big Sheep
DESCRIPTION:Create unforgettable memories with us and make this season the most magical one yet! \nMega Indoor Play Zone\, loads of fun for your energetic kids and toddlers with a BIG choice of exciting slides\, imaginative soft play\, climbing areas\, tumble towers\, mazes and obstacles. \nSensory Room for babies and preschool children\, the fibre-optic lights can provide great visual stimulation and engagement for babies and young children alike. \nGrab a festive snack and a drink for the kids and treat yourself to one of our delicious coffees made with fresh roasted coffee beans! \nClosed 25\, 26\, 27 Dec & 1st Jan
URL:https://www.visitilfracombe.co.uk/event/christmas-holiday-at-the-big-sheep/2025-12-20/
LOCATION:The Big Sheep\, The Big Sheep\, Abbotsham Rd\, Abbotsham\, Bideford\, Devon\, EX39 5AP\, United Kingdom
CATEGORIES:North Devon Events
ATTACH;FMTTYPE=image/jpeg:https://www.visitilfracombe.co.uk/wp-content/uploads/2025/10/Christmas-Holidays.jpg
END:VEVENT
BEGIN:VEVENT
DTSTART;TZID=Europe/London:20251220T120000
DTEND;TZID=Europe/London:20251220T150000
DTSTAMP:20260422T025339
CREATED:20251007T084148Z
LAST-MODIFIED:20251007T084215Z
UID:10005020-1766232000-1766242800@www.visitilfracombe.co.uk
SUMMARY:The Magic of Christmas
DESCRIPTION:Treat the family to a truly memorable Christmas experience this December! Journey through the magical snowy forest to Buzzlewick’s Elf Emporium to meet Buzzlewick the Elf and friends\, have a go at gingerbread decorating\, write a letter to Santa\, sit in Santa’s sleigh and make reindeer food. And there’s more! \nPlease note: You must book your visit to see Santa online at the same time as booking your park entry tickets – it is not possible to add this later.
URL:https://www.visitilfracombe.co.uk/event/the-magic-of-christmas-3/2025-12-20/
LOCATION:The Milky Way\, The Milky Way\, Downland Farm\, Higher Clovelly\, Devon\, EX39 5RY
CATEGORIES:North Devon Events
ATTACH;FMTTYPE=image/jpeg:https://www.visitilfracombe.co.uk/wp-content/uploads/2025/10/MW-Xmas-547205007_1189640313210933_1292891686418963429_n.jpg
END:VEVENT
BEGIN:VEVENT
DTSTART;TZID=Europe/London:20251220T170000
DTEND;TZID=Europe/London:20251221T210000
DTSTAMP:20260422T025339
CREATED:20251005T140333Z
LAST-MODIFIED:20251005T140333Z
UID:10005005-1766250000-1766350800@www.visitilfracombe.co.uk
SUMMARY:Clovelly Court Gardens Christmas Illuminations
DESCRIPTION:Get into the festive spirit and see the Clovelly Court Gardens like never before. Explore our historic gardens after dark as twinkling lights and seasonal cheer fills the air at the Clovelly Court Gardens Christmas Illuminations! After the success of the first year of Illuminations in 2024\, they are back for 2025! Experience the magi
URL:https://www.visitilfracombe.co.uk/event/clovelly-court-gardens-christmas-illuminations-2/2025-12-20/
LOCATION:Clovelly\, Clovelly\, Devon
CATEGORIES:North Devon Events
ATTACH;FMTTYPE=image/jpeg:https://www.visitilfracombe.co.uk/wp-content/uploads/2025/10/CG-WhatsApp-Image-2024-01-24-at-11.24.26.jpeg
END:VEVENT
END:VCALENDAR