BEGIN:VCALENDAR
VERSION:2.0
PRODID:-//Visit Ilfracombe - ECPv6.15.15//NONSGML v1.0//EN
CALSCALE:GREGORIAN
METHOD:PUBLISH
X-WR-CALNAME:Visit Ilfracombe
X-ORIGINAL-URL:https://www.visitilfracombe.co.uk
X-WR-CALDESC:Events for Visit Ilfracombe
REFRESH-INTERVAL;VALUE=DURATION:PT1H
X-Robots-Tag:noindex
X-PUBLISHED-TTL:PT1H
BEGIN:VTIMEZONE
TZID:Europe/London
BEGIN:DAYLIGHT
TZOFFSETFROM:+0000
TZOFFSETTO:+0100
TZNAME:BST
DTSTART:20240331T010000
END:DAYLIGHT
BEGIN:STANDARD
TZOFFSETFROM:+0100
TZOFFSETTO:+0000
TZNAME:GMT
DTSTART:20241027T010000
END:STANDARD
BEGIN:DAYLIGHT
TZOFFSETFROM:+0000
TZOFFSETTO:+0100
TZNAME:BST
DTSTART:20250330T010000
END:DAYLIGHT
BEGIN:STANDARD
TZOFFSETFROM:+0100
TZOFFSETTO:+0000
TZNAME:GMT
DTSTART:20251026T010000
END:STANDARD
BEGIN:DAYLIGHT
TZOFFSETFROM:+0000
TZOFFSETTO:+0100
TZNAME:BST
DTSTART:20260329T010000
END:DAYLIGHT
BEGIN:STANDARD
TZOFFSETFROM:+0100
TZOFFSETTO:+0000
TZNAME:GMT
DTSTART:20261025T010000
END:STANDARD
BEGIN:DAYLIGHT
TZOFFSETFROM:+0000
TZOFFSETTO:+0100
TZNAME:BST
DTSTART:20270328T010000
END:DAYLIGHT
BEGIN:STANDARD
TZOFFSETFROM:+0100
TZOFFSETTO:+0000
TZNAME:GMT
DTSTART:20271031T010000
END:STANDARD
END:VTIMEZONE
BEGIN:VEVENT
DTSTART;VALUE=DATE:20251121
DTEND;VALUE=DATE:20251129
DTSTAMP:20260422T070003
CREATED:20251121T101530Z
LAST-MODIFIED:20251121T101530Z
UID:10005137-1763697600-1764302399@www.visitilfracombe.co.uk
SUMMARY:Weekly gig listing
DESCRIPTION:Plenty going on in our local music venues this weekend. Lets get out there and swing our pants. 🎵🎙️🤘🎸🎹🥁😍 \nFriday 21 November\nSasha Brennand\, Monkey Puzzle\, 6.30\nOpen Mic\, Grampus (Lee)\, 8.00\nHatchet Jack\, Prince of Wales\, 8.30\nDan Sheehan\, George & Dragon\, 9.00\nBad Trafic\, 1893\, 9.30 \nSaturday 22 November\nScuttlebutt Shanty Singers\, Lifeboat Station\, 3.00\nCoral Ann\, Prince of Wales\, 8.00\nGreater Good Band\, Ship and Pilot\, 9.00\nBeckon The Wyrd\, Sandpiper\, 9.00\nJacob Terry\, George & Dragon\, 9.00\nHarry Wallace\, Wellington Arms\, 9.30 \nSunday 23 November\nOpen Mic\, Sandpiper\, 3.00 \nWeekly events\nFridays – Open Mic\, Grampus (Lee)\, 8.00\nSundays – Open Mic\, Sandpiper\, 3.00\nTuesdays – Open Mic\, Snug & Hyde\, 9.00\nThursdays – Open Mic\, Prince of Wales\, 8.00\nThursdays – Karaoke with Danny\, Snug & Hyde\, 8.00 \nFull listing maintained on Facebook at Live Music in Ilfracombe (featured post)
URL:https://www.visitilfracombe.co.uk/event/weekly-gig-listing-23/
LOCATION:Ilfracombe\, Ilfracombe\, Devon\, United Kingdom
CATEGORIES:Ilfracombe Events
ATTACH;FMTTYPE=image/jpeg:https://www.visitilfracombe.co.uk/wp-content/uploads/2025/08/Music.jpg
END:VEVENT
BEGIN:VEVENT
DTSTART;TZID=Europe/London:20251122T100000
DTEND;TZID=Europe/London:20260104T160000
DTSTAMP:20260422T070003
CREATED:20251101T172111Z
LAST-MODIFIED:20251101T172111Z
UID:10005121-1763805600-1767542400@www.visitilfracombe.co.uk
SUMMARY:A Nutcracker Christmas at Arlington Court
DESCRIPTION:This Christmas\, experience the magic of The Nutcracker at Arlington Court as the house transforms into the enchanting lands of the classic story. Wander through rooms of shimmering snow\, blooming flowers\, twinkling lights and sweet delights. \nIn the grounds\, the festive fun continues with a mince pie mystery trail around the Old Lake walk\, the playful Twelve Days of Christmas critters in the garden\, and a charming gourd nativity. \nWith evening openings\, festive treats in the tea-room\, Christmas shopping\, and the chance to bring a friend for free\, there’s something for every member of the family to enjoy. \nChristmas opening times\n22 November – 18 December\nSat – Tuesday\, 10am – 4pm (last entry to the house 3pm)\n19 Dec – 4 Jan*\nOpen daily\, 10am – 3pm (last entry to the house 1:30pm)\n*Excluding 24 – 26 Dec \nTo see full events and opening times at Arlington Court this Christmas\, please visit: https://bit.ly/ChristmasAtArlington2025
URL:https://www.visitilfracombe.co.uk/event/a-nutcracker-christmas-at-arlington-court/
LOCATION:Arlington Court\, Arlington Court National Trust\, Barnstaple\, EX31 4LP
CATEGORIES:North Devon Events
ATTACH;FMTTYPE=image/jpeg:https://www.visitilfracombe.co.uk/wp-content/uploads/2025/10/Visit-devon-Christmas.jpg
ORGANIZER;CN="North Devon National Trust":MAILTO:northdevon@nationaltrust.org.uk
END:VEVENT
BEGIN:VEVENT
DTSTART;TZID=Europe/London:20251127T190000
DTEND;TZID=Europe/London:20251127T210000
DTSTAMP:20260422T070003
CREATED:20251106T101844Z
LAST-MODIFIED:20251106T101844Z
UID:10005125-1764270000-1764277200@www.visitilfracombe.co.uk
SUMMARY:Hele Mill - Its Place In The History And Landscape Of North Devon
DESCRIPTION:A talk by current owner David Jones exploring the vast history of this fascinating local building. \nRefreshments included. \nTickets available form the museum\, £5 or £4 for supporters\, the museum is currently open Tues – Fri 10am-4pm. \ninfo.ilfracombemuseum@gmail.com
URL:https://www.visitilfracombe.co.uk/event/hele-mill-its-place-in-the-history-and-landscape-of-north-devon/
LOCATION:Ilfracombe Museum\, Ilfracombe Museum\, Wilder Road\, Ilfracombe\, EX34 8AF\, United Kingdom
CATEGORIES:Ilfracombe Events
ATTACH;FMTTYPE=image/jpeg:https://www.visitilfracombe.co.uk/wp-content/uploads/2025/11/hele-mill-talk-2.jpg
ORGANIZER;CN="Ilfracombe Museum":MAILTO:info.ilfracombemuseum@gmail.com
END:VEVENT
END:VCALENDAR