BEGIN:VCALENDAR
VERSION:2.0
PRODID:-//Visit Ilfracombe - ECPv6.15.15//NONSGML v1.0//EN
CALSCALE:GREGORIAN
METHOD:PUBLISH
X-WR-CALNAME:Visit Ilfracombe
X-ORIGINAL-URL:https://www.visitilfracombe.co.uk
X-WR-CALDESC:Events for Visit Ilfracombe
REFRESH-INTERVAL;VALUE=DURATION:PT1H
X-Robots-Tag:noindex
X-PUBLISHED-TTL:PT1H
BEGIN:VTIMEZONE
TZID:Europe/London
BEGIN:DAYLIGHT
TZOFFSETFROM:+0000
TZOFFSETTO:+0100
TZNAME:BST
DTSTART:20240331T010000
END:DAYLIGHT
BEGIN:STANDARD
TZOFFSETFROM:+0100
TZOFFSETTO:+0000
TZNAME:GMT
DTSTART:20241027T010000
END:STANDARD
BEGIN:DAYLIGHT
TZOFFSETFROM:+0000
TZOFFSETTO:+0100
TZNAME:BST
DTSTART:20250330T010000
END:DAYLIGHT
BEGIN:STANDARD
TZOFFSETFROM:+0100
TZOFFSETTO:+0000
TZNAME:GMT
DTSTART:20251026T010000
END:STANDARD
BEGIN:DAYLIGHT
TZOFFSETFROM:+0000
TZOFFSETTO:+0100
TZNAME:BST
DTSTART:20260329T010000
END:DAYLIGHT
BEGIN:STANDARD
TZOFFSETFROM:+0100
TZOFFSETTO:+0000
TZNAME:GMT
DTSTART:20261025T010000
END:STANDARD
END:VTIMEZONE
BEGIN:VEVENT
DTSTART;VALUE=DATE:20251031
DTEND;VALUE=DATE:20251108
DTSTAMP:20260422T145605
CREATED:20251031T100147Z
LAST-MODIFIED:20251031T100147Z
UID:10005120-1761883200-1762487999@www.visitilfracombe.co.uk
SUMMARY:Embassy Cinema
DESCRIPTION:Friday 31st October to Thursday 06th November 2025 \nSpringsteen: Deliver Me From Nowhere 119mins \nFri Sat Mon Tues Wed 17:00 19:45 \nSun 17:00 19:45 Thurs 13:45 16:45  19:45 \nRegretting You 115mins \nFri 16:40  19:20  Sat 19:20  Sun 19:20   \nMon Tues Wed 17:20  20:00 \nThu 17:00 \n I Swear 120mins \nFri 17:15 Sat Sun 16:30  Mon 19:20 Tue 16:30 19:20 Wed 16:15 Thu 14:15  16:15 \n KPop Demon Hunters (A Sing-Along Event) 100mins \nFri Sat Sun 12:00 14:50 \n Gabby’s Dollhouse: The Movie 99mins \nFri Sat 14:00  Sun 11:45  14:00 \nDownton Abbey: The Grand Finale 122mins \nMon 16:30 Thu 13:30 \n Pets On a Train 85mins \nFri Sat 12:40 \nHocus Pocus 95mins \nFri Sat Sun 14:30 \nDisney Junior Cinema Club 2025 60mins \nFri Sat 11:00 \nHotel Transylvania 90mins \nFri 11:30  Sun 12:30 \n Coco 105mins \nSat 11:30 \n Back to the Future (40th Anniversary) 124mins \nSat Sun 17:15 Thu 19:30 \n Halloween (1978) 91mins \nFri 20:00 \n Shaun of the Dead 99mins \nSat 20:00 \n The Lost Boys 95mins \nSun 20:00 \n NT Live: Inter Alia 120mins \nThu 19:15 \nThe Royal Ballet: La Fille Mal Gardee 210mins \nWed 19:15
URL:https://www.visitilfracombe.co.uk/event/embassy-cinema-3/
LOCATION:Embassy Cinema\, 134 High Street\, Ilfracombe\, EX34 9EZ
CATEGORIES:Ilfracombe Events
ATTACH;FMTTYPE=image/jpeg:https://www.visitilfracombe.co.uk/wp-content/uploads/2025/10/Embassy.jpg
END:VEVENT
BEGIN:VEVENT
DTSTART;VALUE=DATE:20251031
DTEND;VALUE=DATE:20251108
DTSTAMP:20260422T145605
CREATED:20251031T120229Z
LAST-MODIFIED:20251031T120229Z
UID:10005122-1761883200-1762487999@www.visitilfracombe.co.uk
SUMMARY:Weekly gig listing
DESCRIPTION:Spooky times in Ilfracombe this weekend. Fancy some live music – here is what is going on….. \nLets get out there and swing our Halloween pants! 🧛👻👹🤘🎹🎸🎙️🎶 \nFriday 31 October\nBicycle Repair Man + Ilfracombe Ukulele Pluckers\, 1893\, 7.00\n5 Man Down\, Larkstone Café Bar\, 7.30\nAlan Phillips + The T4 Two\, Pier\, 8.00\nJason Howard\, Prince of Wales\, 8.00\nHalloween Rave\, Snug & Hyde\, 8.00\nHalloween Karaoke\, Sandpiper\, 8.00\nOpen Mic\, Grampus (Lee)\, 8.00\nThe Alchemists\, George & Dragon\, 9.00\nAtomic Black + Pinstripe\, Ship and Pilot\, 9.00\nFalling Apart\, Wellington Arms\, 9.00 \nSaturday 1 November\nHalloween Karaoke\, Wellington Arms\, 8.00\nSteve Valentine\, Prince of Wales\, 8.00\nThe Jukes\, George & Dragon\, 9.00\nHalloween Highway\, Sandpiper\, 9.00 \nSunday 2 November\nOpen mic\, Sandpiper\, 3.00\nSt Fian\, HARTA Retreat\, 4.00\nAcoustic Night\, George & Dragon\, 8.30 (1st Sunday of month) \nWeekly events\nFridays – Open Mic\, Grampus (Lee)\, 8.00\nSundays – Open Mic\, Sandpiper\, 3.00\nTuesdays – Open Mic\, Snug & Hyde\, 9.00\nThursdays – Open Mic\, Prince of Wales\, 8.00\nThursdays – Karaoke\, Snug & Hyde\, 8.00 \nFull listing maintained on Facebook at Live Music in Ilfracombe (featured post)
URL:https://www.visitilfracombe.co.uk/event/weekly-gig-listing-20/
LOCATION:Ilfracombe\, Ilfracombe\, Devon\, United Kingdom
CATEGORIES:Ilfracombe Events
ATTACH;FMTTYPE=image/jpeg:https://www.visitilfracombe.co.uk/wp-content/uploads/2025/08/Music.jpg
END:VEVENT
BEGIN:VEVENT
DTSTART;TZID=Europe/London:20251102T100000
DTEND;TZID=Europe/London:20251103T170000
DTSTAMP:20260422T145605
CREATED:20250919T103207Z
LAST-MODIFIED:20251006T091959Z
UID:10004920-1762077600-1762189200@www.visitilfracombe.co.uk
SUMMARY:Ilfracombe Art Trail Christmas Market
DESCRIPTION:
URL:https://www.visitilfracombe.co.uk/event/ilfracombe-art-trail-christmas-market/2025-11-02/
LOCATION:North Devon Resort\, North Devon Resort\, Marlborough Road\, Ilfracombe\, Devon\, EX34 8PF
CATEGORIES:Community Events,Ilfracombe Events
ATTACH;FMTTYPE=image/jpeg:https://www.visitilfracombe.co.uk/wp-content/uploads/2025/09/Art-Trail-543845071_18293013535255546_1609025686449552487_n.jpg
END:VEVENT
END:VCALENDAR