BEGIN:VCALENDAR
VERSION:2.0
PRODID:-//Visit Ilfracombe - ECPv6.15.15//NONSGML v1.0//EN
CALSCALE:GREGORIAN
METHOD:PUBLISH
X-WR-CALNAME:Visit Ilfracombe
X-ORIGINAL-URL:https://www.visitilfracombe.co.uk
X-WR-CALDESC:Events for Visit Ilfracombe
REFRESH-INTERVAL;VALUE=DURATION:PT1H
X-Robots-Tag:noindex
X-PUBLISHED-TTL:PT1H
BEGIN:VTIMEZONE
TZID:Europe/London
BEGIN:DAYLIGHT
TZOFFSETFROM:+0000
TZOFFSETTO:+0100
TZNAME:BST
DTSTART:20240331T010000
END:DAYLIGHT
BEGIN:STANDARD
TZOFFSETFROM:+0100
TZOFFSETTO:+0000
TZNAME:GMT
DTSTART:20241027T010000
END:STANDARD
BEGIN:DAYLIGHT
TZOFFSETFROM:+0000
TZOFFSETTO:+0100
TZNAME:BST
DTSTART:20250330T010000
END:DAYLIGHT
BEGIN:STANDARD
TZOFFSETFROM:+0100
TZOFFSETTO:+0000
TZNAME:GMT
DTSTART:20251026T010000
END:STANDARD
BEGIN:DAYLIGHT
TZOFFSETFROM:+0000
TZOFFSETTO:+0100
TZNAME:BST
DTSTART:20260329T010000
END:DAYLIGHT
BEGIN:STANDARD
TZOFFSETFROM:+0100
TZOFFSETTO:+0000
TZNAME:GMT
DTSTART:20261025T010000
END:STANDARD
END:VTIMEZONE
BEGIN:VEVENT
DTSTART;VALUE=DATE:20250725
DTEND;VALUE=DATE:20250802
DTSTAMP:20260423T124903
CREATED:20250725T143339Z
LAST-MODIFIED:20250725T143339Z
UID:10003220-1753416000-1754020799@www.visitilfracombe.co.uk
SUMMARY:Weekly gig listing
DESCRIPTION:Weekly events\nSaturdays – Sunset Soundtrack with Steve Optix. Combe Martin beach\, 5.00 (until Aug 2nd)\nSundays – Open Mic Session\, Sandpiper\, 3.00\nThursdays – Open Mic\, Prince of Wales\, 8.00\nThursdays – Karaoke\, Snug & Hyde\, 8.00 \nFriday 25 July\nSam Dowden\, Monkey Puzzle\, 6.30\n5 Man Down\, Larkstone Cafe Bar\, 7.00\nSmart & Dangerous\, Prince of Wales\, 8.30\nKaraoke with DJ Ronnie\, Wellington Arms\, 9.00\nWeybourne Chester Bingley\, Snug & Hyde\, 9.00\nTake The Taco & Run\, George & Dragon\, 9.00 \nSaturday 26 July\nJacob Terry\, Hele Bay Pub\, 3.00\nSunset Soundtrack with Steve Optix. Combe Martin beach\, 5.00\nVan Hessing\, Lime Kiln Care & Bar\, 6.00\nWilderwolf + Stop The Moats\, Prince of Wales\, 8.00\nDogleg\, Wellington Arms\, 9.00\nRIZEN\, Sandpiper\, 9.00\nMartin Barnes & Alex Terry\, George & Dragon\, 9.00 \nSunday 27 July\nTwo Rivers Wind Ensemble\, Ilfracombe Bandstand\, 2.00\nThe Greater Good\, Larkstone Cafe Bar\, 2.30 (Charity Summer Fete)\nBicycle Repair Man\, HARTA Retreat\, 3.00\nAsya K Aydin\, Castle Inn (Combe Martin)\, 3.00\n5 Man Down\, Captain Jacks (Woolacombe)\, 4.00\nFalling Apart\, Wellington Arms\, 7.00 \n 
URL:https://www.visitilfracombe.co.uk/event/weekly-gig-listing-7/
LOCATION:Ilfracombe\, Ilfracombe\, Devon\, United Kingdom
CATEGORIES:Ilfracombe Events
ATTACH;FMTTYPE=image/png:https://www.visitilfracombe.co.uk/wp-content/uploads/2025/06/Music-Roundup-graphic.png
END:VEVENT
BEGIN:VEVENT
DTSTART;TZID=Europe/London:20250725T100000
DTEND;TZID=Europe/London:20250725T160000
DTSTAMP:20260423T124903
CREATED:20250710T090530Z
LAST-MODIFIED:20250710T090736Z
UID:10001138-1753437600-1753459200@www.visitilfracombe.co.uk
SUMMARY:Summer of play at Arlington Court
DESCRIPTION:Our Summer of play is back for another year – with a new twist! \nVisit Olde Arlington\, a rambunctious place filled with laughter and fun\, and discover all the different people who kept a country estate running in the past. From checkers-playing tax collectors to sword-fighting bandits and a laundry labyrinth\, there’s lots to explore (just don’t get lost in the maze). \nEnjoy circus challenges\, hobby horse races\, water play\, and quiet picnic spots among the gardens. With themed zones across the site and a summer book trail through the grounds and gardens there is plenty to explore. \nNormal entry admission applies\, free for members
URL:https://www.visitilfracombe.co.uk/event/summer-of-play-at-arlington-court/2025-07-25/
LOCATION:Arlington Court\, Arlington Court National Trust\, Barnstaple\, EX31 4LP
CATEGORIES:North Devon Events
ATTACH;FMTTYPE=image/jpeg:https://www.visitilfracombe.co.uk/wp-content/uploads/2025/07/summer-of-play-2.jpg
ORGANIZER;CN="North Devon National Trust":MAILTO:northdevon@nationaltrust.org.uk
END:VEVENT
BEGIN:VEVENT
DTSTART;TZID=Europe/London:20250725T160000
DTEND;TZID=Europe/London:20250725T213000
DTSTAMP:20260423T124903
CREATED:20250712T095608Z
LAST-MODIFIED:20250818T124448Z
UID:10001617-1753459200-1753479000@www.visitilfracombe.co.uk
SUMMARY:Thatched Inn Beer Garden Sessions
DESCRIPTION:Join us on Sunny Fridays throughout the summer at the Thatched Inn beer garden for great tunes spun by awesome local DJs\, a delicious menu\, drinks\, and fun vibes!
URL:https://www.visitilfracombe.co.uk/event/thatched-inn-beer-garden-sessions-2/2025-07-25/
LOCATION:The Thatched Inn\, The Thatched Inn\, Hillsborough Rd\, Ilfracombe\, EX34 9PG
CATEGORIES:Ilfracombe Events
ATTACH;FMTTYPE=image/jpeg:https://www.visitilfracombe.co.uk/wp-content/uploads/2025/07/IMG-20250712-WA0001.jpg
END:VEVENT
BEGIN:VEVENT
DTSTART;TZID=Europe/London:20250725T190000
DTEND;TZID=Europe/London:20250725T210000
DTSTAMP:20260423T124903
CREATED:20250417T162155Z
LAST-MODIFIED:20250417T162155Z
UID:10000049-1753470000-1753477200@www.visitilfracombe.co.uk
SUMMARY:Live Music with 5 Man Down
DESCRIPTION:5 Man Down are coming back!\nEvenings with these guys are up there with some of the BEST nights we’ve had here\, definitely a Larkstone favourite. Save the dates – Saturday 10th May 2025 & Friday 25th July 2025.\nIt’s going to be a gooden’ \nFree entry\, food & drink available\, fun for all the family
URL:https://www.visitilfracombe.co.uk/event/live-music-with-5-man-down-2/
LOCATION:Larkstone Cafe Bar\, Larkstone Cafe Bar\, Larkstone Gardens\, Ilfracombe\, EX34 9QG
CATEGORIES:Ilfracombe Events
ATTACH;FMTTYPE=image/jpeg:https://www.visitilfracombe.co.uk/wp-content/uploads/2025/04/LArkstone-25-July-25.jpg
END:VEVENT
BEGIN:VEVENT
DTSTART;TZID=Europe/London:20250725T193000
DTEND;TZID=Europe/London:20250725T220000
DTSTAMP:20260423T124903
CREATED:20250519T131507Z
LAST-MODIFIED:20250620T153441Z
UID:10000089-1753471800-1753480800@www.visitilfracombe.co.uk
SUMMARY:Stuart Michael – The Psychic Medium
DESCRIPTION:Direct from London’s West End – a thrilling and intriguing night of psychic mediumship! \nBoasting an impressive\, worldwide celebrity client list\, Stuart brings his quick-witted humour\, sensitivity\, and compassion to the stage. \nSharing his personal story – the childhood gift of being able to see with the mind’s eye – Stuart uses his extraordinary abilities to connect with the spirit world. \nIntuitively drawn to members of the audience\, he brings forward direct messages from the other side. Don’t worry about where you’re sitting\, Stuart will find you if he has a message for you! \nSpreading comfort and empathy to those who come to him\, he specialises in bringing messages from loved ones who have passed on. \nAnd\, recurring dreams are interpreted – no matter how silly\, serious\, or scary they may seem. \nHis message to the audience is to be open-minded and respectful for the evening ahead\, and not to be nervous\, as this will be an uplifting experience. \nDon’t miss this unique and unforgettable evening. You have to see it to believe it.  \nThe production is investigational and for the purposes of entertainment \nTrailer:
URL:https://www.visitilfracombe.co.uk/event/stuart-michael-the-psychic-medium/
LOCATION:The Landmark Theatre\, The Landmark Theatre\, Promenade\, Ilfracombe\, Devon\, EX34 9BZ\, United Kingdom
CATEGORIES:Ilfracombe Events
ATTACH;FMTTYPE=image/jpeg:https://www.visitilfracombe.co.uk/wp-content/uploads/2025/05/stuart-michael.jpeg
ORGANIZER;CN="The Landmark Theatre":MAILTO:northdevon.tickets@landmarktheatres.co.uk
END:VEVENT
BEGIN:VEVENT
DTSTART;TZID=Europe/London:20250725T210000
DTEND;TZID=Europe/London:20250725T220000
DTSTAMP:20260423T124903
CREATED:20250721T202050Z
LAST-MODIFIED:20250721T202331Z
UID:10003218-1753477200-1753480800@www.visitilfracombe.co.uk
SUMMARY:Take the Taco & Run - George & Dragon
DESCRIPTION:Join us on FRIDAY 25th July at the George and Dragon Ilfracombe where our very own lone taco Harvey takes to floor from 9pm .\nThen on SATURDAY 26th they’re back Martin Barnes Acoustic and Alex Terry Acoustic rocking out from 9pm … what a weekend for live music
URL:https://www.visitilfracombe.co.uk/event/take-the-taco-run/
LOCATION:George & Dragon Pub\, George & Dragon\, Fore Street\, Ilfracombe\, EX34 9ED
CATEGORIES:Ilfracombe Events
ATTACH;FMTTYPE=image/jpeg:https://www.visitilfracombe.co.uk/wp-content/uploads/2025/07/518389783_1194891469108264_3219000437091407968_n.jpg
END:VEVENT
END:VCALENDAR