BEGIN:VCALENDAR
VERSION:2.0
PRODID:-//Visit Ilfracombe - ECPv6.15.15//NONSGML v1.0//EN
CALSCALE:GREGORIAN
METHOD:PUBLISH
X-ORIGINAL-URL:https://www.visitilfracombe.co.uk
X-WR-CALDESC:Events for Visit Ilfracombe
REFRESH-INTERVAL;VALUE=DURATION:PT1H
X-Robots-Tag:noindex
X-PUBLISHED-TTL:PT1H
BEGIN:VTIMEZONE
TZID:Europe/London
BEGIN:DAYLIGHT
TZOFFSETFROM:+0000
TZOFFSETTO:+0100
TZNAME:BST
DTSTART:20240331T010000
END:DAYLIGHT
BEGIN:STANDARD
TZOFFSETFROM:+0100
TZOFFSETTO:+0000
TZNAME:GMT
DTSTART:20241027T010000
END:STANDARD
BEGIN:DAYLIGHT
TZOFFSETFROM:+0000
TZOFFSETTO:+0100
TZNAME:BST
DTSTART:20250330T010000
END:DAYLIGHT
BEGIN:STANDARD
TZOFFSETFROM:+0100
TZOFFSETTO:+0000
TZNAME:GMT
DTSTART:20251026T010000
END:STANDARD
BEGIN:DAYLIGHT
TZOFFSETFROM:+0000
TZOFFSETTO:+0100
TZNAME:BST
DTSTART:20260329T010000
END:DAYLIGHT
BEGIN:STANDARD
TZOFFSETFROM:+0100
TZOFFSETTO:+0000
TZNAME:GMT
DTSTART:20261025T010000
END:STANDARD
END:VTIMEZONE
BEGIN:VEVENT
DTSTART;VALUE=DATE:20250711
DTEND;VALUE=DATE:20250719
DTSTAMP:20260423T141948
CREATED:20250711T163505Z
LAST-MODIFIED:20250711T163528Z
UID:10001551-1752206400-1752811199@www.visitilfracombe.co.uk
SUMMARY:Weekly gig listing
DESCRIPTION:Here are this week’s musical delights in and around Ilfracombe. \n\n\n\nWeekly events\n\n\nSaturdays – Sunset Soundtrack with Steve Optix. Combe Martin beach\, 5.00 (until Aug 2nd)\n\n\nSundays – Open Mic Session\, Sandpiper\, 3.00\n\n\nThursdays – Open Mic\, Prince of Wales\, 8.00\n\n\nThursdays – Karaoke\, Snug & Hyde\, 8.00\n\n\n\n\n\nFriday 11th July\n\n\nSasha Brennand\, Monkey Puzzle\, 6.30\n\n\nRakes Adrift\, Lime Kiln\, 6.30\n\n\nBarn Dancing with Skermish\, West Down Village Hall\, (ticketed)\n\n\nSam Dowden\, George & Dragon. 9.00\n\n\n\nSaturday 12 July\n\n\nIbiza Sun-set with DJ Sexy Toast and Nick Fisher on Percussion\, Larkstone Cafe Bar\, 6.30\n\n\nFoo Fighters SW\, Landmark Pavillion\, 7.00 (ticketed)\n\n\nGabby Young & Other Animals\, HARTA Retreat\, 8.30 (ticketed)\n\n\nBasil’s balls up band\, George & Dragon\, 9.00\n\n\nStrange Brew\, Wellington Arms\, 9.00\n\n\nWyldwoods\, Sandpiper\, 9.00\n\n\n\nSunday 13 July\n\n\nJim Crawford\, HARTA Retreat\, 4.00\n\n\nthe Groove Collective\, Captain Jacks (Woolacombe)\, 4.00\n\n\n\nWednesday 16 July\n\n\nAcoustic night\, George & Dragon\, 8.00\n\n\n\n\n\n\nFull listing maintained on Facebook at Live Music in Ilfracombe (featured post)
URL:https://www.visitilfracombe.co.uk/event/weekly-gig-listing-5/
LOCATION:Ilfracombe\, Ilfracombe\, Devon\, United Kingdom
CATEGORIES:Ilfracombe Events
ATTACH;FMTTYPE=image/png:https://www.visitilfracombe.co.uk/wp-content/uploads/2025/06/Music-Roundup-graphic.png
END:VEVENT
BEGIN:VEVENT
DTSTART;TZID=Europe/London:20250717T100000
DTEND;TZID=Europe/London:20250717T160000
DTSTAMP:20260423T141948
CREATED:20250710T090530Z
LAST-MODIFIED:20250710T090736Z
UID:10001130-1752746400-1752768000@www.visitilfracombe.co.uk
SUMMARY:Summer of play at Arlington Court
DESCRIPTION:Our Summer of play is back for another year – with a new twist! \nVisit Olde Arlington\, a rambunctious place filled with laughter and fun\, and discover all the different people who kept a country estate running in the past. From checkers-playing tax collectors to sword-fighting bandits and a laundry labyrinth\, there’s lots to explore (just don’t get lost in the maze). \nEnjoy circus challenges\, hobby horse races\, water play\, and quiet picnic spots among the gardens. With themed zones across the site and a summer book trail through the grounds and gardens there is plenty to explore. \nNormal entry admission applies\, free for members
URL:https://www.visitilfracombe.co.uk/event/summer-of-play-at-arlington-court/2025-07-17/
LOCATION:Arlington Court\, Arlington Court National Trust\, Barnstaple\, EX31 4LP
CATEGORIES:North Devon Events
ATTACH;FMTTYPE=image/jpeg:https://www.visitilfracombe.co.uk/wp-content/uploads/2025/07/summer-of-play-2.jpg
ORGANIZER;CN="North Devon National Trust":MAILTO:northdevon@nationaltrust.org.uk
END:VEVENT
BEGIN:VEVENT
DTSTART;TZID=Europe/London:20250717T173000
DTEND;TZID=Europe/London:20250717T200000
DTSTAMP:20260423T141948
CREATED:20250617T100337Z
LAST-MODIFIED:20250617T100519Z
UID:10000217-1752773400-1752782400@www.visitilfracombe.co.uk
SUMMARY:William Shakespeare’s Twelfth Night
DESCRIPTION:National Tour of Shakespeare’s most entertaining comedy! \n Join us at The Big Sheep for the hilarious Shakespeare’s popular comedy! \nCastle Theatre Company is delighted to announce its 2025 touring production of one of Shakespeare’s most entertaining comedies: Twelfth Night. When a ship is wrecked on the rocks\, a tale of mistaken identities\, love triangles\, and humorous deceptions ensues.  \nThe company is renowned for its high standard of performance\, offering a full-length Shakespeare comedy that is suitable for all the family. 2024’s touring production of ‘As You Like It’ was performed to sold-out audiences around the south of England. \nHurry book now as tickets are selling fast!
URL:https://www.visitilfracombe.co.uk/event/william-shakespeares-twelfth-night/
LOCATION:The Big Sheep\, The Big Sheep\, Abbotsham Rd\, Abbotsham\, Bideford\, Devon\, EX39 5AP\, United Kingdom
CATEGORIES:North Devon Events
ATTACH;FMTTYPE=image/jpeg:https://www.visitilfracombe.co.uk/wp-content/uploads/2025/06/Twelth-1.jpg
ORGANIZER;CN="The Big Sheep":MAILTO:info@thebigsheep.co.uk
END:VEVENT
BEGIN:VEVENT
DTSTART;TZID=Europe/London:20250717T193000
DTEND;TZID=Europe/London:20250717T220000
DTSTAMP:20260423T141948
CREATED:20250617T091855Z
LAST-MODIFIED:20250716T084943Z
UID:10000209-1752780600-1752789600@www.visitilfracombe.co.uk
SUMMARY:Absent Friends
DESCRIPTION:Studio Theatre Ilfracombe presents Alan Ayckborn’s dark comedy – Absent Friends
URL:https://www.visitilfracombe.co.uk/event/absent-friends-2/2025-07-17/
LOCATION:The Space\, Wilder Road\, Ilfracombe\, EX34 9AW
CATEGORIES:Ilfracombe Events
ATTACH;FMTTYPE=image/jpeg:https://www.visitilfracombe.co.uk/wp-content/uploads/2025/06/Absent-Friends-1000038578.jpg
END:VEVENT
END:VCALENDAR