BEGIN:VCALENDAR
VERSION:2.0
PRODID:-//Visit Ilfracombe - ECPv6.15.15//NONSGML v1.0//EN
CALSCALE:GREGORIAN
METHOD:PUBLISH
X-WR-CALNAME:Visit Ilfracombe
X-ORIGINAL-URL:https://www.visitilfracombe.co.uk
X-WR-CALDESC:Events for Visit Ilfracombe
REFRESH-INTERVAL;VALUE=DURATION:PT1H
X-Robots-Tag:noindex
X-PUBLISHED-TTL:PT1H
BEGIN:VTIMEZONE
TZID:Europe/London
BEGIN:DAYLIGHT
TZOFFSETFROM:+0000
TZOFFSETTO:+0100
TZNAME:BST
DTSTART:20240331T010000
END:DAYLIGHT
BEGIN:STANDARD
TZOFFSETFROM:+0100
TZOFFSETTO:+0000
TZNAME:GMT
DTSTART:20241027T010000
END:STANDARD
BEGIN:DAYLIGHT
TZOFFSETFROM:+0000
TZOFFSETTO:+0100
TZNAME:BST
DTSTART:20250330T010000
END:DAYLIGHT
BEGIN:STANDARD
TZOFFSETFROM:+0100
TZOFFSETTO:+0000
TZNAME:GMT
DTSTART:20251026T010000
END:STANDARD
BEGIN:DAYLIGHT
TZOFFSETFROM:+0000
TZOFFSETTO:+0100
TZNAME:BST
DTSTART:20260329T010000
END:DAYLIGHT
BEGIN:STANDARD
TZOFFSETFROM:+0100
TZOFFSETTO:+0000
TZNAME:GMT
DTSTART:20261025T010000
END:STANDARD
END:VTIMEZONE
BEGIN:VEVENT
DTSTART;VALUE=DATE:20250711
DTEND;VALUE=DATE:20250719
DTSTAMP:20260423T141837
CREATED:20250711T163505Z
LAST-MODIFIED:20250711T163528Z
UID:10001551-1752206400-1752811199@www.visitilfracombe.co.uk
SUMMARY:Weekly gig listing
DESCRIPTION:Here are this week’s musical delights in and around Ilfracombe. \n\n\n\nWeekly events\n\n\nSaturdays – Sunset Soundtrack with Steve Optix. Combe Martin beach\, 5.00 (until Aug 2nd)\n\n\nSundays – Open Mic Session\, Sandpiper\, 3.00\n\n\nThursdays – Open Mic\, Prince of Wales\, 8.00\n\n\nThursdays – Karaoke\, Snug & Hyde\, 8.00\n\n\n\n\n\nFriday 11th July\n\n\nSasha Brennand\, Monkey Puzzle\, 6.30\n\n\nRakes Adrift\, Lime Kiln\, 6.30\n\n\nBarn Dancing with Skermish\, West Down Village Hall\, (ticketed)\n\n\nSam Dowden\, George & Dragon. 9.00\n\n\n\nSaturday 12 July\n\n\nIbiza Sun-set with DJ Sexy Toast and Nick Fisher on Percussion\, Larkstone Cafe Bar\, 6.30\n\n\nFoo Fighters SW\, Landmark Pavillion\, 7.00 (ticketed)\n\n\nGabby Young & Other Animals\, HARTA Retreat\, 8.30 (ticketed)\n\n\nBasil’s balls up band\, George & Dragon\, 9.00\n\n\nStrange Brew\, Wellington Arms\, 9.00\n\n\nWyldwoods\, Sandpiper\, 9.00\n\n\n\nSunday 13 July\n\n\nJim Crawford\, HARTA Retreat\, 4.00\n\n\nthe Groove Collective\, Captain Jacks (Woolacombe)\, 4.00\n\n\n\nWednesday 16 July\n\n\nAcoustic night\, George & Dragon\, 8.00\n\n\n\n\n\n\nFull listing maintained on Facebook at Live Music in Ilfracombe (featured post)
URL:https://www.visitilfracombe.co.uk/event/weekly-gig-listing-5/
LOCATION:Ilfracombe\, Ilfracombe\, Devon\, United Kingdom
CATEGORIES:Ilfracombe Events
ATTACH;FMTTYPE=image/png:https://www.visitilfracombe.co.uk/wp-content/uploads/2025/06/Music-Roundup-graphic.png
END:VEVENT
BEGIN:VEVENT
DTSTART;TZID=Europe/London:20250714T100000
DTEND;TZID=Europe/London:20250714T160000
DTSTAMP:20260423T141837
CREATED:20250710T090530Z
LAST-MODIFIED:20250710T090736Z
UID:10001127-1752487200-1752508800@www.visitilfracombe.co.uk
SUMMARY:Summer of play at Arlington Court
DESCRIPTION:Our Summer of play is back for another year – with a new twist! \nVisit Olde Arlington\, a rambunctious place filled with laughter and fun\, and discover all the different people who kept a country estate running in the past. From checkers-playing tax collectors to sword-fighting bandits and a laundry labyrinth\, there’s lots to explore (just don’t get lost in the maze). \nEnjoy circus challenges\, hobby horse races\, water play\, and quiet picnic spots among the gardens. With themed zones across the site and a summer book trail through the grounds and gardens there is plenty to explore. \nNormal entry admission applies\, free for members
URL:https://www.visitilfracombe.co.uk/event/summer-of-play-at-arlington-court/2025-07-14/
LOCATION:Arlington Court\, Arlington Court National Trust\, Barnstaple\, EX31 4LP
CATEGORIES:North Devon Events
ATTACH;FMTTYPE=image/jpeg:https://www.visitilfracombe.co.uk/wp-content/uploads/2025/07/summer-of-play-2.jpg
ORGANIZER;CN="North Devon National Trust":MAILTO:northdevon@nationaltrust.org.uk
END:VEVENT
BEGIN:VEVENT
DTSTART;TZID=Europe/London:20250714T140000
DTEND;TZID=Europe/London:20250714T170000
DTSTAMP:20260423T141837
CREATED:20250710T092040Z
LAST-MODIFIED:20250710T092052Z
UID:10001546-1752501600-1752512400@www.visitilfracombe.co.uk
SUMMARY:
DESCRIPTION:Ever wondered about the wildlife that lives close to the shore? Join us on Monday 14th\, July for a wildlife watch at Baggy Point.\n\n\n\nMeet at the Baggy Point North Devon National Trust car park.\n\n\nFingers crossed for porpoises\, sea birds and more.\n\n\n\nFree event. No experience necessary. If you have binoculars please bring them along but we will have some spares.
URL:https://www.visitilfracombe.co.uk/event/47257/
LOCATION:Baggy Point NT Car Park\, Baggy Point National Trust Car ParkCroyde\, Braunton\, EX33 1PA
CATEGORIES:North Devon Events
ATTACH;FMTTYPE=image/jpeg:https://www.visitilfracombe.co.uk/wp-content/uploads/2025/07/517617410_1172033641617152_6717519307516389524_n.jpg
ORGANIZER;CN="North Devon Coast National Landscape":MAILTO:aonb@devon.gov.uk
END:VEVENT
END:VCALENDAR