BEGIN:VCALENDAR
VERSION:2.0
PRODID:-//Visit Ilfracombe - ECPv6.15.15//NONSGML v1.0//EN
CALSCALE:GREGORIAN
METHOD:PUBLISH
X-ORIGINAL-URL:https://www.visitilfracombe.co.uk
X-WR-CALDESC:Events for Visit Ilfracombe
REFRESH-INTERVAL;VALUE=DURATION:PT1H
X-Robots-Tag:noindex
X-PUBLISHED-TTL:PT1H
BEGIN:VTIMEZONE
TZID:Europe/London
BEGIN:DAYLIGHT
TZOFFSETFROM:+0000
TZOFFSETTO:+0100
TZNAME:BST
DTSTART:20240331T010000
END:DAYLIGHT
BEGIN:STANDARD
TZOFFSETFROM:+0100
TZOFFSETTO:+0000
TZNAME:GMT
DTSTART:20241027T010000
END:STANDARD
BEGIN:DAYLIGHT
TZOFFSETFROM:+0000
TZOFFSETTO:+0100
TZNAME:BST
DTSTART:20250330T010000
END:DAYLIGHT
BEGIN:STANDARD
TZOFFSETFROM:+0100
TZOFFSETTO:+0000
TZNAME:GMT
DTSTART:20251026T010000
END:STANDARD
BEGIN:DAYLIGHT
TZOFFSETFROM:+0000
TZOFFSETTO:+0100
TZNAME:BST
DTSTART:20260329T010000
END:DAYLIGHT
BEGIN:STANDARD
TZOFFSETFROM:+0100
TZOFFSETTO:+0000
TZNAME:GMT
DTSTART:20261025T010000
END:STANDARD
END:VTIMEZONE
BEGIN:VEVENT
DTSTART;VALUE=DATE:20250711
DTEND;VALUE=DATE:20250719
DTSTAMP:20260423T154520
CREATED:20250711T163505Z
LAST-MODIFIED:20250711T163528Z
UID:10001551-1752206400-1752811199@www.visitilfracombe.co.uk
SUMMARY:Weekly gig listing
DESCRIPTION:Here are this week’s musical delights in and around Ilfracombe. \n\n\n\nWeekly events\n\n\nSaturdays – Sunset Soundtrack with Steve Optix. Combe Martin beach\, 5.00 (until Aug 2nd)\n\n\nSundays – Open Mic Session\, Sandpiper\, 3.00\n\n\nThursdays – Open Mic\, Prince of Wales\, 8.00\n\n\nThursdays – Karaoke\, Snug & Hyde\, 8.00\n\n\n\n\n\nFriday 11th July\n\n\nSasha Brennand\, Monkey Puzzle\, 6.30\n\n\nRakes Adrift\, Lime Kiln\, 6.30\n\n\nBarn Dancing with Skermish\, West Down Village Hall\, (ticketed)\n\n\nSam Dowden\, George & Dragon. 9.00\n\n\n\nSaturday 12 July\n\n\nIbiza Sun-set with DJ Sexy Toast and Nick Fisher on Percussion\, Larkstone Cafe Bar\, 6.30\n\n\nFoo Fighters SW\, Landmark Pavillion\, 7.00 (ticketed)\n\n\nGabby Young & Other Animals\, HARTA Retreat\, 8.30 (ticketed)\n\n\nBasil’s balls up band\, George & Dragon\, 9.00\n\n\nStrange Brew\, Wellington Arms\, 9.00\n\n\nWyldwoods\, Sandpiper\, 9.00\n\n\n\nSunday 13 July\n\n\nJim Crawford\, HARTA Retreat\, 4.00\n\n\nthe Groove Collective\, Captain Jacks (Woolacombe)\, 4.00\n\n\n\nWednesday 16 July\n\n\nAcoustic night\, George & Dragon\, 8.00\n\n\n\n\n\n\nFull listing maintained on Facebook at Live Music in Ilfracombe (featured post)
URL:https://www.visitilfracombe.co.uk/event/weekly-gig-listing-5/
LOCATION:Ilfracombe\, Ilfracombe\, Devon\, United Kingdom
CATEGORIES:Ilfracombe Events
ATTACH;FMTTYPE=image/png:https://www.visitilfracombe.co.uk/wp-content/uploads/2025/06/Music-Roundup-graphic.png
END:VEVENT
BEGIN:VEVENT
DTSTART;TZID=Europe/London:20250713T100000
DTEND;TZID=Europe/London:20250713T160000
DTSTAMP:20260423T154520
CREATED:20250710T090530Z
LAST-MODIFIED:20250710T090736Z
UID:10001126-1752400800-1752422400@www.visitilfracombe.co.uk
SUMMARY:Summer of play at Arlington Court
DESCRIPTION:Our Summer of play is back for another year – with a new twist! \nVisit Olde Arlington\, a rambunctious place filled with laughter and fun\, and discover all the different people who kept a country estate running in the past. From checkers-playing tax collectors to sword-fighting bandits and a laundry labyrinth\, there’s lots to explore (just don’t get lost in the maze). \nEnjoy circus challenges\, hobby horse races\, water play\, and quiet picnic spots among the gardens. With themed zones across the site and a summer book trail through the grounds and gardens there is plenty to explore. \nNormal entry admission applies\, free for members
URL:https://www.visitilfracombe.co.uk/event/summer-of-play-at-arlington-court/2025-07-13/
LOCATION:Arlington Court\, Arlington Court National Trust\, Barnstaple\, EX31 4LP
CATEGORIES:North Devon Events
ATTACH;FMTTYPE=image/jpeg:https://www.visitilfracombe.co.uk/wp-content/uploads/2025/07/summer-of-play-2.jpg
ORGANIZER;CN="North Devon National Trust":MAILTO:northdevon@nationaltrust.org.uk
END:VEVENT
BEGIN:VEVENT
DTSTART;TZID=Europe/London:20250713T120000
DTEND;TZID=Europe/London:20250713T170000
DTSTAMP:20260423T154520
CREATED:20250710T085229Z
LAST-MODIFIED:20250710T085229Z
UID:10001120-1752408000-1752426000@www.visitilfracombe.co.uk
SUMMARY:Banger Racing
DESCRIPTION:From one championship to another next up its the turn of the Rwds in their track championship\, who will take the gold roof for 2025?\n\n\nAlso racing is Rookies\, Fwd rods\, Junior rods and junior novice.\n\n\nA great day out for all the family\, weather is looking warm \, so why not make the most of the weather and come watch some racing.\n\n\nWe have food\, drink and ice cream outlets on site.\n\n\n Cash only on entrance gate\, but couple of food vans do take card.\n\n\nHead over too our Facebook page South West Banger Racing Club
URL:https://www.visitilfracombe.co.uk/event/banger-racing-4/
LOCATION:Mullacott Cross EX34 8PL\, Mullacott Cross\, Ilfracombe\, EX34 8PL
CATEGORIES:North Devon Events
ATTACH;FMTTYPE=image/jpeg:https://www.visitilfracombe.co.uk/wp-content/uploads/2025/07/516888859_10240677779108204_4477540740287498251_n.jpg
END:VEVENT
END:VCALENDAR