BEGIN:VCALENDAR
VERSION:2.0
PRODID:-//Visit Ilfracombe - ECPv6.15.15//NONSGML v1.0//EN
CALSCALE:GREGORIAN
METHOD:PUBLISH
X-WR-CALNAME:Visit Ilfracombe
X-ORIGINAL-URL:https://www.visitilfracombe.co.uk
X-WR-CALDESC:Events for Visit Ilfracombe
REFRESH-INTERVAL;VALUE=DURATION:PT1H
X-Robots-Tag:noindex
X-PUBLISHED-TTL:PT1H
BEGIN:VTIMEZONE
TZID:Europe/London
BEGIN:DAYLIGHT
TZOFFSETFROM:+0000
TZOFFSETTO:+0100
TZNAME:BST
DTSTART:20240331T010000
END:DAYLIGHT
BEGIN:STANDARD
TZOFFSETFROM:+0100
TZOFFSETTO:+0000
TZNAME:GMT
DTSTART:20241027T010000
END:STANDARD
BEGIN:DAYLIGHT
TZOFFSETFROM:+0000
TZOFFSETTO:+0100
TZNAME:BST
DTSTART:20250330T010000
END:DAYLIGHT
BEGIN:STANDARD
TZOFFSETFROM:+0100
TZOFFSETTO:+0000
TZNAME:GMT
DTSTART:20251026T010000
END:STANDARD
BEGIN:DAYLIGHT
TZOFFSETFROM:+0000
TZOFFSETTO:+0100
TZNAME:BST
DTSTART:20260329T010000
END:DAYLIGHT
BEGIN:STANDARD
TZOFFSETFROM:+0100
TZOFFSETTO:+0000
TZNAME:GMT
DTSTART:20261025T010000
END:STANDARD
END:VTIMEZONE
BEGIN:VEVENT
DTSTART;VALUE=DATE:20250620
DTEND;VALUE=DATE:20250624
DTSTAMP:20260423T182041
CREATED:20250307T125503Z
LAST-MODIFIED:20250307T131328Z
UID:10000018-1750392000-1750651199@www.visitilfracombe.co.uk
SUMMARY:Gold Coast Oceanfest
DESCRIPTION:The 26th multi-award-winning GoldCoast Oceanfest\, set against the backdrop of a sun-drenched Atlantic\, it’s big enough to create a great party atmosphere\, yet small enough to not be overwhelming. \nSimple enjoyment for all – the GoldCoast Oceanfest midsummer weekend is all about good times\, great music\, keeping fit and looking after the environment. \nGrown organically\, with great care and affection since 1999\, Oceanfest blends a potentially intoxicating\, eclectic and laid-back mix of quality music\, exhilarating surf\, action-packed sports\, locally sourced food and family‑friendly fun. \nGo to the website to check the line up and to book on line.
URL:https://www.visitilfracombe.co.uk/event/gold-coast-oceanfest/
LOCATION:Devon
CATEGORIES:North Devon Events
ATTACH;FMTTYPE=image/jpeg:https://www.visitilfracombe.co.uk/wp-content/uploads/2024/06/oceanfest-logo-homepage-full-2025.jpg
END:VEVENT
BEGIN:VEVENT
DTSTART;VALUE=DATE:20250620
DTEND;VALUE=DATE:20250628
DTSTAMP:20260423T182041
CREATED:20250613T075945Z
LAST-MODIFIED:20250620T083139Z
UID:10000204-1750392000-1750996799@www.visitilfracombe.co.uk
SUMMARY:Weekly gig listing
DESCRIPTION:Here are this weekend’s musical delights in and around Ilfracombe. \n\nWeekly events\n\n\nSaturdays – Sunset Soundtrack with Steve Optix. Combe Martin beach\, 5.00 (until Aug 2nd)\n\n\nSundays – Open Mic Session\, Sandpiper\, 3.00\n\n\nThursdays – Open Mic\, Prince of Wales\, 8.00\n\n\nThursdays – Karaoke with Kat\, Snug & Hyde\, 8.00\n\n\n\n\n\nFriday 20 June\n\n\nSummer Solstice ft DJ Steve Optix\, Lime Kiln Cafe & Bar\, 6.00\n\n\nOllie Clark\, North Devon Resort\, 6.30\n\n\nBlack Sands\, Larkstone Cafe Bar\, 7.30\n\n\nJason Howard\, Prince of Wales\, 8.30\n\n\nBig Al and the Wild Strawberries\, Wellington Arms\, 9.00\n\n\nGrizzly Rhys Morgan\, George & Dragon\, 9.00\n\n\n\nSaturday 21 June\n\n\nBroadsands Sessions with Alan Phillips\, Ilfracombe Princess\, 6.30 (ticketed)\n\n\nThe Fleetwood Mac Songbook \, Landmark\, 7.30 (ticketed)\n\n\nCoral Ann\, Prince of Wales\, 8.30\n\n\nRegional 1 + Sasha Brennand\, Sandpiper\, 9.00\n\n\nSoul Endeavour\, George & Dragon\, 9.00\n\n\nFull listing maintained on Facebook at Live Music in Ilfracombe (featured post)
URL:https://www.visitilfracombe.co.uk/event/weekly-gig-listing-2/
LOCATION:Ilfracombe\, Ilfracombe\, Devon\, United Kingdom
CATEGORIES:Ilfracombe Events
ATTACH;FMTTYPE=image/png:https://www.visitilfracombe.co.uk/wp-content/uploads/2025/06/Music-Roundup-graphic.png
END:VEVENT
BEGIN:VEVENT
DTSTART;TZID=Europe/London:20250621T110000
DTEND;TZID=Europe/London:20250621T160000
DTSTAMP:20260423T182041
CREATED:20250605T124848Z
LAST-MODIFIED:20250605T124848Z
UID:10000200-1750503600-1750521600@www.visitilfracombe.co.uk
SUMMARY:Barnstaple Diversity Festival & Pride March 2025
DESCRIPTION:We’re excited to invite you to support Barnstaple’s Diversity & Pride Festival 2025 – a vibrant\, free community event celebrating inclusion\, culture\, and LGBTQ+ pride in North Devon! Date: 21 June 2025 Pride Walk: 10.45am at Library Square Festival : 12pm-4pmThis celebration brings together people of all backgrounds for a joyful day of music\, food\, performances\, and cultural sharing. It’s a powerful reminder of the strength and beauty in our community’s diversity.
URL:https://www.visitilfracombe.co.uk/event/barnstaple-diversity-festival-pride-march-2025/
LOCATION:Castle Green\, Castle Hill Green\, Barnstaple\, EX31 1DT
CATEGORIES:North Devon Events
ATTACH;FMTTYPE=image/jpeg:https://www.visitilfracombe.co.uk/wp-content/uploads/2025/06/pride-banner.jpeg
END:VEVENT
BEGIN:VEVENT
DTSTART;TZID=Europe/London:20250621T140000
DTEND;TZID=Europe/London:20250621T153000
DTSTAMP:20260423T182041
CREATED:20250603T133532Z
LAST-MODIFIED:20250603T133758Z
UID:10000132-1750514400-1750519800@www.visitilfracombe.co.uk
SUMMARY:Guided Lifeboat History Walks
DESCRIPTION:  \n\nWe have some fantastic guided walks around our lifeboat trail coming up this month! Just turn up on the day.\n\n\nOr you can pick up a map from the RNLI shop or lifeboat station and walk around the trail yourself any time.
URL:https://www.visitilfracombe.co.uk/event/guided-lifeboat-history-walks/2025-06-21/
LOCATION:RNLI Ilfracombe\, RNLI Ilfracombe Lifeboat Station\, Lifeboat House\, Broad St\, Ilfracombe\, Devon\, EX34 9EE\, United Kingdom
CATEGORIES:Ilfracombe Events
ATTACH;FMTTYPE=image/jpeg:https://www.visitilfracombe.co.uk/wp-content/uploads/2025/06/trail-1.jpg
END:VEVENT
BEGIN:VEVENT
DTSTART;TZID=Europe/London:20250621T193000
DTEND;TZID=Europe/London:20250621T223000
DTSTAMP:20260423T182041
CREATED:20250519T113045Z
LAST-MODIFIED:20250519T131115Z
UID:10000086-1750534200-1750545000@www.visitilfracombe.co.uk
SUMMARY:The Fleetwood Mac Songbook
DESCRIPTION:‘The Fleetwood Mac Songbook’ features six experienced musicians who are dedicated to recreating the magical sounds of one of music’s most enduring groups – Fleetwood Mac! \nTouring across the UK since 2018\, and earning rave reviews from Fleetwood Mac fans and venues wherever they appear\, The Fleetwood Mac Songbook’s dynamic\, hit packed show includes well loved songs from all eras of FM’s incredible six decade career … Go Your Own Way\, Little Lies\, Dreams\, The Chain (the Formula One racing theme song)\, Don’t Stop\, Everywhere\, Rhiannon\, Seven Wonders\, Oh Well\, Big Love … from the 60’s ‘Blues’ incarnation of the band with frontman\, Peter Green\, through to the 70’s massive\, multi million selling ‘Rumours’ album and slick 80’s\, hit single packed production\, ‘Tango In The Night’ this is a popular show for all ages and the urge to get up and dance always proves to be irresistible ! \nTrailer:
URL:https://www.visitilfracombe.co.uk/event/the-fleetwood-mac-songbook/
LOCATION:The Landmark Theatre\, The Landmark Theatre\, Promenade\, Ilfracombe\, Devon\, EX34 9BZ\, United Kingdom
CATEGORIES:Ilfracombe Events
ATTACH;FMTTYPE=image/jpeg:https://www.visitilfracombe.co.uk/wp-content/uploads/2025/05/fleetwood-mac-songbook-850x478-1.jpg
ORGANIZER;CN="The Landmark Theatre":MAILTO:northdevon.tickets@landmarktheatres.co.uk
END:VEVENT
END:VCALENDAR