BEGIN:VCALENDAR
VERSION:2.0
PRODID:-//Visit Ilfracombe - ECPv6.15.15//NONSGML v1.0//EN
CALSCALE:GREGORIAN
METHOD:PUBLISH
X-ORIGINAL-URL:https://www.visitilfracombe.co.uk
X-WR-CALDESC:Events for Visit Ilfracombe
REFRESH-INTERVAL;VALUE=DURATION:PT1H
X-Robots-Tag:noindex
X-PUBLISHED-TTL:PT1H
BEGIN:VTIMEZONE
TZID:Europe/London
BEGIN:DAYLIGHT
TZOFFSETFROM:+0000
TZOFFSETTO:+0100
TZNAME:BST
DTSTART:20240331T010000
END:DAYLIGHT
BEGIN:STANDARD
TZOFFSETFROM:+0100
TZOFFSETTO:+0000
TZNAME:GMT
DTSTART:20241027T010000
END:STANDARD
BEGIN:DAYLIGHT
TZOFFSETFROM:+0000
TZOFFSETTO:+0100
TZNAME:BST
DTSTART:20250330T010000
END:DAYLIGHT
BEGIN:STANDARD
TZOFFSETFROM:+0100
TZOFFSETTO:+0000
TZNAME:GMT
DTSTART:20251026T010000
END:STANDARD
BEGIN:DAYLIGHT
TZOFFSETFROM:+0000
TZOFFSETTO:+0100
TZNAME:BST
DTSTART:20260329T010000
END:DAYLIGHT
BEGIN:STANDARD
TZOFFSETFROM:+0100
TZOFFSETTO:+0000
TZNAME:GMT
DTSTART:20261025T010000
END:STANDARD
END:VTIMEZONE
BEGIN:VEVENT
DTSTART;TZID=Europe/London:20250613T180000
DTEND;TZID=Europe/London:20250613T210000
DTSTAMP:20260423T183317
CREATED:20250605T092554Z
LAST-MODIFIED:20250613T160022Z
UID:10000198-1749837600-1749848400@www.visitilfracombe.co.uk
SUMMARY:2 Silent Discos
DESCRIPTION:Children from 6pm to 7pm \nAdults from 7.30pm to 9pm \nBar and Snacks available
URL:https://www.visitilfracombe.co.uk/event/2-silent-discos/
LOCATION:St. Peter’s Church\, St. Peter's Church\, Highfield Rd\, Ilfracombe\, EX34 9LH
CATEGORIES:Ilfracombe Events
ATTACH;FMTTYPE=image/jpeg:https://www.visitilfracombe.co.uk/wp-content/uploads/2025/06/Silent-Disco-Poster-on-Heading-25-1.jpg
END:VEVENT
BEGIN:VEVENT
DTSTART;TZID=Europe/London:20250613T193000
DTEND;TZID=Europe/London:20250613T213000
DTSTAMP:20260423T183317
CREATED:20250520T084101Z
LAST-MODIFIED:20250520T084205Z
UID:10000095-1749843000-1749850200@www.visitilfracombe.co.uk
SUMMARY:Live Music with The Greater Good
DESCRIPTION:Known for getting the crowd up and dancing\, The Greater Good are a brilliant band visiting us this June! great vibes all round – we can’t wait!\n\n\nFamily Friendly\nFood & Drink Available\nStunning Sea Views\nFree Entry!
URL:https://www.visitilfracombe.co.uk/event/live-music-with-the-greater-good/
LOCATION:Larkstone Cafe Bar\, Larkstone Cafe Bar\, Larkstone Gardens\, Ilfracombe\, EX34 9QG
CATEGORIES:Ilfracombe Events
ATTACH;FMTTYPE=image/jpeg:https://www.visitilfracombe.co.uk/wp-content/uploads/2025/05/Larkstone-GG.jpg
END:VEVENT
END:VCALENDAR