BEGIN:VCALENDAR
VERSION:2.0
PRODID:-//Visit Ilfracombe - ECPv6.15.15//NONSGML v1.0//EN
CALSCALE:GREGORIAN
METHOD:PUBLISH
X-WR-CALNAME:Visit Ilfracombe
X-ORIGINAL-URL:https://www.visitilfracombe.co.uk
X-WR-CALDESC:Events for Visit Ilfracombe
REFRESH-INTERVAL;VALUE=DURATION:PT1H
X-Robots-Tag:noindex
X-PUBLISHED-TTL:PT1H
BEGIN:VTIMEZONE
TZID:Europe/London
BEGIN:DAYLIGHT
TZOFFSETFROM:+0000
TZOFFSETTO:+0100
TZNAME:BST
DTSTART:20240331T010000
END:DAYLIGHT
BEGIN:STANDARD
TZOFFSETFROM:+0100
TZOFFSETTO:+0000
TZNAME:GMT
DTSTART:20241027T010000
END:STANDARD
BEGIN:DAYLIGHT
TZOFFSETFROM:+0000
TZOFFSETTO:+0100
TZNAME:BST
DTSTART:20250330T010000
END:DAYLIGHT
BEGIN:STANDARD
TZOFFSETFROM:+0100
TZOFFSETTO:+0000
TZNAME:GMT
DTSTART:20251026T010000
END:STANDARD
BEGIN:DAYLIGHT
TZOFFSETFROM:+0000
TZOFFSETTO:+0100
TZNAME:BST
DTSTART:20260329T010000
END:DAYLIGHT
BEGIN:STANDARD
TZOFFSETFROM:+0100
TZOFFSETTO:+0000
TZNAME:GMT
DTSTART:20261025T010000
END:STANDARD
END:VTIMEZONE
BEGIN:VEVENT
DTSTART;TZID=Europe/London:20250606T110000
DTEND;TZID=Europe/London:20250608T220000
DTSTAMP:20260423T182046
CREATED:20250525T134248Z
LAST-MODIFIED:20250603T082756Z
UID:10000109-1749207600-1749420000@www.visitilfracombe.co.uk
SUMMARY:Here for the Music Festival 2025
DESCRIPTION:Hosted for the 5th year at The Big Sheep\, Devon and off the back of our best festival yet… \nWhat to expect from HFTM 2025 \n\n2 Festival Stages (No Clashes)\nMusic & Arts Stage – Songwriter Sessions\, Drum Lessons and Workshops\nALL+ Open Mic and Performance Stage (Keep an eye out for more updates for this)\nBouncing Pillows\, Soft Play\, Animal Barn\, and Rollercoaster (timings across the weekend TBC)\n\n  \nWeekend Timings\nFriday – Gates Open 11:00 First Artist 12:00 Curfew on festival site 22:00\nSaturday – Gates Open 11:00 First Artist 11:30 Curfew on festival site 22:00\nSunday – Gates Open 10:30 First Artist 11:00 Curfew on festival site 18:00 \n 
URL:https://www.visitilfracombe.co.uk/event/here-for-the-music-festival-2025/
LOCATION:The Big Sheep\, The Big Sheep\, Abbotsham Rd\, Abbotsham\, Bideford\, Devon\, EX39 5AP\, United Kingdom
CATEGORIES:North Devon Events
ATTACH;FMTTYPE=image/jpeg:https://www.visitilfracombe.co.uk/wp-content/uploads/2025/05/Bands2.jpg
ORGANIZER;CN="The Big Sheep":MAILTO:info@thebigsheep.co.uk
END:VEVENT
BEGIN:VEVENT
DTSTART;TZID=Europe/London:20250607T183000
DTEND;TZID=Europe/London:20250607T213000
DTSTAMP:20260423T182046
CREATED:20250520T084456Z
LAST-MODIFIED:20250520T084535Z
UID:10000096-1749321000-1749331800@www.visitilfracombe.co.uk
SUMMARY:Reggae Sun-Set Session with DJ LairdGrooves
DESCRIPTION:REGGAE SUN-SET WITH DJ LAIRDGROOVES – SATURDAY 7TH JUNE 2025 – 6:30PM-9:30PM\nLairdGrooves had Larkstone Cafe Bar PACKED whilst playing his incredible reggae set. From his upbeat bangers to his chilled jams\, there was something for everyone to enjoy – all whilst surrounded by the incredible sea views we have to offer. The best way to enjoy an evening in Ilfracombe.\n\n\nFamily Friendly\nFood & Drink available\nStunning Sea Views\nTickets available at https://larkstonecafe-bar.co.uk/buy-tickets
URL:https://www.visitilfracombe.co.uk/event/reggae-sun-set-session-with-dj-lairdgrooves/
LOCATION:Larkstone Cafe Bar\, Larkstone Cafe Bar\, Larkstone Gardens\, Ilfracombe\, EX34 9QG
CATEGORIES:Ilfracombe Events
ATTACH;FMTTYPE=image/jpeg:https://www.visitilfracombe.co.uk/wp-content/uploads/2025/05/Larkstone-7-June.jpg
END:VEVENT
BEGIN:VEVENT
DTSTART;TZID=Europe/London:20250607T190000
DTEND;TZID=Europe/London:20250607T220000
DTSTAMP:20260423T182046
CREATED:20250519T112826Z
LAST-MODIFIED:20250519T130923Z
UID:10000091-1749322800-1749333600@www.visitilfracombe.co.uk
SUMMARY:National Theatre Live Screening: A Streetcar Named Desire
DESCRIPTION:Gillian Anderson (Sex Education)\, Vanessa Kirby (The Crown)\, and Ben Foster (Lone Survivor) lead the cast in Tennessee Williams’ timeless masterpiece\, returning to cinemas.\nAs Blanche’s fragile world crumbles\, she turns to her sister Stella for solace – but her downward spiral brings her face to face with the brutal\, unforgiving Stanley Kowalski.\nFrom visionary director Benedict Andrews\, this acclaimed production was filmed live during a sold-out run at the Young Vic Theatre in 2014.
URL:https://www.visitilfracombe.co.uk/event/national-theatre-live-screening-a-streetcar-named-desire/
LOCATION:The Landmark Theatre\, The Landmark Theatre\, Promenade\, Ilfracombe\, Devon\, EX34 9BZ\, United Kingdom
CATEGORIES:Ilfracombe Events
ATTACH;FMTTYPE=image/jpeg:https://www.visitilfracombe.co.uk/wp-content/uploads/2025/05/streetcare.jpg
ORGANIZER;CN="The Landmark Theatre":MAILTO:northdevon.tickets@landmarktheatres.co.uk
END:VEVENT
BEGIN:VEVENT
DTSTART;TZID=Europe/London:20250607T203000
DTEND;TZID=Europe/London:20250607T220000
DTSTAMP:20260423T182046
CREATED:20250606T163551Z
LAST-MODIFIED:20250606T163551Z
UID:10000201-1749328200-1749333600@www.visitilfracombe.co.uk
SUMMARY:Hatchet Jack at the Prince of Wales
DESCRIPTION:Our Saturday 7th June gig has changed\, and we now have Hatchet Jack with us\, from 8:30pm
URL:https://www.visitilfracombe.co.uk/event/hatchet-jack-at-the-prince-of-wales/
LOCATION:Prince of Wales\, Prince of Wales\, 2 Fore St\, Ilfracombe\, EX34 9ED
CATEGORIES:Ilfracombe Events
ATTACH;FMTTYPE=image/png:https://www.visitilfracombe.co.uk/wp-content/uploads/2025/06/Music-Gig-graphic.png
END:VEVENT
END:VCALENDAR