BEGIN:VCALENDAR
VERSION:2.0
PRODID:-//Visit Ilfracombe - ECPv6.15.15//NONSGML v1.0//EN
CALSCALE:GREGORIAN
METHOD:PUBLISH
X-ORIGINAL-URL:https://www.visitilfracombe.co.uk
X-WR-CALDESC:Events for Visit Ilfracombe
REFRESH-INTERVAL;VALUE=DURATION:PT1H
X-Robots-Tag:noindex
X-PUBLISHED-TTL:PT1H
BEGIN:VTIMEZONE
TZID:Europe/London
BEGIN:DAYLIGHT
TZOFFSETFROM:+0000
TZOFFSETTO:+0100
TZNAME:BST
DTSTART:20240331T010000
END:DAYLIGHT
BEGIN:STANDARD
TZOFFSETFROM:+0100
TZOFFSETTO:+0000
TZNAME:GMT
DTSTART:20241027T010000
END:STANDARD
BEGIN:DAYLIGHT
TZOFFSETFROM:+0000
TZOFFSETTO:+0100
TZNAME:BST
DTSTART:20250330T010000
END:DAYLIGHT
BEGIN:STANDARD
TZOFFSETFROM:+0100
TZOFFSETTO:+0000
TZNAME:GMT
DTSTART:20251026T010000
END:STANDARD
BEGIN:DAYLIGHT
TZOFFSETFROM:+0000
TZOFFSETTO:+0100
TZNAME:BST
DTSTART:20260329T010000
END:DAYLIGHT
BEGIN:STANDARD
TZOFFSETFROM:+0100
TZOFFSETTO:+0000
TZNAME:GMT
DTSTART:20261025T010000
END:STANDARD
END:VTIMEZONE
BEGIN:VEVENT
DTSTART;TZID=Europe/London:20250606T110000
DTEND;TZID=Europe/London:20250608T220000
DTSTAMP:20260423T183150
CREATED:20250525T134248Z
LAST-MODIFIED:20250603T082756Z
UID:10000109-1749207600-1749420000@www.visitilfracombe.co.uk
SUMMARY:Here for the Music Festival 2025
DESCRIPTION:Hosted for the 5th year at The Big Sheep\, Devon and off the back of our best festival yet… \nWhat to expect from HFTM 2025 \n\n2 Festival Stages (No Clashes)\nMusic & Arts Stage – Songwriter Sessions\, Drum Lessons and Workshops\nALL+ Open Mic and Performance Stage (Keep an eye out for more updates for this)\nBouncing Pillows\, Soft Play\, Animal Barn\, and Rollercoaster (timings across the weekend TBC)\n\n  \nWeekend Timings\nFriday – Gates Open 11:00 First Artist 12:00 Curfew on festival site 22:00\nSaturday – Gates Open 11:00 First Artist 11:30 Curfew on festival site 22:00\nSunday – Gates Open 10:30 First Artist 11:00 Curfew on festival site 18:00 \n 
URL:https://www.visitilfracombe.co.uk/event/here-for-the-music-festival-2025/
LOCATION:The Big Sheep\, The Big Sheep\, Abbotsham Rd\, Abbotsham\, Bideford\, Devon\, EX39 5AP\, United Kingdom
CATEGORIES:North Devon Events
ATTACH;FMTTYPE=image/jpeg:https://www.visitilfracombe.co.uk/wp-content/uploads/2025/05/Bands2.jpg
ORGANIZER;CN="The Big Sheep":MAILTO:info@thebigsheep.co.uk
END:VEVENT
BEGIN:VEVENT
DTSTART;TZID=Europe/London:20250606T210000
DTEND;TZID=Europe/London:20250606T223000
DTSTAMP:20260423T183150
CREATED:20250605T103303Z
LAST-MODIFIED:20250617T150002Z
UID:10000199-1749243600-1749249000@www.visitilfracombe.co.uk
SUMMARY:Full Circle at the George and Dragon
DESCRIPTION:Indie Folk group Full Circle will be performing at the George and Dragon on Friday at 9pm
URL:https://www.visitilfracombe.co.uk/event/full-circle-at-the-george-and-dragon/
LOCATION:George & Dragon Pub\, George & Dragon\, Fore Street\, Ilfracombe\, EX34 9ED
CATEGORIES:Ilfracombe Events
ATTACH;FMTTYPE=image/jpeg:https://www.visitilfracombe.co.uk/wp-content/uploads/2025/06/Gand-D-6-June.jpg
END:VEVENT
END:VCALENDAR