BEGIN:VCALENDAR
VERSION:2.0
PRODID:-//Visit Ilfracombe - ECPv6.15.15//NONSGML v1.0//EN
CALSCALE:GREGORIAN
METHOD:PUBLISH
X-WR-CALNAME:Visit Ilfracombe
X-ORIGINAL-URL:https://www.visitilfracombe.co.uk
X-WR-CALDESC:Events for Visit Ilfracombe
REFRESH-INTERVAL;VALUE=DURATION:PT1H
X-Robots-Tag:noindex
X-PUBLISHED-TTL:PT1H
BEGIN:VTIMEZONE
TZID:Europe/London
BEGIN:DAYLIGHT
TZOFFSETFROM:+0000
TZOFFSETTO:+0100
TZNAME:BST
DTSTART:20240331T010000
END:DAYLIGHT
BEGIN:STANDARD
TZOFFSETFROM:+0100
TZOFFSETTO:+0000
TZNAME:GMT
DTSTART:20241027T010000
END:STANDARD
BEGIN:DAYLIGHT
TZOFFSETFROM:+0000
TZOFFSETTO:+0100
TZNAME:BST
DTSTART:20250330T010000
END:DAYLIGHT
BEGIN:STANDARD
TZOFFSETFROM:+0100
TZOFFSETTO:+0000
TZNAME:GMT
DTSTART:20251026T010000
END:STANDARD
BEGIN:DAYLIGHT
TZOFFSETFROM:+0000
TZOFFSETTO:+0100
TZNAME:BST
DTSTART:20260329T010000
END:DAYLIGHT
BEGIN:STANDARD
TZOFFSETFROM:+0100
TZOFFSETTO:+0000
TZNAME:GMT
DTSTART:20261025T010000
END:STANDARD
END:VTIMEZONE
BEGIN:VEVENT
DTSTART;TZID=Europe/London:20250531T180000
DTEND;TZID=Europe/London:20250531T200000
DTSTAMP:20260423T183040
CREATED:20250522T105808Z
LAST-MODIFIED:20250522T110043Z
UID:10000101-1748714400-1748721600@www.visitilfracombe.co.uk
SUMMARY:Broadsands Session with Laird Grooves aboard the Big Yellow Boat!
DESCRIPTION:An Evening of Music and Magic\n\n\nYour musical adventure begins aboard the Ilfracombe Princess\, where we’ll journey a brief 10 minutes to the beautiful Broadsands Beach. Known as the ‘Little Thailand’ for its surreal surroundings\, Broadsands offers a unique\, serene setting for our evening escapade. \nAs we drop anchor\, prepare to be swept away by a captivating blend of melodies and rhythms. Our line-up of performers is guaranteed to hit the right note with a fantastic mixture of music. \nBut that’s not all! We’ve also got local bands showcasing a variety of genres\, along with soul singers ready to serenade you as the sun sets. This 2-hour trip provides an auditory feast set against a breathtaking backdrop\, offering an experience you won’t find anywhere else. \nAnd what’s an evening at sea without some refreshments? Our bar is well-stocked with a variety of ciders\, wines\, and beers – is ready to quench your thirst as you take in beautiful Broadsands Bay. \n\nAs we journey back to Ilfracombe\, you’ll be treated to the stunning view of the sun setting over the sea\, casting a golden glow over the Princess and her merry passengers. \n\nSunset coming home\nNicknamed  The Little Thailand\nSurreal surroundings\nMixture of music from local DJs\, bands\, and singers\nBar on board – Ciders\, wines and beers.\n\n  \nThe Broadsands Beach Sessions promise evenings filled with laughter\, music\, and unforgettable memories. So\, come aboard and let the rhythm of the waves and the harmony of the music transport you to a world of joy and tranquillity. \nCome sail with us under the setting sun and starlit sky\, and experience the magic of music in the most unique setting imaginable. Book your tickets today! \nBook here  www.ilfracombeprincess.co.uk/trip/broadsands-sessions/
URL:https://www.visitilfracombe.co.uk/event/broadsands-session-with-laird-grooves-aboard-the-big-yellow-boat/
LOCATION:Ilfracombe Harbour Area\, The Quay\, Ilfracombe\, Devon
CATEGORIES:Ilfracombe Events
ATTACH;FMTTYPE=image/jpeg:https://www.visitilfracombe.co.uk/wp-content/uploads/2025/05/Broadsands.jpg
ORGANIZER;CN="Ilfracombe Princess":MAILTO:info@ilfracombeprincess.co.uk
END:VEVENT
BEGIN:VEVENT
DTSTART;TZID=Europe/London:20250531T200000
DTEND;TZID=Europe/London:20250531T210000
DTSTAMP:20260423T183040
CREATED:20250530T115956Z
LAST-MODIFIED:20250530T120203Z
UID:10000128-1748721600-1748725200@www.visitilfracombe.co.uk
SUMMARY:Steve Valentine at the Prince of Wales
DESCRIPTION:Solo vocalist\, Steve Valentine\, the 50s & 60s man 8pm\n DO NOT MISS THIS WEEKEND
URL:https://www.visitilfracombe.co.uk/event/steve-valentine-at-the-prince-of-wales-copy/
LOCATION:Prince of Wales\, Prince of Wales\, 2 Fore St\, Ilfracombe\, EX34 9ED
CATEGORIES:Ilfracombe Events
ATTACH;FMTTYPE=image/jpeg:https://www.visitilfracombe.co.uk/wp-content/uploads/2025/05/PoW-Steve-Valentine.jpg
END:VEVENT
BEGIN:VEVENT
DTSTART;TZID=Europe/London:20250531T203000
DTEND;TZID=Europe/London:20250531T220000
DTSTAMP:20260423T183040
CREATED:20250530T112415Z
LAST-MODIFIED:20250530T115003Z
UID:10000125-1748723400-1748728800@www.visitilfracombe.co.uk
SUMMARY:The Black Sands
DESCRIPTION:Live Music This Saturday Night! \nJoin us for an unforgettable evening as The Black Sands take the stage at 8:30pm.Great vibes\, good company\, and fantastic live music you won’t want to miss it!
URL:https://www.visitilfracombe.co.uk/event/the-black-sands/
LOCATION:Hele Bay Pub\, The Hele Bay Pub\, 38 Beach Rd\, Hele Bay\, Ilfracombe\, EX34 9QZ
CATEGORIES:Ilfracombe Events
ATTACH;FMTTYPE=image/jpeg:https://www.visitilfracombe.co.uk/wp-content/uploads/2025/05/Hele-Bay-31-MAy.jpg
END:VEVENT
END:VCALENDAR