BEGIN:VCALENDAR
VERSION:2.0
PRODID:-//Visit Ilfracombe - ECPv6.15.15//NONSGML v1.0//EN
CALSCALE:GREGORIAN
METHOD:PUBLISH
X-WR-CALNAME:Visit Ilfracombe
X-ORIGINAL-URL:https://www.visitilfracombe.co.uk
X-WR-CALDESC:Events for Visit Ilfracombe
REFRESH-INTERVAL;VALUE=DURATION:PT1H
X-Robots-Tag:noindex
X-PUBLISHED-TTL:PT1H
BEGIN:VTIMEZONE
TZID:Europe/London
BEGIN:DAYLIGHT
TZOFFSETFROM:+0000
TZOFFSETTO:+0100
TZNAME:BST
DTSTART:20240331T010000
END:DAYLIGHT
BEGIN:STANDARD
TZOFFSETFROM:+0100
TZOFFSETTO:+0000
TZNAME:GMT
DTSTART:20241027T010000
END:STANDARD
BEGIN:DAYLIGHT
TZOFFSETFROM:+0000
TZOFFSETTO:+0100
TZNAME:BST
DTSTART:20250330T010000
END:DAYLIGHT
BEGIN:STANDARD
TZOFFSETFROM:+0100
TZOFFSETTO:+0000
TZNAME:GMT
DTSTART:20251026T010000
END:STANDARD
BEGIN:DAYLIGHT
TZOFFSETFROM:+0000
TZOFFSETTO:+0100
TZNAME:BST
DTSTART:20260329T010000
END:DAYLIGHT
BEGIN:STANDARD
TZOFFSETFROM:+0100
TZOFFSETTO:+0000
TZNAME:GMT
DTSTART:20261025T010000
END:STANDARD
END:VTIMEZONE
BEGIN:VEVENT
DTSTART;TZID=Europe/London:20250405T100000
DTEND;TZID=Europe/London:20250421T170000
DTSTAMP:20260423T211136
CREATED:20250325T113702Z
LAST-MODIFIED:20250325T113702Z
UID:10000029-1743847200-1745254800@www.visitilfracombe.co.uk
SUMMARY:Easter Fun on the Farm
DESCRIPTION:Our multi-award-winning Theme Park is guaranteed to be the highlight of your Easter holiday! \nJoin us for the BIG Easter Trail and WIN an Easter Egg! (only £2 per person) \nVisit the newborn lambs and cuddle our Easter chicks and fluffy bunny rabbits in Pets’ Corner. \nFeed the sheep and goats and say hello to the Alpacas and baby piglets in the Animal Barn. \nYou will love our hilarious live shows\, including the world-famous Sheep Race\, thrilling rides and The Rampage Roller Coaster. \nYou will adore the animal magic plus an exciting choice of indoor and outdoor play\, and activities to keep everyone in the family entertained all day long. \nBounce on the giant jumping pillows\, ride the Twister\, hop on a Swan Pedalo\, spin on the Honeypot Bears and ride the train around the lake. \n 
URL:https://www.visitilfracombe.co.uk/event/easter-fun-on-the-farm/
LOCATION:The Big Sheep\, The Big Sheep\, Abbotsham Rd\, Abbotsham\, Bideford\, Devon\, EX39 5AP\, United Kingdom
ATTACH;FMTTYPE=image/jpeg:https://www.visitilfracombe.co.uk/wp-content/uploads/2025/03/Big-Sheep-Easter-Fun.jpg
ORGANIZER;CN="The Big Sheep":MAILTO:info@thebigsheep.co.uk
END:VEVENT
BEGIN:VEVENT
DTSTART;TZID=Europe/London:20250408T100000
DTEND;TZID=Europe/London:20250421T170000
DTSTAMP:20260423T211136
CREATED:20250322T153901Z
LAST-MODIFIED:20250322T153901Z
UID:10000028-1744106400-1745254800@www.visitilfracombe.co.uk
SUMMARY:Easter Grotto
DESCRIPTION:FREE EASTER BUNNY HQ EXPERIENCE – WHILE STOCKS LAST… \nEver wondered where the Easter Bunny’s magic is made? Get ready for a memorable and unique Easter experience! \nThis Easter you’re invited to journey down the rabbit hole to Easter Bunny HQ to meet the friendly Egg-sperts who help the Easter Bunny deliver his Easter magic. There\, you’ll enter into the crazy Egg-sperts’ world where you’ll help solve puzzles\, make music and have lots of fun checking out the clever egg production process. Next\, you’ll be invited into the Easter Bunny’s front room\, where those aged 1-11 will meet the Bunny and receive a special Easter egg money box to decorate – complete with chocolatey treats inside! \nTo reduce queuing and wait times\, you will need to book a slot to visit the Easter Grotto when you book your entry tickets to The Milky Way – but hurry\, there are a limited number of grotto slots each day. Of course\, everyone who visits will also get to enjoy all the family rides\, amusements and adventure on offer year round. \nRemember to pick up a Readmission voucher whilst you’re there\, which will let you get in for up to half price until next March. Readmission vouchers are available from the shop on your way out.
URL:https://www.visitilfracombe.co.uk/event/easter-grotto/
LOCATION:Miky Way Adventure Park\, Milky Way Adventure Park\, Download Cross\, Clovelly\, Devon\, EX39 5RY\, United Kingdom
ATTACH;FMTTYPE=image/jpeg:https://www.visitilfracombe.co.uk/wp-content/uploads/2025/03/square-easter-promo-24.jpg
ORGANIZER;CN="Milky Way Adventure Park":MAILTO:info@themilkyway.co.uk
END:VEVENT
BEGIN:VEVENT
DTSTART;VALUE=DATE:20250414
DTEND;VALUE=DATE:20250422
DTSTAMP:20260423T211136
CREATED:20250415T095123Z
LAST-MODIFIED:20250415T095123Z
UID:10000042-1744603200-1745207999@www.visitilfracombe.co.uk
SUMMARY:Holy Week and Easter 2025
DESCRIPTION:A summary of Easter Week events at St Peter and Holy Trinity churches.
URL:https://www.visitilfracombe.co.uk/event/holy-week-and-easter-2025/
LOCATION:Devon
CATEGORIES:Ilfracombe Events
ATTACH;FMTTYPE=image/png:https://www.visitilfracombe.co.uk/wp-content/uploads/2025/04/Holy-Week-Easter-25-1.png
ORGANIZER;CN="The Parish of Holy Trinity & St Peter Ilfracombe":MAILTO:htsppcc@outlook.com
END:VEVENT
BEGIN:VEVENT
DTSTART;VALUE=DATE:20250417
DTEND;VALUE=DATE:20250422
DTSTAMP:20260423T211136
CREATED:20250415T095600Z
LAST-MODIFIED:20250415T095844Z
UID:10000043-1744862400-1745207999@www.visitilfracombe.co.uk
SUMMARY:Easter Services at Pip and Jim's Church
DESCRIPTION:Easter events at Pip and Jim’s church\, from Maundy Thursday to Easter Sunday.
URL:https://www.visitilfracombe.co.uk/event/easter-services-and-pip-and-jims-church/
LOCATION:Pip & Jims Ilfracombe\, Pip & Jims Ilfracombe\, Combe Martin\, Berrynarbor churches\, North Devon\, St James Pl\, Ilfracombe\, EX34 9BJ
CATEGORIES:Ilfracombe Events
ATTACH;FMTTYPE=image/jpeg:https://www.visitilfracombe.co.uk/wp-content/uploads/2025/04/Pip-and-Jim-Easter.jpg
END:VEVENT
BEGIN:VEVENT
DTSTART;TZID=Europe/London:20250418T183000
DTEND;TZID=Europe/London:20250418T210000
DTSTAMP:20260423T211136
CREATED:20250416T092430Z
LAST-MODIFIED:20250416T092430Z
UID:10000045-1745001000-1745010000@www.visitilfracombe.co.uk
SUMMARY:Friday Live Music
DESCRIPTION:This week\, taking centre stage\, is the incredibly talented Grace George. Singer\, songwriter\, and storyteller\, she brings her soulful vocals and acoustic covers to the stage\, along with a few of her own originals.\n\n\n\nJoin us from 6:30 pm for an evening of great food\, good vibes\, and live music the whole family can enjoy.\n\n\n\nTuck into your favourites from our menu while the kids enjoy our soft play and gaming zone.\nPut the good in Good Friday at Monkey Puzzle!\n\n\n\nBook your table now by calling 07842 717638\, or just walk in!\nHead to: https://bit.ly/MPRWhatsOn to find out more details of what’s on this week.
URL:https://www.visitilfracombe.co.uk/event/friday-live-music/
LOCATION:Monkey Puzzle Restaurant\, Monkey Puzzle Restaurant\, IHP\, Marlborough Rd\, Ilfracombe\, EX34 8PF
CATEGORIES:Ilfracombe Events
ATTACH;FMTTYPE=image/jpeg:https://www.visitilfracombe.co.uk/wp-content/uploads/2025/04/Monkey.jpg
END:VEVENT
BEGIN:VEVENT
DTSTART;TZID=Europe/London:20250418T190000
DTEND;TZID=Europe/London:20250418T210000
DTSTAMP:20260423T211136
CREATED:20250415T094610Z
LAST-MODIFIED:20250415T094610Z
UID:10000041-1745002800-1745010000@www.visitilfracombe.co.uk
SUMMARY:Olivet to Calvary
DESCRIPTION:A sacred cantata recalling some of the incidents in the last days of the Saviour’s life on earth.
URL:https://www.visitilfracombe.co.uk/event/olivet-to-calvary/
LOCATION:Holy Trinity Church\, Holy Trinity Church\, Church Hill\, Ilfracombe\, EX34 8EE
ATTACH;FMTTYPE=image/png:https://www.visitilfracombe.co.uk/wp-content/uploads/2025/04/Olivet-to-Calvary-gold-1.png
END:VEVENT
BEGIN:VEVENT
DTSTART;TZID=Europe/London:20250418T200000
DTEND;TZID=Europe/London:20250418T220000
DTSTAMP:20260423T211136
CREATED:20250415T091743Z
LAST-MODIFIED:20250415T091743Z
UID:10000038-1745006400-1745013600@www.visitilfracombe.co.uk
SUMMARY:Bodstone Boys
DESCRIPTION:Good Friday at the George and Dragon Ilfracombe\, Bodstone Boys will be performing from 8pm see you there.
URL:https://www.visitilfracombe.co.uk/event/bodstone-boys/
LOCATION:George & Dragon Pub\, George & Dragon\, Fore Street\, Ilfracombe\, EX34 9ED
CATEGORIES:Ilfracombe Events
ATTACH;FMTTYPE=image/jpeg:https://www.visitilfracombe.co.uk/wp-content/uploads/2025/04/Bodstone.jpg
END:VEVENT
BEGIN:VEVENT
DTSTART;TZID=Europe/London:20250418T210000
DTEND;TZID=Europe/London:20250418T230000
DTSTAMP:20260423T211136
CREATED:20250414T084937Z
LAST-MODIFIED:20250414T084937Z
UID:10000035-1745010000-1745017200@www.visitilfracombe.co.uk
SUMMARY:Good Friday Disco
DESCRIPTION:
URL:https://www.visitilfracombe.co.uk/event/good-friday-disco/
LOCATION:The Wellington Arms\, The Wellington Arms\, 66-67 High Street\, Ilfracombe\, EX34 9QE
CATEGORIES:Ilfracombe Events
ATTACH;FMTTYPE=image/jpeg:https://www.visitilfracombe.co.uk/wp-content/uploads/2025/04/Welly-good-friday-disco.jpg
END:VEVENT
END:VCALENDAR