BEGIN:VCALENDAR
VERSION:2.0
PRODID:-//Visit Ilfracombe - ECPv6.15.15//NONSGML v1.0//EN
CALSCALE:GREGORIAN
METHOD:PUBLISH
X-WR-CALNAME:Visit Ilfracombe
X-ORIGINAL-URL:https://www.visitilfracombe.co.uk
X-WR-CALDESC:Events for Visit Ilfracombe
REFRESH-INTERVAL;VALUE=DURATION:PT1H
X-Robots-Tag:noindex
X-PUBLISHED-TTL:PT1H
BEGIN:VTIMEZONE
TZID:Europe/London
BEGIN:DAYLIGHT
TZOFFSETFROM:+0000
TZOFFSETTO:+0100
TZNAME:BST
DTSTART:20240331T010000
END:DAYLIGHT
BEGIN:STANDARD
TZOFFSETFROM:+0100
TZOFFSETTO:+0000
TZNAME:GMT
DTSTART:20241027T010000
END:STANDARD
BEGIN:DAYLIGHT
TZOFFSETFROM:+0000
TZOFFSETTO:+0100
TZNAME:BST
DTSTART:20250330T010000
END:DAYLIGHT
BEGIN:STANDARD
TZOFFSETFROM:+0100
TZOFFSETTO:+0000
TZNAME:GMT
DTSTART:20251026T010000
END:STANDARD
BEGIN:DAYLIGHT
TZOFFSETFROM:+0000
TZOFFSETTO:+0100
TZNAME:BST
DTSTART:20260329T010000
END:DAYLIGHT
BEGIN:STANDARD
TZOFFSETFROM:+0100
TZOFFSETTO:+0000
TZNAME:GMT
DTSTART:20261025T010000
END:STANDARD
END:VTIMEZONE
BEGIN:VEVENT
DTSTART;TZID=Europe/London:20250928T140000
DTEND;TZID=Europe/London:20250928T170000
DTSTAMP:20260419T133501
CREATED:20250917T191640Z
LAST-MODIFIED:20250917T191640Z
UID:48628-1759068000-1759078800@www.visitilfracombe.co.uk
SUMMARY:Wild Art Journaling with Moyra Scott at BANK Ilfracombe
DESCRIPTION:Back by popular demand. \nDiscover the magic of Wild Art Journaling – a sketchbook practice with a difference\, blending journaling\, meditation\, collaging and paint. Suitable for beginners or experienced artists. \nWild Art Journaling is a unique\, powerful and fun creative practice that will blow your mind. A must for all creative souls in need of nourishment! Moyra Scott is an established Artist\, Qualified Coach\, Yoga teacher & Creative of the Year Finalist in the Brighton Girl Awards.
URL:https://www.visitilfracombe.co.uk/event/wild-art-journaling-with-moyra-scott-at-bank-ilfracombe/
LOCATION:BANK – a creative space\, 151 High Street\, Ilfracombe\, EX34 9EZ
CATEGORIES:Ilfracombe Events
ATTACH;FMTTYPE=image/jpeg:https://www.visitilfracombe.co.uk/wp-content/uploads/2025/09/WILD-ART-JOURNALING.jpg
ORGANIZER;CN="BANK a creative space":MAILTO:misspritch@hotmail.com
END:VEVENT
END:VCALENDAR