BEGIN:VCALENDAR
VERSION:2.0
PRODID:-//Visit Ilfracombe - ECPv6.15.15//NONSGML v1.0//EN
CALSCALE:GREGORIAN
METHOD:PUBLISH
X-WR-CALNAME:Visit Ilfracombe
X-ORIGINAL-URL:https://www.visitilfracombe.co.uk
X-WR-CALDESC:Events for Visit Ilfracombe
REFRESH-INTERVAL;VALUE=DURATION:PT1H
X-Robots-Tag:noindex
X-PUBLISHED-TTL:PT1H
BEGIN:VTIMEZONE
TZID:Europe/London
BEGIN:DAYLIGHT
TZOFFSETFROM:+0000
TZOFFSETTO:+0100
TZNAME:BST
DTSTART:20240331T010000
END:DAYLIGHT
BEGIN:STANDARD
TZOFFSETFROM:+0100
TZOFFSETTO:+0000
TZNAME:GMT
DTSTART:20241027T010000
END:STANDARD
BEGIN:DAYLIGHT
TZOFFSETFROM:+0000
TZOFFSETTO:+0100
TZNAME:BST
DTSTART:20250330T010000
END:DAYLIGHT
BEGIN:STANDARD
TZOFFSETFROM:+0100
TZOFFSETTO:+0000
TZNAME:GMT
DTSTART:20251026T010000
END:STANDARD
BEGIN:DAYLIGHT
TZOFFSETFROM:+0000
TZOFFSETTO:+0100
TZNAME:BST
DTSTART:20260329T010000
END:DAYLIGHT
BEGIN:STANDARD
TZOFFSETFROM:+0100
TZOFFSETTO:+0000
TZNAME:GMT
DTSTART:20261025T010000
END:STANDARD
END:VTIMEZONE
BEGIN:VEVENT
DTSTART;TZID=Europe/London:20251218T180000
DTEND;TZID=Europe/London:20251218T190000
DTSTAMP:20260422T044258
CREATED:20251020T105112Z
LAST-MODIFIED:20251103T082607Z
UID:10005098-1766080800-1766084400@www.visitilfracombe.co.uk
SUMMARY:TRUFFLES & BUBBLES CannDo Workshop
DESCRIPTION:TRUFFLES & BUBBLES: £15.99 (1hour includes 1 box of 8 Truffles). \nA lovely CannDo Workshop available in the weeks before Christmas… for\nyou to handmake friends and family some delicious truffle treats. \nLearn the art of a great truffle\, qualities and varieties … then you\nroll\, hand-craft\, add flavours\, and decorate the truffles. Boxed and ribboned by you\, labelled\, wrapped and ready to gift. \n1 hour allows you time to make 8 truffles and enjoy a glass of bubbles…\nsoft drinks\, coffee/tea\, NoSecco or Processco. \nFor additional boxes\, there is no extra time charge\, but additional\nboxes of truffles charged at £9.00 each (8 truffles per box). \n0r an all day Tuesday 16th from 10am if you would like to make more than one\nbox. \nWe can also arrange more dates for groups of six or more. \nPlease let us know if you have any allergies at the time of booking.\nBooking is essential: 0777 4411 954\nEmail: info@greatchocolate.co.uk
URL:https://www.visitilfracombe.co.uk/event/truffles-bubbles-canndo-workshop/2025-12-18/2/
LOCATION:Ilfracombe Chocolate Emporium\, 6 High Street\, Ilfracombe\, EX34 9DF
CATEGORIES:Ilfracombe Events
ATTACH;FMTTYPE=image/jpeg:https://www.visitilfracombe.co.uk/wp-content/uploads/2025/10/plate-truffle.jpg
END:VEVENT
END:VCALENDAR