BEGIN:VCALENDAR
VERSION:2.0
PRODID:-//Visit Ilfracombe - ECPv6.15.15//NONSGML v1.0//EN
CALSCALE:GREGORIAN
METHOD:PUBLISH
X-WR-CALNAME:Visit Ilfracombe
X-ORIGINAL-URL:https://www.visitilfracombe.co.uk
X-WR-CALDESC:Events for Visit Ilfracombe
REFRESH-INTERVAL;VALUE=DURATION:PT1H
X-Robots-Tag:noindex
X-PUBLISHED-TTL:PT1H
BEGIN:VTIMEZONE
TZID:Europe/London
BEGIN:DAYLIGHT
TZOFFSETFROM:+0000
TZOFFSETTO:+0100
TZNAME:BST
DTSTART:20240331T010000
END:DAYLIGHT
BEGIN:STANDARD
TZOFFSETFROM:+0100
TZOFFSETTO:+0000
TZNAME:GMT
DTSTART:20241027T010000
END:STANDARD
BEGIN:DAYLIGHT
TZOFFSETFROM:+0000
TZOFFSETTO:+0100
TZNAME:BST
DTSTART:20250330T010000
END:DAYLIGHT
BEGIN:STANDARD
TZOFFSETFROM:+0100
TZOFFSETTO:+0000
TZNAME:GMT
DTSTART:20251026T010000
END:STANDARD
BEGIN:DAYLIGHT
TZOFFSETFROM:+0000
TZOFFSETTO:+0100
TZNAME:BST
DTSTART:20260329T010000
END:DAYLIGHT
BEGIN:STANDARD
TZOFFSETFROM:+0100
TZOFFSETTO:+0000
TZNAME:GMT
DTSTART:20261025T010000
END:STANDARD
END:VTIMEZONE
BEGIN:VEVENT
DTSTART;TZID=Europe/London:20251201T180000
DTEND;TZID=Europe/London:20251205T100000
DTSTAMP:20260422T042222
CREATED:20250902T121329Z
LAST-MODIFIED:20251103T082654Z
UID:48392-1764612000-1764928800@www.visitilfracombe.co.uk
SUMMARY:Tinsel and Turkey
DESCRIPTION:Start the festive fun early with a Turkey and Tinsel break. Book up for four nights of fun that will bring in the Christmas spirit early. Enjoy a variety of activities from carol singing\, themed games\, and great music tribute acts – Jimmy Jermain as Cliff\, Bootleg Bee Gees\, The Spirit Cher\, Luke Hingley as Michael Buble\, Devante\, plus magic from Diamo. You’ll be based in stunning North Devon and enjoy Christmas food and fun to get December started with a bang.\n\n\n\nAccommodation\, half board and entertainment package just £299 per person!
URL:https://www.visitilfracombe.co.uk/event/tinsel-and-turkey/
LOCATION:North Devon Resort\, North Devon Resort\, Marlborough Road\, Ilfracombe\, Devon\, EX34 8PF
CATEGORIES:Ilfracombe Events
ATTACH;FMTTYPE=image/png:https://www.visitilfracombe.co.uk/wp-content/uploads/2025/09/Leaflet-Side-1-Square.png
END:VEVENT
END:VCALENDAR