BEGIN:VCALENDAR
VERSION:2.0
PRODID:-//Visit Ilfracombe - ECPv6.15.15//NONSGML v1.0//EN
CALSCALE:GREGORIAN
METHOD:PUBLISH
X-WR-CALNAME:Visit Ilfracombe
X-ORIGINAL-URL:https://www.visitilfracombe.co.uk
X-WR-CALDESC:Events for Visit Ilfracombe
REFRESH-INTERVAL;VALUE=DURATION:PT1H
X-Robots-Tag:noindex
X-PUBLISHED-TTL:PT1H
BEGIN:VTIMEZONE
TZID:Europe/London
BEGIN:DAYLIGHT
TZOFFSETFROM:+0000
TZOFFSETTO:+0100
TZNAME:BST
DTSTART:20240331T010000
END:DAYLIGHT
BEGIN:STANDARD
TZOFFSETFROM:+0100
TZOFFSETTO:+0000
TZNAME:GMT
DTSTART:20241027T010000
END:STANDARD
BEGIN:DAYLIGHT
TZOFFSETFROM:+0000
TZOFFSETTO:+0100
TZNAME:BST
DTSTART:20250330T010000
END:DAYLIGHT
BEGIN:STANDARD
TZOFFSETFROM:+0100
TZOFFSETTO:+0000
TZNAME:GMT
DTSTART:20251026T010000
END:STANDARD
BEGIN:DAYLIGHT
TZOFFSETFROM:+0000
TZOFFSETTO:+0100
TZNAME:BST
DTSTART:20260329T010000
END:DAYLIGHT
BEGIN:STANDARD
TZOFFSETFROM:+0100
TZOFFSETTO:+0000
TZNAME:GMT
DTSTART:20261025T010000
END:STANDARD
END:VTIMEZONE
BEGIN:VEVENT
DTSTART;TZID=Europe/London:20250612T100000
DTEND;TZID=Europe/London:20250612T220000
DTSTAMP:20260420T132432
CREATED:20250525T134806Z
LAST-MODIFIED:20250605T124205Z
UID:42629-1749722400-1749765600@www.visitilfracombe.co.uk
SUMMARY:The Out & Wild Pre-Festival Celebration
DESCRIPTION:Welcome to Pride Fest at The Big Sheep \nJoin us for an unforgettable celebration of love\, diversity\, and unity at North Devon’s most vibrant festival. Experience the joy and excitement of Pride Fest the OUT & WILD PRE-FESTIVAL CELEBRATION with live music\, family-friendly activities\, and a welcoming atmosphere for everyone. \n \n  \n 
URL:https://www.visitilfracombe.co.uk/event/the-out-wild-pre-festival-celebration/
LOCATION:The Big Sheep\, The Big Sheep\, Abbotsham Rd\, Abbotsham\, Bideford\, Devon\, EX39 5AP\, United Kingdom
CATEGORIES:North Devon Events
ATTACH;FMTTYPE=image/jpeg:https://www.visitilfracombe.co.uk/wp-content/uploads/2025/05/PrideFest.jpg
ORGANIZER;CN="The Big Sheep":MAILTO:info@thebigsheep.co.uk
END:VEVENT
END:VCALENDAR