BEGIN:VCALENDAR
VERSION:2.0
PRODID:-//Visit Ilfracombe - ECPv6.15.15//NONSGML v1.0//EN
CALSCALE:GREGORIAN
METHOD:PUBLISH
X-WR-CALNAME:Visit Ilfracombe
X-ORIGINAL-URL:https://www.visitilfracombe.co.uk
X-WR-CALDESC:Events for Visit Ilfracombe
REFRESH-INTERVAL;VALUE=DURATION:PT1H
X-Robots-Tag:noindex
X-PUBLISHED-TTL:PT1H
BEGIN:VTIMEZONE
TZID:Europe/London
BEGIN:DAYLIGHT
TZOFFSETFROM:+0000
TZOFFSETTO:+0100
TZNAME:BST
DTSTART:20240331T010000
END:DAYLIGHT
BEGIN:STANDARD
TZOFFSETFROM:+0100
TZOFFSETTO:+0000
TZNAME:GMT
DTSTART:20241027T010000
END:STANDARD
BEGIN:DAYLIGHT
TZOFFSETFROM:+0000
TZOFFSETTO:+0100
TZNAME:BST
DTSTART:20250330T010000
END:DAYLIGHT
BEGIN:STANDARD
TZOFFSETFROM:+0100
TZOFFSETTO:+0000
TZNAME:GMT
DTSTART:20251026T010000
END:STANDARD
BEGIN:DAYLIGHT
TZOFFSETFROM:+0000
TZOFFSETTO:+0100
TZNAME:BST
DTSTART:20260329T010000
END:DAYLIGHT
BEGIN:STANDARD
TZOFFSETFROM:+0100
TZOFFSETTO:+0000
TZNAME:GMT
DTSTART:20261025T010000
END:STANDARD
END:VTIMEZONE
BEGIN:VEVENT
DTSTART;TZID=Europe/London:20251206T100000
DTEND;TZID=Europe/London:20251206T160000
DTSTAMP:20260422T043225
CREATED:20251007T083355Z
LAST-MODIFIED:20251007T083355Z
UID:10005011-1765015200-1765036800@www.visitilfracombe.co.uk
SUMMARY:The Magic of Christmas
DESCRIPTION:Treat the family to a truly memorable Christmas experience this December! Journey through the magical snowy forest to Buzzlewick’s Elf Emporium to meet Buzzlewick the Elf and friends\, have a go at gingerbread decorating\, write a letter to Santa\, sit in Santa’s sleigh and make reindeer food. And there’s more! \nPlease note: You must book your visit to see Santa online at the same time as booking your park entry tickets – it is not possible to add this later.
URL:https://www.visitilfracombe.co.uk/event/the-magic-of-christmas/2025-12-06/
LOCATION:The Milky Way\, The Milky Way\, Downland Farm\, Higher Clovelly\, Devon\, EX39 5RY
CATEGORIES:North Devon Events
ATTACH;FMTTYPE=image/jpeg:https://www.visitilfracombe.co.uk/wp-content/uploads/2025/10/MW-Xmas-547205007_1189640313210933_1292891686418963429_n.jpg
END:VEVENT
END:VCALENDAR