BEGIN:VCALENDAR
VERSION:2.0
PRODID:-//Visit Ilfracombe - ECPv6.15.15//NONSGML v1.0//EN
CALSCALE:GREGORIAN
METHOD:PUBLISH
X-WR-CALNAME:Visit Ilfracombe
X-ORIGINAL-URL:https://www.visitilfracombe.co.uk
X-WR-CALDESC:Events for Visit Ilfracombe
REFRESH-INTERVAL;VALUE=DURATION:PT1H
X-Robots-Tag:noindex
X-PUBLISHED-TTL:PT1H
BEGIN:VTIMEZONE
TZID:Europe/London
BEGIN:DAYLIGHT
TZOFFSETFROM:+0000
TZOFFSETTO:+0100
TZNAME:BST
DTSTART:20250330T010000
END:DAYLIGHT
BEGIN:STANDARD
TZOFFSETFROM:+0100
TZOFFSETTO:+0000
TZNAME:GMT
DTSTART:20251026T010000
END:STANDARD
BEGIN:DAYLIGHT
TZOFFSETFROM:+0000
TZOFFSETTO:+0100
TZNAME:BST
DTSTART:20260329T010000
END:DAYLIGHT
BEGIN:STANDARD
TZOFFSETFROM:+0100
TZOFFSETTO:+0000
TZNAME:GMT
DTSTART:20261025T010000
END:STANDARD
BEGIN:DAYLIGHT
TZOFFSETFROM:+0000
TZOFFSETTO:+0100
TZNAME:BST
DTSTART:20270328T010000
END:DAYLIGHT
BEGIN:STANDARD
TZOFFSETFROM:+0100
TZOFFSETTO:+0000
TZNAME:GMT
DTSTART:20271031T010000
END:STANDARD
END:VTIMEZONE
BEGIN:VEVENT
DTSTART;TZID=Europe/London:20260207T173000
DTEND;TZID=Europe/London:20260207T220000
DTSTAMP:20260421T222646
CREATED:20251230T114758Z
LAST-MODIFIED:20251230T114758Z
UID:50288-1770485400-1770501600@www.visitilfracombe.co.uk
SUMMARY:The Big Yellow Tambourine Man Band
DESCRIPTION: A Tribute to Bob Dylan & Joni Mitchell \nJoin the Big Yellow Tambourine Man Band on a radical tour of some of the most iconic songs from the two greatest singer-songwriters of modern times\, Joni Mitchell and Bob Dylan.\n\n\nBe transported by faithful renditions of tracks from throughout the duo’s celebrated careers\, including Grammy award-winning songs from peerless albums such as Blue\, Court & Spark\, Freewheelin’\, Blonde on Blonde and more.
URL:https://www.visitilfracombe.co.uk/event/the-big-yellow-tambourine-man-band/
LOCATION:The Landmark Theatre\, The Landmark Theatre\, Promenade\, Ilfracombe\, Devon\, EX34 9BZ\, United Kingdom
CATEGORIES:Ilfracombe Events
ATTACH;FMTTYPE=image/jpeg:https://www.visitilfracombe.co.uk/wp-content/uploads/2025/12/Big-Yellow-Adobe-Express-file.jpg
END:VEVENT
END:VCALENDAR