BEGIN:VCALENDAR
VERSION:2.0
PRODID:-//Visit Ilfracombe - ECPv6.15.15//NONSGML v1.0//EN
CALSCALE:GREGORIAN
METHOD:PUBLISH
X-WR-CALNAME:Visit Ilfracombe
X-ORIGINAL-URL:https://www.visitilfracombe.co.uk
X-WR-CALDESC:Events for Visit Ilfracombe
REFRESH-INTERVAL;VALUE=DURATION:PT1H
X-Robots-Tag:noindex
X-PUBLISHED-TTL:PT1H
BEGIN:VTIMEZONE
TZID:Europe/London
BEGIN:DAYLIGHT
TZOFFSETFROM:+0000
TZOFFSETTO:+0100
TZNAME:BST
DTSTART:20240331T010000
END:DAYLIGHT
BEGIN:STANDARD
TZOFFSETFROM:+0100
TZOFFSETTO:+0000
TZNAME:GMT
DTSTART:20241027T010000
END:STANDARD
BEGIN:DAYLIGHT
TZOFFSETFROM:+0000
TZOFFSETTO:+0100
TZNAME:BST
DTSTART:20250330T010000
END:DAYLIGHT
BEGIN:STANDARD
TZOFFSETFROM:+0100
TZOFFSETTO:+0000
TZNAME:GMT
DTSTART:20251026T010000
END:STANDARD
BEGIN:DAYLIGHT
TZOFFSETFROM:+0000
TZOFFSETTO:+0100
TZNAME:BST
DTSTART:20260329T010000
END:DAYLIGHT
BEGIN:STANDARD
TZOFFSETFROM:+0100
TZOFFSETTO:+0000
TZNAME:GMT
DTSTART:20261025T010000
END:STANDARD
END:VTIMEZONE
BEGIN:VEVENT
DTSTART;TZID=Europe/London:20250712T154500
DTEND;TZID=Europe/London:20250712T190000
DTSTAMP:20260423T154250
CREATED:20250617T094936Z
LAST-MODIFIED:20250711T143215Z
UID:46450-1752335100-1752346800@www.visitilfracombe.co.uk
SUMMARY:Teachers Rock
DESCRIPTION:Get ready for an unforgettable day of music\, creativity and community spirit at TRYSTOCK 2025\, our Teachers Rock® annual Music and Wellbeing Festival!  This one-of-a-kind event brings together young performers\, educators\, artists—and this year YOU! \nWhether you’re passionate about pop\, inspired by gospel grooves or simply ready to rock\, TRYSTOCK is the perfect summer celebration for all. \nWhat to Expect: \n\nLive Performances from talented young musicians\, their teachers & professional artists\nDelicious Festival Food and plenty of family-friendly fun available onsite (at an additional cost)\nA day full of music\, fun and inspiration.
URL:https://www.visitilfracombe.co.uk/event/teachers-rock/
LOCATION:The Big Sheep\, The Big Sheep\, Abbotsham Rd\, Abbotsham\, Bideford\, Devon\, EX39 5AP\, United Kingdom
CATEGORIES:North Devon Events
ATTACH;FMTTYPE=image/jpeg:https://www.visitilfracombe.co.uk/wp-content/uploads/2025/06/Teachers-Rock.jpg
END:VEVENT
END:VCALENDAR