BEGIN:VCALENDAR
VERSION:2.0
PRODID:-//Visit Ilfracombe - ECPv6.15.15//NONSGML v1.0//EN
CALSCALE:GREGORIAN
METHOD:PUBLISH
X-WR-CALNAME:Visit Ilfracombe
X-ORIGINAL-URL:https://www.visitilfracombe.co.uk
X-WR-CALDESC:Events for Visit Ilfracombe
REFRESH-INTERVAL;VALUE=DURATION:PT1H
X-Robots-Tag:noindex
X-PUBLISHED-TTL:PT1H
BEGIN:VTIMEZONE
TZID:Europe/London
BEGIN:DAYLIGHT
TZOFFSETFROM:+0000
TZOFFSETTO:+0100
TZNAME:BST
DTSTART:20240331T010000
END:DAYLIGHT
BEGIN:STANDARD
TZOFFSETFROM:+0100
TZOFFSETTO:+0000
TZNAME:GMT
DTSTART:20241027T010000
END:STANDARD
BEGIN:DAYLIGHT
TZOFFSETFROM:+0000
TZOFFSETTO:+0100
TZNAME:BST
DTSTART:20250330T010000
END:DAYLIGHT
BEGIN:STANDARD
TZOFFSETFROM:+0100
TZOFFSETTO:+0000
TZNAME:GMT
DTSTART:20251026T010000
END:STANDARD
BEGIN:DAYLIGHT
TZOFFSETFROM:+0000
TZOFFSETTO:+0100
TZNAME:BST
DTSTART:20260329T010000
END:DAYLIGHT
BEGIN:STANDARD
TZOFFSETFROM:+0100
TZOFFSETTO:+0000
TZNAME:GMT
DTSTART:20261025T010000
END:STANDARD
END:VTIMEZONE
BEGIN:VEVENT
DTSTART;TZID=Europe/London:20250823T150000
DTEND;TZID=Europe/London:20250823T180000
DTSTAMP:20260421T204030
CREATED:20250815T070839Z
LAST-MODIFIED:20250818T113943Z
UID:10004438-1755961200-1755972000@www.visitilfracombe.co.uk
SUMMARY:Summer Saturdays in the Beer Garden!
DESCRIPTION:Join us every Saturday afternoon this summer for good vibes\, great drinks\, and live music in our beer garden. The brilliant Jacob Terry will be performing weekly\, bringing the perfect soundtrack to your weekend.\n\n\n The Rum Shack will be open\, serving up refreshing cocktails all afternoon.\n\n\nDon’t miss out sunshine\, music\, and cocktails await!
URL:https://www.visitilfracombe.co.uk/event/summer-saturdays-in-the-beer-garden/2025-08-23/
LOCATION:Hele Bay Pub\, The Hele Bay Pub\, 38 Beach Rd\, Hele Bay\, Ilfracombe\, EX34 9QZ
CATEGORIES:Ilfracombe Events
ATTACH;FMTTYPE=image/jpeg:https://www.visitilfracombe.co.uk/wp-content/uploads/2025/08/519917379_1298514345612367_5995779523299479379_n.jpg
END:VEVENT
END:VCALENDAR