BEGIN:VCALENDAR
VERSION:2.0
PRODID:-//Visit Ilfracombe - ECPv6.15.15//NONSGML v1.0//EN
CALSCALE:GREGORIAN
METHOD:PUBLISH
X-WR-CALNAME:Visit Ilfracombe
X-ORIGINAL-URL:https://www.visitilfracombe.co.uk
X-WR-CALDESC:Events for Visit Ilfracombe
REFRESH-INTERVAL;VALUE=DURATION:PT1H
X-Robots-Tag:noindex
X-PUBLISHED-TTL:PT1H
BEGIN:VTIMEZONE
TZID:Europe/London
BEGIN:DAYLIGHT
TZOFFSETFROM:+0000
TZOFFSETTO:+0100
TZNAME:BST
DTSTART:20240331T010000
END:DAYLIGHT
BEGIN:STANDARD
TZOFFSETFROM:+0100
TZOFFSETTO:+0000
TZNAME:GMT
DTSTART:20241027T010000
END:STANDARD
BEGIN:DAYLIGHT
TZOFFSETFROM:+0000
TZOFFSETTO:+0100
TZNAME:BST
DTSTART:20250330T010000
END:DAYLIGHT
BEGIN:STANDARD
TZOFFSETFROM:+0100
TZOFFSETTO:+0000
TZNAME:GMT
DTSTART:20251026T010000
END:STANDARD
BEGIN:DAYLIGHT
TZOFFSETFROM:+0000
TZOFFSETTO:+0100
TZNAME:BST
DTSTART:20260329T010000
END:DAYLIGHT
BEGIN:STANDARD
TZOFFSETFROM:+0100
TZOFFSETTO:+0000
TZNAME:GMT
DTSTART:20261025T010000
END:STANDARD
END:VTIMEZONE
BEGIN:VEVENT
DTSTART;TZID=Europe/London:20250907T173000
DTEND;TZID=Europe/London:20250907T190000
DTSTAMP:20260421T120120
CREATED:20250826T105434Z
LAST-MODIFIED:20250828T084037Z
UID:48366-1757266200-1757271600@www.visitilfracombe.co.uk
SUMMARY:RNLI Celebration
DESCRIPTION:Join us for an evening of celebration and music! \n\nSouth Molton Town Band\nBlessing of the boats\nScuttlebutt Shanty Crew\nRefreshments\nSunday 7th September 5:30pm – 7pm\n\nFree entry!\nEveryone welcome. Plenty of seats.
URL:https://www.visitilfracombe.co.uk/event/rnli-celebration/
LOCATION:RNLI Ilfracombe\, RNLI Ilfracombe Lifeboat Station\, Lifeboat House\, Broad St\, Ilfracombe\, Devon\, EX34 9EE\, United Kingdom
CATEGORIES:Ilfracombe Events
ATTACH;FMTTYPE=image/png:https://www.visitilfracombe.co.uk/wp-content/uploads/2025/08/2024-Annual-service-fb-post-2.png
END:VEVENT
END:VCALENDAR