BEGIN:VCALENDAR
VERSION:2.0
PRODID:-//Visit Ilfracombe - ECPv6.15.15//NONSGML v1.0//EN
CALSCALE:GREGORIAN
METHOD:PUBLISH
X-WR-CALNAME:Visit Ilfracombe
X-ORIGINAL-URL:https://www.visitilfracombe.co.uk
X-WR-CALDESC:Events for Visit Ilfracombe
REFRESH-INTERVAL;VALUE=DURATION:PT1H
X-Robots-Tag:noindex
X-PUBLISHED-TTL:PT1H
BEGIN:VTIMEZONE
TZID:Europe/London
BEGIN:DAYLIGHT
TZOFFSETFROM:+0000
TZOFFSETTO:+0100
TZNAME:BST
DTSTART:20240331T010000
END:DAYLIGHT
BEGIN:STANDARD
TZOFFSETFROM:+0100
TZOFFSETTO:+0000
TZNAME:GMT
DTSTART:20241027T010000
END:STANDARD
BEGIN:DAYLIGHT
TZOFFSETFROM:+0000
TZOFFSETTO:+0100
TZNAME:BST
DTSTART:20250330T010000
END:DAYLIGHT
BEGIN:STANDARD
TZOFFSETFROM:+0100
TZOFFSETTO:+0000
TZNAME:GMT
DTSTART:20251026T010000
END:STANDARD
BEGIN:DAYLIGHT
TZOFFSETFROM:+0000
TZOFFSETTO:+0100
TZNAME:BST
DTSTART:20260329T010000
END:DAYLIGHT
BEGIN:STANDARD
TZOFFSETFROM:+0100
TZOFFSETTO:+0000
TZNAME:GMT
DTSTART:20261025T010000
END:STANDARD
END:VTIMEZONE
BEGIN:VEVENT
DTSTART;TZID=Europe/London:20250605T190000
DTEND;TZID=Europe/London:20250605T220000
DTSTAMP:20260421T095351
CREATED:20250519T112712Z
LAST-MODIFIED:20250519T130817Z
UID:42112-1749150000-1749160800@www.visitilfracombe.co.uk
SUMMARY:Petroc Performing Arts: Legally Blonde The Musical!
DESCRIPTION:Petroc Performing Arts presents our 2025 musical production: Legally Blonde!\nStep into the glamorous and hilarious world of Elle Woods\, a vibrant young woman who sets out to prove that determination and heart can defy all odds. Follow her journey from the sunny shores of California to the hallowed halls of Harvard Law as she discovers her true potential and inspires everyone around her.\nThis high-energy musical features unforgettable songs\, show-stopping dance numbers\, and a story that’s as inspiring as it is entertaining. Perfect for audiences of all ages\, Legally Blonde is a feel-good celebration of self- belief\, resilience\, and the power of staying true to yourself. \nOur talented learners and production team are thrilled to bring this beloved show to life\, complete with stunning performances\, infectious energy\, and plenty of surprises. \nWhether you’re looking for a night of laughter\, inspiration\, or toe-tapping tunes\, Legally Blonde is a must-see event! \nThis Petroc Performing Arts amateur production is presented by arrangement with Music Theatre International All authorised performance materials are also supplied by MTI www.mtishows.co.uk.
URL:https://www.visitilfracombe.co.uk/event/petroc-performing-arts-legally-blonde-the-musical-2/
LOCATION:The Landmark Theatre\, The Landmark Theatre\, Promenade\, Ilfracombe\, Devon\, EX34 9BZ\, United Kingdom
CATEGORIES:Ilfracombe Events
ATTACH;FMTTYPE=image/jpeg:https://www.visitilfracombe.co.uk/wp-content/uploads/2025/05/legally-blonde-1.jpg
ORGANIZER;CN="The Landmark Theatre":MAILTO:northdevon.tickets@landmarktheatres.co.uk
END:VEVENT
END:VCALENDAR