BEGIN:VCALENDAR
VERSION:2.0
PRODID:-//Visit Ilfracombe - ECPv6.15.15//NONSGML v1.0//EN
CALSCALE:GREGORIAN
METHOD:PUBLISH
X-WR-CALNAME:Visit Ilfracombe
X-ORIGINAL-URL:https://www.visitilfracombe.co.uk
X-WR-CALDESC:Events for Visit Ilfracombe
REFRESH-INTERVAL;VALUE=DURATION:PT1H
X-Robots-Tag:noindex
X-PUBLISHED-TTL:PT1H
BEGIN:VTIMEZONE
TZID:Europe/London
BEGIN:DAYLIGHT
TZOFFSETFROM:+0000
TZOFFSETTO:+0100
TZNAME:BST
DTSTART:20240331T010000
END:DAYLIGHT
BEGIN:STANDARD
TZOFFSETFROM:+0100
TZOFFSETTO:+0000
TZNAME:GMT
DTSTART:20241027T010000
END:STANDARD
BEGIN:DAYLIGHT
TZOFFSETFROM:+0000
TZOFFSETTO:+0100
TZNAME:BST
DTSTART:20250330T010000
END:DAYLIGHT
BEGIN:STANDARD
TZOFFSETFROM:+0100
TZOFFSETTO:+0000
TZNAME:GMT
DTSTART:20251026T010000
END:STANDARD
BEGIN:DAYLIGHT
TZOFFSETFROM:+0000
TZOFFSETTO:+0100
TZNAME:BST
DTSTART:20260329T010000
END:DAYLIGHT
BEGIN:STANDARD
TZOFFSETFROM:+0100
TZOFFSETTO:+0000
TZNAME:GMT
DTSTART:20261025T010000
END:STANDARD
END:VTIMEZONE
BEGIN:VEVENT
DTSTART;TZID=Europe/London:20250523T120000
DTEND;TZID=Europe/London:20250526T230000
DTSTAMP:20260420T144918
CREATED:20250307T114046Z
LAST-MODIFIED:20250527T104833Z
UID:39138-1748001600-1748300400@www.visitilfracombe.co.uk
SUMMARY:Ilfracombe Beer Fest
DESCRIPTION:Four days of live music\, stunning street food\, family fun… Oh\, and over 60 local ales and ciders! And it’s free entry too! \nJoin Ilfracombe Round Table over the May bank holiday weekend for fun in the sun\, all raising money for local charities and good causes. We have over 30 of the areas top musicians and DJs bringing the party vibes all weekend. There’s bouncy fun to keep the little ones entertained\, while we have five awesome street food vendors cooking up a storm\, with food available from The Landmark Theatre (our generous hosts!) all weekend too. \nOpen from 12 noon each day until 11pm (except Monday\, we’ll wrap it up around 5pm). \n\nNEW FOR 2025\nWe are stoked to announce @woolacombe.rocks are hosting our first ever silent disco at this year’s Beer Fest!\nThree banging channels to choose from on the evening of Saturday 24th May.\nMini ravers can take part too with our family session running from 3pm to 5pm on Saturday \n  \n \n \n 
URL:https://www.visitilfracombe.co.uk/event/ilfracombe-beer-fest/
LOCATION:The Landmark Theatre\, The Landmark Theatre\, Promenade\, Ilfracombe\, Devon\, EX34 9BZ\, United Kingdom
CATEGORIES:Ilfracombe Events
ATTACH;FMTTYPE=image/jpeg:https://www.visitilfracombe.co.uk/wp-content/uploads/2025/03/Beer-Fest-2025.jpg
END:VEVENT
END:VCALENDAR