BEGIN:VCALENDAR
VERSION:2.0
PRODID:-//Visit Ilfracombe - ECPv6.15.15//NONSGML v1.0//EN
CALSCALE:GREGORIAN
METHOD:PUBLISH
X-WR-CALNAME:Visit Ilfracombe
X-ORIGINAL-URL:https://www.visitilfracombe.co.uk
X-WR-CALDESC:Events for Visit Ilfracombe
REFRESH-INTERVAL;VALUE=DURATION:PT1H
X-Robots-Tag:noindex
X-PUBLISHED-TTL:PT1H
BEGIN:VTIMEZONE
TZID:Europe/London
BEGIN:DAYLIGHT
TZOFFSETFROM:+0000
TZOFFSETTO:+0100
TZNAME:BST
DTSTART:20240331T010000
END:DAYLIGHT
BEGIN:STANDARD
TZOFFSETFROM:+0100
TZOFFSETTO:+0000
TZNAME:GMT
DTSTART:20241027T010000
END:STANDARD
BEGIN:DAYLIGHT
TZOFFSETFROM:+0000
TZOFFSETTO:+0100
TZNAME:BST
DTSTART:20250330T010000
END:DAYLIGHT
BEGIN:STANDARD
TZOFFSETFROM:+0100
TZOFFSETTO:+0000
TZNAME:GMT
DTSTART:20251026T010000
END:STANDARD
BEGIN:DAYLIGHT
TZOFFSETFROM:+0000
TZOFFSETTO:+0100
TZNAME:BST
DTSTART:20260329T010000
END:DAYLIGHT
BEGIN:STANDARD
TZOFFSETFROM:+0100
TZOFFSETTO:+0000
TZNAME:GMT
DTSTART:20261025T010000
END:STANDARD
END:VTIMEZONE
BEGIN:VEVENT
DTSTART;TZID=Europe/London:20250419T210000
DTEND;TZID=Europe/London:20250419T230000
DTSTAMP:20260424T000512
CREATED:20250415T091445Z
LAST-MODIFIED:20250415T091445Z
UID:40240-1745096400-1745103600@www.visitilfracombe.co.uk
SUMMARY:Grizzly Rhys Morgan
DESCRIPTION:This Saturday 19th April at 9pm\, George and Dragon Ilfracombe presents the legendary Grizzly Rhys Morgan. We can’t wait for an unforgettable Easter weekend!
URL:https://www.visitilfracombe.co.uk/event/grizzly-rhys-morgan/
LOCATION:George & Dragon Pub\, George & Dragon\, Fore Street\, Ilfracombe\, EX34 9ED
CATEGORIES:Ilfracombe Events
ATTACH;FMTTYPE=image/jpeg:https://www.visitilfracombe.co.uk/wp-content/uploads/2025/04/GandD-Grizzly.jpg
END:VEVENT
END:VCALENDAR