BEGIN:VCALENDAR
VERSION:2.0
PRODID:-//Visit Ilfracombe - ECPv6.15.15//NONSGML v1.0//EN
CALSCALE:GREGORIAN
METHOD:PUBLISH
X-WR-CALNAME:Visit Ilfracombe
X-ORIGINAL-URL:https://www.visitilfracombe.co.uk
X-WR-CALDESC:Events for Visit Ilfracombe
REFRESH-INTERVAL;VALUE=DURATION:PT1H
X-Robots-Tag:noindex
X-PUBLISHED-TTL:PT1H
BEGIN:VTIMEZONE
TZID:Europe/London
BEGIN:DAYLIGHT
TZOFFSETFROM:+0000
TZOFFSETTO:+0100
TZNAME:BST
DTSTART:20250330T010000
END:DAYLIGHT
BEGIN:STANDARD
TZOFFSETFROM:+0100
TZOFFSETTO:+0000
TZNAME:GMT
DTSTART:20251026T010000
END:STANDARD
BEGIN:DAYLIGHT
TZOFFSETFROM:+0000
TZOFFSETTO:+0100
TZNAME:BST
DTSTART:20260329T010000
END:DAYLIGHT
BEGIN:STANDARD
TZOFFSETFROM:+0100
TZOFFSETTO:+0000
TZNAME:GMT
DTSTART:20261025T010000
END:STANDARD
BEGIN:DAYLIGHT
TZOFFSETFROM:+0000
TZOFFSETTO:+0100
TZNAME:BST
DTSTART:20270328T010000
END:DAYLIGHT
BEGIN:STANDARD
TZOFFSETFROM:+0100
TZOFFSETTO:+0000
TZNAME:GMT
DTSTART:20271031T010000
END:STANDARD
END:VTIMEZONE
BEGIN:VEVENT
DTSTART;TZID=Europe/London:20260403T100000
DTEND;TZID=Europe/London:20260403T170000
DTSTAMP:20260425T174843
CREATED:20260317T102143Z
LAST-MODIFIED:20260317T102426Z
UID:10006038-1775210400-1775235600@www.visitilfracombe.co.uk
SUMMARY:Experience the Easter Magic...
DESCRIPTION:A unique family Easter Experience with so much ‘egg’stra Easter fun… right here at the Milkt Way in North Devon \nFrom 31st March to 19th April \nSolve our Egg Quest Easter trail – This Easter join our Egg-Quest trail – find the giant Easter eggs to solve the clues and then enter our free competition with fantastic prizes up for grabs for the lucky winners!  \nVisit our Spring Chicks  – A wonderful\, simple way to experience the magic of Easter – watch these tiny\, fluffy wonders as they chirp and play! \nFrom 3rd April to 19th April \nCrafting Fun with Chicks on Sticks – After you’ve said hello to the real life chicks try your hand at making one to take home with you! Designed specifically for smaller hands\, our chicks on sticks craft activity uses easy-to-handle materials like cardboard and stickers so kids can assemble their own little yellow feathered friends. \n 
URL:https://www.visitilfracombe.co.uk/event/experience-the-easter-magic/2026-04-03/
LOCATION:The Milky Way\, The Milky Way\, Downland Farm\, Higher Clovelly\, Devon\, EX39 5RY
CATEGORIES:North Devon Events
ATTACH;FMTTYPE=image/jpeg:https://www.visitilfracombe.co.uk/wp-content/uploads/2026/03/Gemini-Easter-Chicks-Web-Version.jpg
END:VEVENT
END:VCALENDAR