BEGIN:VCALENDAR
VERSION:2.0
PRODID:-//Visit Ilfracombe - ECPv6.15.15//NONSGML v1.0//EN
CALSCALE:GREGORIAN
METHOD:PUBLISH
X-WR-CALNAME:Visit Ilfracombe
X-ORIGINAL-URL:https://www.visitilfracombe.co.uk
X-WR-CALDESC:Events for Visit Ilfracombe
REFRESH-INTERVAL;VALUE=DURATION:PT1H
X-Robots-Tag:noindex
X-PUBLISHED-TTL:PT1H
BEGIN:VTIMEZONE
TZID:Europe/London
BEGIN:DAYLIGHT
TZOFFSETFROM:+0000
TZOFFSETTO:+0100
TZNAME:BST
DTSTART:20250330T010000
END:DAYLIGHT
BEGIN:STANDARD
TZOFFSETFROM:+0100
TZOFFSETTO:+0000
TZNAME:GMT
DTSTART:20251026T010000
END:STANDARD
BEGIN:DAYLIGHT
TZOFFSETFROM:+0000
TZOFFSETTO:+0100
TZNAME:BST
DTSTART:20260329T010000
END:DAYLIGHT
BEGIN:STANDARD
TZOFFSETFROM:+0100
TZOFFSETTO:+0000
TZNAME:GMT
DTSTART:20261025T010000
END:STANDARD
BEGIN:DAYLIGHT
TZOFFSETFROM:+0000
TZOFFSETTO:+0100
TZNAME:BST
DTSTART:20270328T010000
END:DAYLIGHT
BEGIN:STANDARD
TZOFFSETFROM:+0100
TZOFFSETTO:+0000
TZNAME:GMT
DTSTART:20271031T010000
END:STANDARD
END:VTIMEZONE
BEGIN:VEVENT
DTSTART;VALUE=DATE:20260424
DTEND;VALUE=DATE:20260502
DTSTAMP:20260424T151424
CREATED:20260424T074305Z
LAST-MODIFIED:20260424T074305Z
UID:51587-1777003200-1777607999@www.visitilfracombe.co.uk
SUMMARY:Embassy Cinema
DESCRIPTION:Friday 24th April to Thursday 30rd April 2026 \nMichael 125mins \nFri 17:00 19:50 Sat 14:00 17:00 19:50 \nSun 14:00 17:00 19:50 Mon Tues Wed 19:00 \nThurs 13:45 17:00 19:50 \nRose of Nevada 115mins \nFri Sat 19:30 Sun 19:30 Mon Tues Weds 18:45 \nThurs 14:15 16:45  19:30 \nProject Hail Mary 155mins \nFri Sat Thurs 19:00  Sun 19:00   \nMon Tue Wed 18:30 \nThe Super Mario Galaxy Movie 95mins \nFri Thur 16:30  Sat Sun 14:20 16:30 \nThe Magic Faraway Tree 110mins \nFri 16.45 Sat Sun 13:45  16:45 \nMother’s Pride 93mins \nThurs 14:00
URL:https://www.visitilfracombe.co.uk/event/embassy-cinema-26/
LOCATION:Embassy Cinema\, 134 High Street\, Ilfracombe\, EX34 9EZ
CATEGORIES:Ilfracombe Events
ATTACH;FMTTYPE=image/jpeg:https://www.visitilfracombe.co.uk/wp-content/uploads/2026/02/Embassy.jpg
END:VEVENT
END:VCALENDAR