BEGIN:VCALENDAR
VERSION:2.0
PRODID:-//Visit Ilfracombe - ECPv6.15.15//NONSGML v1.0//EN
CALSCALE:GREGORIAN
METHOD:PUBLISH
X-WR-CALNAME:Visit Ilfracombe
X-ORIGINAL-URL:https://www.visitilfracombe.co.uk
X-WR-CALDESC:Events for Visit Ilfracombe
REFRESH-INTERVAL;VALUE=DURATION:PT1H
X-Robots-Tag:noindex
X-PUBLISHED-TTL:PT1H
BEGIN:VTIMEZONE
TZID:Europe/London
BEGIN:DAYLIGHT
TZOFFSETFROM:+0000
TZOFFSETTO:+0100
TZNAME:BST
DTSTART:20250330T010000
END:DAYLIGHT
BEGIN:STANDARD
TZOFFSETFROM:+0100
TZOFFSETTO:+0000
TZNAME:GMT
DTSTART:20251026T010000
END:STANDARD
BEGIN:DAYLIGHT
TZOFFSETFROM:+0000
TZOFFSETTO:+0100
TZNAME:BST
DTSTART:20260329T010000
END:DAYLIGHT
BEGIN:STANDARD
TZOFFSETFROM:+0100
TZOFFSETTO:+0000
TZNAME:GMT
DTSTART:20261025T010000
END:STANDARD
BEGIN:DAYLIGHT
TZOFFSETFROM:+0000
TZOFFSETTO:+0100
TZNAME:BST
DTSTART:20270328T010000
END:DAYLIGHT
BEGIN:STANDARD
TZOFFSETFROM:+0100
TZOFFSETTO:+0000
TZNAME:GMT
DTSTART:20271031T010000
END:STANDARD
END:VTIMEZONE
BEGIN:VEVENT
DTSTART;VALUE=DATE:20260206
DTEND;VALUE=DATE:20260214
DTSTAMP:20260421T222809
CREATED:20260205T103425Z
LAST-MODIFIED:20260205T103425Z
UID:50710-1770350400-1770955199@www.visitilfracombe.co.uk
SUMMARY:Embassy Cinema
DESCRIPTION:Friday 06th February to Thursday 12th February2026 \n Send Help 113mins \nFri Mon Thu 19:45 Sat 17:05  19:45                           Sun 17:00 19:45 Tue Wed 19:30 \n H is for Hawk 115mins \nFri 17:00 Mon 16:05 Tue Wed 19:00 Thu 17:20 \n Shelter 107mins \nFri Sat Sun 17:30 Mon Thu 20:00 \nHamnet 125mins \nFri 16:45  Mon 16:45 Tue 19:15  Thu 16:30 \n Iron Lung 124mins \nFri Sat 20:00 Sun 20:00 Mon 17:00 \n The Housemaid 130mins \nFri 19:30  Sun 19:15 \n Avatar: Fire And Ash 195mins \nSat 19:15 \nMarty Supreme 150mins \nWed 19:15 \nSong Sung Blue 130mins \nThu 16:45 \n The Lost Boys of Carbis Bay 70mins \nThu 19:30 \nGOAT 100mins \nSat Sun 14:15 16:45 \nThe Day The Earth Blew Up: A Looney Tunes Movie 90mins \nSat Sun 14:30 \n Zootropolis 2 108mins \nSat Sun 14:50   \n The Royal Ballet: Woolf Works 210mins \nMon 19:15 \n 
URL:https://www.visitilfracombe.co.uk/event/embassy-cinema-16/
LOCATION:Embassy Cinema\, 134 High Street\, Ilfracombe\, EX34 9EZ
CATEGORIES:Ilfracombe Events
ATTACH;FMTTYPE=image/jpeg:https://www.visitilfracombe.co.uk/wp-content/uploads/2025/10/Embassy.jpg
END:VEVENT
END:VCALENDAR