BEGIN:VCALENDAR
VERSION:2.0
PRODID:-//Visit Ilfracombe - ECPv6.15.15//NONSGML v1.0//EN
CALSCALE:GREGORIAN
METHOD:PUBLISH
X-WR-CALNAME:Visit Ilfracombe
X-ORIGINAL-URL:https://www.visitilfracombe.co.uk
X-WR-CALDESC:Events for Visit Ilfracombe
REFRESH-INTERVAL;VALUE=DURATION:PT1H
X-Robots-Tag:noindex
X-PUBLISHED-TTL:PT1H
BEGIN:VTIMEZONE
TZID:Europe/London
BEGIN:DAYLIGHT
TZOFFSETFROM:+0000
TZOFFSETTO:+0100
TZNAME:BST
DTSTART:20240331T010000
END:DAYLIGHT
BEGIN:STANDARD
TZOFFSETFROM:+0100
TZOFFSETTO:+0000
TZNAME:GMT
DTSTART:20241027T010000
END:STANDARD
BEGIN:DAYLIGHT
TZOFFSETFROM:+0000
TZOFFSETTO:+0100
TZNAME:BST
DTSTART:20250330T010000
END:DAYLIGHT
BEGIN:STANDARD
TZOFFSETFROM:+0100
TZOFFSETTO:+0000
TZNAME:GMT
DTSTART:20251026T010000
END:STANDARD
BEGIN:DAYLIGHT
TZOFFSETFROM:+0000
TZOFFSETTO:+0100
TZNAME:BST
DTSTART:20260329T010000
END:DAYLIGHT
BEGIN:STANDARD
TZOFFSETFROM:+0100
TZOFFSETTO:+0000
TZNAME:GMT
DTSTART:20261025T010000
END:STANDARD
END:VTIMEZONE
BEGIN:VEVENT
DTSTART;TZID=Europe/London:20251031T180000
DTEND;TZID=Europe/London:20251031T210000
DTSTAMP:20260422T202556
CREATED:20250620T082815Z
LAST-MODIFIED:20250829T155106Z
UID:10004473-1761933600-1761944400@www.visitilfracombe.co.uk
SUMMARY:Descend into Darkness Returns to Watermouth Castle
DESCRIPTION:By Night – Descend Into Darkness – A HAUNTED CASTLE WITH A TWISTED ZONES OF HORRORS\n17th\, 18th\, 24th\, 25th\, 26th\, 27th\, 28th\, 30th\, 31st October & 1st November \n👻 Prepare for a Night of Chills and Thrills! 👻 \nAfter last year’s sell-out debut\, Descend into Darkness is back at Watermouth Castle in the evenings this October — more terrifying and immersive than ever. \nAs night falls\, the castle becomes a chilling labyrinth of live actors\, gore\, darkness\, and jump scares. Not for the faint of heart. \nDo you dare to come face-to-face with terror…? \nJourney through FIVE themed scare zones with live actors: \n\nCursed Forest: a bone-chilling woodland trail of howling wolves\, clanking chains\, and hanging trees\nVoodoo Valley: journey down the river of restless spirits; just make sure you don’t become yet another one of the lost souls trapped on its waters…\nThe Haunted Castle: when the castle doors slam closed\, you’ll find yourself trapped in a hellscape of cobwebs\, cursed animatronics\, and haunted robots. And only the bravest will dare to complete their journey with a descent into the bowels of the castle itself – the demented dungeon…\nNEW – Bad Barnyard: A creepy farmyard with twisted animals lurking in the shadows.\nNEW – The Z Factor: An outbreak has brought the undead back to life. Can you survive?\n\n💀 Heart-pounding attractions that will leave you screaming one moment and laughing the next.\n😱 Bone-chilling fun for thrill-seekers and horror fans alike! \n⚠️ Not suitable for under 12’s or wheelchair users. Under 16’s must be accompanied by an adult. Experience last approx. 1 hour \nTickets starting from just £30.00 – tickets are selling fast secure your spot now and prepare for a night of spine-tingling horror! \nJoin us if you dare…
URL:https://www.visitilfracombe.co.uk/event/descend-into-darkness-returns-to-watermouth-castle/2025-10-31/
LOCATION:Watermouth Castle\, Watermouth Castle\, Ilfracombe\, Devon\, EX34 9SL
CATEGORIES:North Devon Events
ATTACH;FMTTYPE=image/png:https://www.visitilfracombe.co.uk/wp-content/uploads/2025/06/Watermouth-Scare-Returns-this-October-4.png
END:VEVENT
END:VCALENDAR